PDS_VERSION_ID = PDS3
/* FILE DATA ELEMENTS */
RECORD_TYPE = UNDEFINED
/* POINTERS TO DATA OBJECTS */
^IMAGE = ("H2846_0000_BL4.TIF")
/* IDENTIFICATION DATA ELEMENTS */
DATA_SET_ID = "MEX-M-HRSC-4-REFDR-MAPPROJECT-EXT1-V4.0"
DATA_SET_NAME = "MARS EXPRESS HRSC MAP PROJECTED REFDR EXTENSION1 V4.0"
DETECTOR_ID = MEX_HRSC_BLUE
EVENT_TYPE = "MARS-TERMINATOR-VARIABLE-At"
INSTRUMENT_HOST_ID = MEX
INSTRUMENT_HOST_NAME = "MARS EXPRESS"
INSTRUMENT_ID = HRSC
INSTRUMENT_NAME = "HIGH RESOLUTION STEREO CAMERA"
MISSION_NAME = "MARS EXPRESS"
MISSION_PHASE_NAME = ME_Phase_2
PROCESSING_LEVEL_ID = 4
PRODUCT_CREATION_TIME = 2023-02-09T07:39:13.000Z
PRODUCT_ID = "H2846_0000_BL4.TIF"
RELEASE_ID = 0002
REVISION_ID = 0000
/* QUALITY DATA ELEMENTS */
DATA_QUALITY_ID = 1
DATA_QUALITY_DESC = "Data calculated based on original SPICE kernels"
/* TIME DATA ELEMENTS */
SPACECRAFT_CLOCK_START_COUNT = "1/0091806706.09052"
SPACECRAFT_CLOCK_STOP_COUNT = "1/0091807286.34607"
START_TIME = 2006-03-30T13:54:45.930Z
STOP_TIME = 2006-03-30T13:58:55.639Z
/* ORBITAL DATA ELEMENTS */
ASCENDING_NODE_LONGITUDE = 168.57
MAXIMUM_RESOLUTION = 0.4835
FOOTPRINT_POINT_LATITUDE = (43.7663,43.7925,43.8062,43.819,43.8308 ,43.8418,43.8518,43.861,43.8692,43.8766 ,43.8859,43.8911,43.8953,43.8986, 43.9011,43.9027,43.9034,43.9032,43.902, 43.9,43.8971,43.8933,43.8857,43.8796, 43.8688,43.8668,43.8826,43.5535,43.2224 ,42.8897,42.5548,42.2181,41.8794, 41.5388,41.1963,40.8518,40.5052,40.2425 ,39.8056,39.4538,39.0993,38.7428, 38.3838,38.0226,37.6589,37.2939,36.9274 ,36.5584,36.187,35.8137,35.4376,34.9648 ,34.8697,34.809,34.8108,34.8112,34.8108 ,34.8104,34.8084,34.8045,34.8003, 34.7933,34.7857,34.7809,34.7745,34.7689 ,34.7631,34.7528,34.74,34.7323,34.7248, 34.7037,34.7009,34.7032,35.2706,35.6461 ,36.0196,36.4853,36.8541,37.2192, 37.6749,38.0369,38.3967,38.7547,39.1106 ,39.4646,39.8172,40.1662,40.5134, 40.8598,41.1192,41.4644,41.891,42.2303, 42.567,42.9023,43.2351,43.6496,43.732, 43.7663)
FOOTPRINT_POINT_LONGITUDE = (31.5507,30.9574,30.6189,30.2808,29.943 ,29.6052,29.2673,28.9296,28.5921, 28.2547,27.7484,27.4109,27.0734,26.7361 ,26.3988,26.0616,25.7243,25.3868,25.049 ,24.7111,24.3729,24.034,23.5247,23.1852 ,22.6757,22.5907,22.5017,22.5567, 22.6111,22.664,22.7165,22.7681,22.8189, 22.8688,22.9177,22.966,23.0137,23.0521, 23.1078,23.1515,23.1959,23.2394,23.2831 ,23.3265,23.37,23.4111,23.4505,23.4898, 23.529,23.5671,23.6059,23.6527,23.6622, 23.6679,24.0768,24.3763,24.7356,24.9742 ,25.3914,25.8679,26.2249,26.7009, 27.1175,27.3556,27.6533,27.8915,28.1297 ,28.4867,28.9035,29.1419,29.3815, 29.9172,29.976,30.0165,30.1001,30.1562, 30.2131,30.2885,30.3465,30.401,30.4748, 30.5337,30.593,30.6528,30.7131,30.774, 30.8368,30.8961,30.956,31.0193,31.0693, 31.1387,31.2206,31.2871,31.3524,31.4192 ,31.4849,31.5704,31.5874,31.5507)
ORBIT_NUMBER = 2846
ORBITAL_ECCENTRICITY = 0.572
ORBITAL_INCLINATION = 86.6
ORBITAL_SEMIMAJOR_AXIS = 8590.25
PERIAPSIS_ALTITUDE = 285.02
PERIAPSIS_ARGUMENT_ANGLE = 218.5
PERIAPSIS_TIME = 2006-03-30T14:20:54.000Z
SPACECRAFT_ORIENTATION = (0.0,-1.0,0.0)
^MEX_ORIENTATION_DESC = "MEX_ORIENTATION_DESC.TXT"
SPACECRAFT_POINTING_MODE = NADIR
^MEX_POINTING_DESC = "MEX_POINTING_DESC.TXT"
RIGHT_ASCENSION = -1e+32
DECLINATION = -1e+32
OFFSET_ANGLE = -1e+32
SPACECRAFT_SOLAR_DISTANCE = 2.43703e+08
TARGET_NAME = MARS
/* CAMERA DATA ELEMENTS */
DETECTOR_TEMPERATURE = 17.9627
FOCAL_PLANE_TEMPERATURE = 7.7677
INST_CMPRS_NAME = "DISCRETE COSINE TRANSFORMATION (DCT)"
INST_CMPRS_RATIO = 33.6175
INST_CMPRS_QUALITY = 0
INST_CMPRS_QUANTZ_TBL_ID = 0
INSTRUMENT_TEMPERATURE = 10.8262
LENS_TEMPERATURE = 8.1755
MACROPIXEL_SIZE = 8
MISSING_FRAMES = 0
PIXEL_SUBSAMPLING_FLAG = N
SIGNAL_CHAIN_ID = 2
/* RADIOMETRIC DATA ELEMENTS */
BANDWIDTH = 76.0
CENTER_FILTER_WAVELENGTH = 444.0
RADIANCE_OFFSET = 0.115794
RADIANCE_SCALING_FACTOR = 0.00117652
REFLECTANCE_SCALING_FACTOR = 7.17905e-05
MEX:REFLECTANCE_OFFSET = 0.0070657
/* IMAGE OBJECT DEFINITIONS */
OBJECT = IMAGE
  INTERCHANGE_FORMAT = BINARY
  LINES = 1366
  LINE_SAMPLES = 1032
  SAMPLE_TYPE = UNSIGNED_INTEGER
  SAMPLE_BITS = 8
  BANDS = 1
  BAND_STORAGE_TYPE = BAND_SEQUENTIAL
  MAXIMUM = 255
  MEAN = 110.479
  MINIMUM = 4
  STANDARD_DEVIATION = 51.0542
END_OBJECT = IMAGE
/* MAP OBJECT DEFINITIONS */
OBJECT = IMAGE_MAP_PROJECTION
  ^DATA_SET_MAP_PROJECTION_CATALOG= "DSMAP.CAT"
  A_AXIS_RADIUS = 3396.0
  B_AXIS_RADIUS = 3396.0
  C_AXIS_RADIUS = 3396.0
  CENTER_LATITUDE = 0.0
  CENTER_LONGITUDE = 27.0
  COORDINATE_SYSTEM_NAME = PLANETOGRAPHIC
  COORDINATE_SYSTEM_TYPE = "BODY-FIXED ROTATING"
  EASTERNMOST_LONGITUDE = 31.5874
  FIRST_STANDARD_PARALLEL = "N/A"
  LINE_FIRST_PIXEL = 1
  LINE_LAST_PIXEL = 1366
  LINE_PROJECTION_OFFSET = 6508.6875
  MAP_PROJECTION_ROTATION = 0.0
  MAP_PROJECTION_TYPE = SINUSOIDAL
  MAP_RESOLUTION = 148.178450966667
  MAP_SCALE = 0.4
  MAXIMUM_LATITUDE = 43.9034
  MINIMUM_LATITUDE = 34.7009
  POSITIVE_LONGITUDE_DIRECTION = EAST
  REFERENCE_LATITUDE = "N/A"
  REFERENCE_LONGITUDE = "N/A"
  SAMPLE_FIRST_PIXEL = 1
  SAMPLE_LAST_PIXEL = 1032
  SAMPLE_PROJECTION_OFFSET = 516.3125
  SECOND_STANDARD_PARALLEL = "N/A"
  WESTERNMOST_LONGITUDE = 22.5017
END_OBJECT = IMAGE_MAP_PROJECTION
END
