PDS_VERSION_ID = PDS3
/* FILE DATA ELEMENTS */
RECORD_TYPE = UNDEFINED
/* POINTERS TO DATA OBJECTS */
^IMAGE = ("H2872_0000_S14.TIF")
/* IDENTIFICATION DATA ELEMENTS */
DATA_SET_ID = "MEX-M-HRSC-4-REFDR-MAPPROJECT-EXT1-V4.0"
DATA_SET_NAME = "MARS EXPRESS HRSC MAP PROJECTED REFDR EXTENSION1 V4.0"
DETECTOR_ID = MEX_HRSC_S1
EVENT_TYPE = "MARS-REGIONAL-MAPPING-Te-Mw-Ot"
INSTRUMENT_HOST_ID = MEX
INSTRUMENT_HOST_NAME = "MARS EXPRESS"
INSTRUMENT_ID = HRSC
INSTRUMENT_NAME = "HIGH RESOLUTION STEREO CAMERA"
MISSION_NAME = "MARS EXPRESS"
MISSION_PHASE_NAME = ME_Phase_2
PROCESSING_LEVEL_ID = 4
PRODUCT_CREATION_TIME = 2023-02-09T07:39:13.000Z
PRODUCT_ID = "H2872_0000_S14.TIF"
RELEASE_ID = 0002
REVISION_ID = 0000
/* QUALITY DATA ELEMENTS */
DATA_QUALITY_ID = 1
DATA_QUALITY_DESC = "Data calculated based on original SPICE kernels"
/* TIME DATA ELEMENTS */
SPACECRAFT_CLOCK_START_COUNT = "1/0092435268.08257"
SPACECRAFT_CLOCK_STOP_COUNT = "1/0092436419.00940"
START_TIME = 2006-04-06T20:27:53.815Z
STOP_TIME = 2006-04-06T20:40:44.036Z
/* ORBITAL DATA ELEMENTS */
ASCENDING_NODE_LONGITUDE = 168.02
MAXIMUM_RESOLUTION = 0.1371
FOOTPRINT_POINT_LATITUDE = (45.2947,45.3443,45.3715,45.3941,45.412 ,45.4255,45.4344,45.4388,45.4384, 45.4336,45.4241,45.41,45.3913,45.368, 45.3403,45.3078,45.2708,45.2291,45.1828 ,45.1317,45.0757,45.0151,44.9498, 44.8797,44.8046,44.7246,44.7038,44.5209 ,44.1425,43.749,43.3421,42.9212,42.4855 ,42.0352,41.569,41.0867,40.5887,40.0739 ,39.5454,38.9962,38.4289,37.8455, 37.2424,36.6194,35.9779,35.3167,34.6347 ,33.7537,33.0249,32.6523,32.277,31.8877 ,31.4888,30.9067,30.2965,30.0901, 30.0762,30.1027,30.1306,30.1566,30.1722 ,30.1921,30.2021,30.2077,30.2085, 30.2075,30.1935,30.1749,30.1739,30.1741 ,30.7931,31.1982,31.797,32.191,32.5784, 32.9619,33.3375,34.0744,34.7757,35.4802 ,36.1617,36.8136,37.2964,37.9221, 38.5309,39.1218,39.6977,40.255,40.7959, 41.323,41.8331,42.3299,42.813,43.2795, 43.7344,44.1773,44.6068,45.0209,45.1228 ,45.2947)
FOOTPRINT_POINT_LONGITUDE = (358.247,357.407,356.848,356.289, 355.731,355.173,354.615,354.057,353.499 ,352.942,352.385,351.828,351.271, 350.714,350.158,349.603,349.047,348.492 ,347.936,347.381,346.825,346.269, 345.713,345.157,344.601,344.044,343.905 ,343.813,343.957,344.102,344.247, 344.392,344.538,344.684,344.829,344.975 ,345.119,345.263,345.408,345.55,345.69, 345.831,345.969,346.105,346.24,346.373, 346.504,346.665,346.791,346.853,346.916 ,346.975,347.031,347.126,347.213, 347.242,347.243,347.693,348.271,348.912 ,349.359,349.996,350.504,351.075, 351.582,352.088,352.91,353.731,353.794, 353.817,353.923,353.995,354.103,354.176 ,354.25,354.325,354.4,354.553,354.713, 354.87,355.031,355.198,355.324,355.495, 355.668,355.846,356.026,356.209,356.397 ,356.587,356.781,356.978,357.179, 357.383,357.591,357.802,358.016,358.235 ,358.291,358.247)
ORBIT_NUMBER = 2872
ORBITAL_ECCENTRICITY = 0.572
ORBITAL_INCLINATION = 86.61
ORBITAL_SEMIMAJOR_AXIS = 8594.29
PERIAPSIS_ALTITUDE = 286.29
PERIAPSIS_ARGUMENT_ANGLE = 213.88
PERIAPSIS_TIME = 2006-04-06T21:03:30.000Z
SPACECRAFT_ORIENTATION = (0.0,-1.0,0.0)
^MEX_ORIENTATION_DESC = "MEX_ORIENTATION_DESC.TXT"
SPACECRAFT_POINTING_MODE = ACROSSTRACK
^MEX_POINTING_DESC = "MEX_POINTING_DESC.TXT"
RIGHT_ASCENSION = -1e+32
DECLINATION = -1e+32
OFFSET_ANGLE = -0.7
SPACECRAFT_SOLAR_DISTANCE = 2.44562e+08
TARGET_NAME = MARS
/* CAMERA DATA ELEMENTS */
DETECTOR_TEMPERATURE = 17.5549
FOCAL_PLANE_TEMPERATURE = 7.7677
INST_CMPRS_NAME = "DISCRETE COSINE TRANSFORMATION (DCT)"
INST_CMPRS_RATIO = 11.6986
INST_CMPRS_QUALITY = 0
INST_CMPRS_QUANTZ_TBL_ID = 0
INSTRUMENT_TEMPERATURE = 11.234
LENS_TEMPERATURE = 8.3794
MACROPIXEL_SIZE = 2
MISSING_FRAMES = 0
PIXEL_SUBSAMPLING_FLAG = N
SIGNAL_CHAIN_ID = 1
/* RADIOMETRIC DATA ELEMENTS */
BANDWIDTH = 180.0
CENTER_FILTER_WAVELENGTH = 677.0
RADIANCE_OFFSET = 1.13133
RADIANCE_SCALING_FACTOR = 0.0113873
REFLECTANCE_SCALING_FACTOR = 0.000355329
MEX:REFLECTANCE_OFFSET = 0.0353022
/* IMAGE OBJECT DEFINITIONS */
OBJECT = IMAGE
  INTERCHANGE_FORMAT = BINARY
  LINES = 8949
  LINE_SAMPLES = 3822
  SAMPLE_TYPE = UNSIGNED_INTEGER
  SAMPLE_BITS = 8
  BANDS = 1
  BAND_STORAGE_TYPE = BAND_SEQUENTIAL
  MAXIMUM = 255
  MEAN = 88.4624
  MINIMUM = 1
  STANDARD_DEVIATION = 27.2806
END_OBJECT = IMAGE
/* MAP OBJECT DEFINITIONS */
OBJECT = IMAGE_MAP_PROJECTION
  ^DATA_SET_MAP_PROJECTION_CATALOG= "DSMAP.CAT"
  A_AXIS_RADIUS = 3396.0
  B_AXIS_RADIUS = 3396.0
  C_AXIS_RADIUS = 3396.0
  CENTER_LATITUDE = 0.0
  CENTER_LONGITUDE = 351.0
  COORDINATE_SYSTEM_NAME = PLANETOGRAPHIC
  COORDINATE_SYSTEM_TYPE = "BODY-FIXED ROTATING"
  EASTERNMOST_LONGITUDE = 358.291
  FIRST_STANDARD_PARALLEL = "N/A"
  LINE_FIRST_PIXEL = 1
  LINE_LAST_PIXEL = 8949
  LINE_PROJECTION_OFFSET = 26841.25
  MAP_PROJECTION_ROTATION = 0.0
  MAP_PROJECTION_TYPE = SINUSOIDAL
  MAP_RESOLUTION = 592.713803866667
  MAP_SCALE = 0.1
  MAXIMUM_LATITUDE = 45.4388
  MINIMUM_LATITUDE = 30.0762
  POSITIVE_LONGITUDE_DIRECTION = EAST
  REFERENCE_LATITUDE = "N/A"
  REFERENCE_LONGITUDE = "N/A"
  SAMPLE_FIRST_PIXEL = 1
  SAMPLE_LAST_PIXEL = 3822
  SAMPLE_PROJECTION_OFFSET = 2119.25
  SECOND_STANDARD_PARALLEL = "N/A"
  WESTERNMOST_LONGITUDE = 343.813
END_OBJECT = IMAGE_MAP_PROJECTION
END
