PDS_VERSION_ID = PDS3
/* FILE DATA ELEMENTS */
RECORD_TYPE = UNDEFINED
/* POINTERS TO DATA OBJECTS */
^IMAGE = ("H2874_0001_S24.TIF")
/* IDENTIFICATION DATA ELEMENTS */
DATA_SET_ID = "MEX-M-HRSC-4-REFDR-MAPPROJECT-EXT1-V4.0"
DATA_SET_NAME = "MARS EXPRESS HRSC MAP PROJECTED REFDR EXTENSION1 V4.0"
DETECTOR_ID = MEX_HRSC_S2
EVENT_TYPE = "MARS-TERMINATOR-VARIABLE-At"
INSTRUMENT_HOST_ID = MEX
INSTRUMENT_HOST_NAME = "MARS EXPRESS"
INSTRUMENT_ID = HRSC
INSTRUMENT_NAME = "HIGH RESOLUTION STEREO CAMERA"
MISSION_NAME = "MARS EXPRESS"
MISSION_PHASE_NAME = ME_Phase_2
PROCESSING_LEVEL_ID = 4
PRODUCT_CREATION_TIME = 2023-02-09T07:39:13.000Z
PRODUCT_ID = "H2874_0001_S24.TIF"
RELEASE_ID = 0002
REVISION_ID = 0000
/* QUALITY DATA ELEMENTS */
DATA_QUALITY_ID = 1
DATA_QUALITY_DESC = "Data calculated based on original SPICE kernels"
/* TIME DATA ELEMENTS */
SPACECRAFT_CLOCK_START_COUNT = "1/0092484893.07286"
SPACECRAFT_CLOCK_STOP_COUNT = "1/0092485189.21487"
START_TIME = 2006-04-07T10:18:03.527Z
STOP_TIME = 2006-04-07T10:19:52.997Z
/* ORBITAL DATA ELEMENTS */
ASCENDING_NODE_LONGITUDE = 167.97
MAXIMUM_RESOLUTION = 0.101
FOOTPRINT_POINT_LATITUDE = (14.5599,14.5635,14.5666,14.5689, 14.5726,14.5752,14.5779,14.5808,14.5838 ,14.5869,14.5904,14.5954,14.5958, 14.6188,14.4028,14.2589,14.0434,13.9014 ,13.7593,13.5464,13.4061,13.2657, 13.0553,12.9166,12.7781,12.6394,12.5018 ,12.3652,12.2283,12.0231,11.888,11.7529 ,11.6176,11.4829,11.3495,11.216,11.0825 ,10.9491,10.6859,10.2925,10.0976, 9.83785,9.58167,9.19859,8.94599,8.69388 ,8.38258,8.13382,7.95003,7.88863, 7.88714,7.88276,7.87938,7.87718,7.87477 ,7.87203,7.87015,7.86816,7.86525, 7.86358,7.86201,7.86187,7.86314,8.10824 ,8.29475,8.54316,8.92002,9.235,9.55424, 9.81006,10.134,10.3933,10.6563,10.8539, 10.9856,11.119,11.2522,11.3854,11.5192, 11.7217,11.8567,11.9915,12.1281,12.2649 ,12.4016,12.5383,12.7461,12.8846,13.023 ,13.1627,13.3731,13.5134,13.7259, 13.8678,14.0097,14.1526,14.3682,14.5127 ,14.584,14.5599)
FOOTPRINT_POINT_LONGITUDE = (155.775,155.442,155.181,154.992, 154.707,154.517,154.328,154.138,153.948 ,153.759,153.545,153.259,153.235, 153.222,153.227,153.231,153.235,153.239 ,153.242,153.246,153.25,153.253,153.257 ,153.26,153.263,153.266,153.269,153.271 ,153.274,153.278,153.281,153.284, 153.286,153.289,153.292,153.294,153.297 ,153.299,153.304,153.312,153.315,153.32 ,153.325,153.332,153.336,153.34,153.346 ,153.35,153.353,153.354,153.354,153.607 ,153.822,153.979,154.155,154.37,154.506 ,154.682,154.995,155.211,155.426, 155.446,155.452,155.463,155.471,155.482 ,155.499,155.514,155.528,155.54,155.556 ,155.568,155.581,155.59,155.597,155.603 ,155.61,155.616,155.623,155.633,155.64, 155.646,155.653,155.66,155.667,155.674, 155.685,155.692,155.699,155.707,155.718 ,155.725,155.737,155.744,155.752,155.76 ,155.771,155.78,155.783,155.775)
ORBIT_NUMBER = 2874
ORBITAL_ECCENTRICITY = 0.572
ORBITAL_INCLINATION = 86.62
ORBITAL_SEMIMAJOR_AXIS = 8594.1
PERIAPSIS_ALTITUDE = 285.8
PERIAPSIS_ARGUMENT_ANGLE = 213.56
PERIAPSIS_TIME = 2006-04-07T10:29:53.000Z
SPACECRAFT_ORIENTATION = (0.0,-1.0,0.0)
^MEX_ORIENTATION_DESC = "MEX_ORIENTATION_DESC.TXT"
SPACECRAFT_POINTING_MODE = NADIR
^MEX_POINTING_DESC = "MEX_POINTING_DESC.TXT"
RIGHT_ASCENSION = -1e+32
DECLINATION = -1e+32
OFFSET_ANGLE = -1e+32
SPACECRAFT_SOLAR_DISTANCE = 2.44626e+08
TARGET_NAME = MARS
/* CAMERA DATA ELEMENTS */
DETECTOR_TEMPERATURE = 22.2446
FOCAL_PLANE_TEMPERATURE = 8.5833
INST_CMPRS_NAME = "DISCRETE COSINE TRANSFORMATION (DCT)"
INST_CMPRS_RATIO = 21.9703
INST_CMPRS_QUALITY = 0
INST_CMPRS_QUANTZ_TBL_ID = 0
INSTRUMENT_TEMPERATURE = 14.7003
LENS_TEMPERATURE = 9.195
MACROPIXEL_SIZE = 4
MISSING_FRAMES = 0
PIXEL_SUBSAMPLING_FLAG = N
SIGNAL_CHAIN_ID = 1
/* RADIOMETRIC DATA ELEMENTS */
BANDWIDTH = 178.0
CENTER_FILTER_WAVELENGTH = 679.0
RADIANCE_OFFSET = 0.338425
RADIANCE_SCALING_FACTOR = 0.00285849
REFLECTANCE_SCALING_FACTOR = 9.05874e-05
MEX:REFLECTANCE_OFFSET = 0.0107249
/* IMAGE OBJECT DEFINITIONS */
OBJECT = IMAGE
  INTERCHANGE_FORMAT = BINARY
  LINES = 4011
  LINE_SAMPLES = 1632
  SAMPLE_TYPE = UNSIGNED_INTEGER
  SAMPLE_BITS = 8
  BANDS = 1
  BAND_STORAGE_TYPE = BAND_SEQUENTIAL
  MAXIMUM = 255
  MEAN = 123.948
  MINIMUM = 4
  STANDARD_DEVIATION = 43.327
END_OBJECT = IMAGE
/* MAP OBJECT DEFINITIONS */
OBJECT = IMAGE_MAP_PROJECTION
  ^DATA_SET_MAP_PROJECTION_CATALOG= "DSMAP.CAT"
  A_AXIS_RADIUS = 3396.0
  B_AXIS_RADIUS = 3396.0
  C_AXIS_RADIUS = 3396.0
  CENTER_LATITUDE = 0.0
  CENTER_LONGITUDE = 154.0
  COORDINATE_SYSTEM_NAME = PLANETOGRAPHIC
  COORDINATE_SYSTEM_TYPE = "BODY-FIXED ROTATING"
  EASTERNMOST_LONGITUDE = 155.783
  FIRST_STANDARD_PARALLEL = "N/A"
  LINE_FIRST_PIXEL = 1
  LINE_LAST_PIXEL = 4011
  LINE_PROJECTION_OFFSET = 8649.75
  MAP_PROJECTION_ROTATION = 0.0
  MAP_PROJECTION_TYPE = SINUSOIDAL
  MAP_RESOLUTION = 592.713803866667
  MAP_SCALE = 0.1
  MAXIMUM_LATITUDE = 14.6188
  MINIMUM_LATITUDE = 7.86187
  POSITIVE_LONGITUDE_DIRECTION = EAST
  REFERENCE_LATITUDE = "N/A"
  REFERENCE_LONGITUDE = "N/A"
  SAMPLE_FIRST_PIXEL = 1
  SAMPLE_LAST_PIXEL = 1632
  SAMPLE_PROJECTION_OFFSET = 525.25
  SECOND_STANDARD_PARALLEL = "N/A"
  WESTERNMOST_LONGITUDE = 153.222
END_OBJECT = IMAGE_MAP_PROJECTION
END
