PDS_VERSION_ID = PDS3
/* FILE DATA ELEMENTS */
RECORD_TYPE = UNDEFINED
/* POINTERS TO DATA OBJECTS */
^IMAGE = ("H2876_0000_S14.TIF")
/* IDENTIFICATION DATA ELEMENTS */
DATA_SET_ID = "MEX-M-HRSC-4-REFDR-MAPPROJECT-EXT1-V4.0"
DATA_SET_NAME = "MARS EXPRESS HRSC MAP PROJECTED REFDR EXTENSION1 V4.0"
DETECTOR_ID = MEX_HRSC_S1
EVENT_TYPE = "MARS-REGIONAL-MAPPING-Vo-Lc"
INSTRUMENT_HOST_ID = MEX
INSTRUMENT_HOST_NAME = "MARS EXPRESS"
INSTRUMENT_ID = HRSC
INSTRUMENT_NAME = "HIGH RESOLUTION STEREO CAMERA"
MISSION_NAME = "MARS EXPRESS"
MISSION_PHASE_NAME = ME_Phase_2
PROCESSING_LEVEL_ID = 4
PRODUCT_CREATION_TIME = 2023-02-09T07:39:13.000Z
PRODUCT_ID = "H2876_0000_S14.TIF"
RELEASE_ID = 0002
REVISION_ID = 0000
/* QUALITY DATA ELEMENTS */
DATA_QUALITY_ID = 1
DATA_QUALITY_DESC = "Data calculated based on original SPICE kernels"
/* TIME DATA ELEMENTS */
SPACECRAFT_CLOCK_START_COUNT = "1/0092532090.09072"
SPACECRAFT_CLOCK_STOP_COUNT = "1/0092533262.15492"
START_TIME = 2006-04-07T23:21:35.943Z
STOP_TIME = 2006-04-07T23:36:02.591Z
/* ORBITAL DATA ELEMENTS */
ASCENDING_NODE_LONGITUDE = 167.93
MAXIMUM_RESOLUTION = 0.233
FOOTPRINT_POINT_LATITUDE = (44.9997,45.0673,45.1295,45.176,45.2071 ,45.2224,45.2223,45.2066,45.1756, 45.1291,45.0672,44.9894,44.8962,44.7418 ,44.7263,44.562,44.0976,43.6142,43.1137 ,42.5941,42.0551,41.4964,40.917,40.3164 ,39.6946,39.0494,38.3816,37.6903, 36.9745,36.2343,35.4681,35.0752,34.6759 ,34.2695,33.8563,33.4365,33.0098, 32.5752,32.134,31.6853,31.2293,30.7656, 30.2946,29.8157,29.3287,28.8339,28.3315 ,27.8207,27.3023,26.5082,26.2392,26.165 ,26.1817,26.1871,26.1882,26.1819, 26.1748,26.1647,26.1471,26.1103,26.108, 26.1085,26.9109,27.4359,27.9528,28.4616 ,28.9628,29.4561,29.9416,30.4192, 30.8903,31.3538,31.8105,32.2603,32.7016 ,33.1365,33.5638,33.9848,34.3996, 34.8091,35.2107,35.606,35.9951,36.3787, 36.7556,37.4915,38.2045,38.8934,39.5612 ,40.2073,40.8331,41.4386,42.0237,42.59, 43.1381,43.6689,44.182,44.678,44.7995, 44.9997)
FOOTPRINT_POINT_LONGITUDE = (325.823,324.917,323.884,322.853, 321.823,320.794,319.766,318.74,317.715, 316.692,315.669,314.646,313.622,312.216 ,312.088,312.018,312.174,312.331, 312.488,312.645,312.802,312.958,313.113 ,313.267,313.419,313.57,313.719,313.866 ,314.011,314.153,314.293,314.362,314.43 ,314.497,314.564,314.63,314.695,314.759 ,314.823,314.885,314.947,315.008, 315.068,315.127,315.185,315.242,315.299 ,315.354,315.409,315.489,315.515, 315.522,316.367,316.915,317.562,318.357 ,318.804,319.252,319.849,320.796, 320.846,320.863,320.976,321.053,321.131 ,321.21,321.289,321.37,321.452,321.535, 321.618,321.702,321.788,321.874,321.961 ,322.05,322.139,322.23,322.321,322.413, 322.507,322.601,322.696,322.792,322.89, 323.088,323.289,323.496,323.706,323.921 ,324.14,324.363,324.591,324.823,325.06, 325.301,325.547,325.797,325.861, 325.823)
ORBIT_NUMBER = 2876
ORBITAL_ECCENTRICITY = 0.572
ORBITAL_INCLINATION = 86.62
ORBITAL_SEMIMAJOR_AXIS = 8593.39
PERIAPSIS_ALTITUDE = 285.84
PERIAPSIS_ARGUMENT_ANGLE = 213.19
PERIAPSIS_TIME = 2006-04-07T23:56:09.000Z
SPACECRAFT_ORIENTATION = (0.0,-1.0,0.0)
^MEX_ORIENTATION_DESC = "MEX_ORIENTATION_DESC.TXT"
SPACECRAFT_POINTING_MODE = NADIR
^MEX_POINTING_DESC = "MEX_POINTING_DESC.TXT"
RIGHT_ASCENSION = -1e+32
DECLINATION = -1e+32
OFFSET_ANGLE = -1e+32
SPACECRAFT_SOLAR_DISTANCE = 2.44689e+08
TARGET_NAME = MARS
/* CAMERA DATA ELEMENTS */
DETECTOR_TEMPERATURE = 17.351
FOCAL_PLANE_TEMPERATURE = 7.5638
INST_CMPRS_NAME = "DISCRETE COSINE TRANSFORMATION (DCT)"
INST_CMPRS_RATIO = 21.0577
INST_CMPRS_QUALITY = 0
INST_CMPRS_QUANTZ_TBL_ID = 0
INSTRUMENT_TEMPERATURE = 11.234
LENS_TEMPERATURE = 7.9716
MACROPIXEL_SIZE = 4
MISSING_FRAMES = 0
PIXEL_SUBSAMPLING_FLAG = N
SIGNAL_CHAIN_ID = 1
/* RADIOMETRIC DATA ELEMENTS */
BANDWIDTH = 180.0
CENTER_FILTER_WAVELENGTH = 677.0
RADIANCE_OFFSET = 0.929024
RADIANCE_SCALING_FACTOR = 0.00889626
REFLECTANCE_SCALING_FACTOR = 0.000277887
MEX:REFLECTANCE_OFFSET = 0.0290194
/* IMAGE OBJECT DEFINITIONS */
OBJECT = IMAGE
  INTERCHANGE_FORMAT = BINARY
  LINES = 5615
  LINE_SAMPLES = 1868
  SAMPLE_TYPE = UNSIGNED_INTEGER
  SAMPLE_BITS = 8
  BANDS = 1
  BAND_STORAGE_TYPE = BAND_SEQUENTIAL
  MAXIMUM = 255
  MEAN = 100.064
  MINIMUM = 1
  STANDARD_DEVIATION = 42.8154
END_OBJECT = IMAGE
/* MAP OBJECT DEFINITIONS */
OBJECT = IMAGE_MAP_PROJECTION
  ^DATA_SET_MAP_PROJECTION_CATALOG= "DSMAP.CAT"
  A_AXIS_RADIUS = 3396.0
  B_AXIS_RADIUS = 3396.0
  C_AXIS_RADIUS = 3396.0
  CENTER_LATITUDE = 0.0
  CENTER_LONGITUDE = 318.0
  COORDINATE_SYSTEM_NAME = PLANETOGRAPHIC
  COORDINATE_SYSTEM_TYPE = "BODY-FIXED ROTATING"
  EASTERNMOST_LONGITUDE = 325.861
  FIRST_STANDARD_PARALLEL = "N/A"
  LINE_FIRST_PIXEL = 1
  LINE_LAST_PIXEL = 5615
  LINE_PROJECTION_OFFSET = 13373.125
  MAP_PROJECTION_ROTATION = 0.0
  MAP_PROJECTION_TYPE = SINUSOIDAL
  MAP_RESOLUTION = 296.356901933333
  MAP_SCALE = 0.2
  MAXIMUM_LATITUDE = 45.2224
  MINIMUM_LATITUDE = 26.108
  POSITIVE_LONGITUDE_DIRECTION = EAST
  REFERENCE_LATITUDE = "N/A"
  REFERENCE_LONGITUDE = "N/A"
  SAMPLE_FIRST_PIXEL = 1
  SAMPLE_LAST_PIXEL = 1868
  SAMPLE_PROJECTION_OFFSET = 848.875
  SECOND_STANDARD_PARALLEL = "N/A"
  WESTERNMOST_LONGITUDE = 312.018
END_OBJECT = IMAGE_MAP_PROJECTION
END
