PDS_VERSION_ID = PDS3
/* FILE DATA ELEMENTS */
RECORD_TYPE = UNDEFINED
/* POINTERS TO DATA OBJECTS */
^IMAGE = ("H2876_0000_S24.TIF")
/* IDENTIFICATION DATA ELEMENTS */
DATA_SET_ID = "MEX-M-HRSC-4-REFDR-MAPPROJECT-EXT1-V4.0"
DATA_SET_NAME = "MARS EXPRESS HRSC MAP PROJECTED REFDR EXTENSION1 V4.0"
DETECTOR_ID = MEX_HRSC_S2
EVENT_TYPE = "MARS-REGIONAL-MAPPING-Vo-Lc"
INSTRUMENT_HOST_ID = MEX
INSTRUMENT_HOST_NAME = "MARS EXPRESS"
INSTRUMENT_ID = HRSC
INSTRUMENT_NAME = "HIGH RESOLUTION STEREO CAMERA"
MISSION_NAME = "MARS EXPRESS"
MISSION_PHASE_NAME = ME_Phase_2
PROCESSING_LEVEL_ID = 4
PRODUCT_CREATION_TIME = 2023-02-09T07:39:13.000Z
PRODUCT_ID = "H2876_0000_S24.TIF"
RELEASE_ID = 0002
REVISION_ID = 0000
/* QUALITY DATA ELEMENTS */
DATA_QUALITY_ID = 1
DATA_QUALITY_DESC = "Data calculated based on original SPICE kernels"
/* TIME DATA ELEMENTS */
SPACECRAFT_CLOCK_START_COUNT = "1/0092532090.09072"
SPACECRAFT_CLOCK_STOP_COUNT = "1/0092533262.15492"
START_TIME = 2006-04-07T23:35:02.668Z
STOP_TIME = 2006-04-07T23:41:06.014Z
/* ORBITAL DATA ELEMENTS */
ASCENDING_NODE_LONGITUDE = 167.93
MAXIMUM_RESOLUTION = 0.1617
FOOTPRINT_POINT_LATITUDE = (44.9952,45.0198,45.0294,45.0378,45.045 ,45.0511,45.056,45.0598,45.0625,45.064, 45.0642,45.0632,45.0607,45.0603,45.1792 ,44.4856,43.9619,43.2609,42.5547, 41.8438,41.1285,40.2278,39.503,38.7737, 38.0391,37.3002,36.556,36.1827,35.8081, 35.432,35.0551,34.6767,34.2973,33.9166, 33.5349,33.1524,32.7678,32.3822,31.9957 ,31.6079,31.2189,30.8288,30.4374, 30.0448,29.6513,29.2566,28.8607,28.4636 ,28.0653,27.6659,27.2653,26.6621, 26.4601,26.2993,26.2886,26.2804,26.2724 ,26.2629,26.2558,26.2457,26.2451, 26.2473,26.8503,27.2525,27.6524,28.0512 ,28.449,28.8457,29.2411,29.6357,30.0291 ,30.4209,31.0062,31.3955,31.7829, 32.1696,32.5549,32.9391,33.3219,33.7036 ,34.2732,34.6528,35.0309,35.4072, 35.7829,36.1578,36.903,37.6439,38.3804, 39.112,39.8385,40.3806,41.2796,41.9941, 42.7039,43.4093,44.1104,44.8065,44.9796 ,44.9952)
FOOTPRINT_POINT_LONGITUDE = (322.075,320.928,320.389,319.85,319.312 ,318.774,318.236,317.699,317.161, 316.623,316.083,315.542,314.933,314.865 ,314.792,314.885,314.952,315.039, 315.123,315.203,315.281,315.374,315.445 ,315.513,315.578,315.642,315.703, 315.732,315.761,315.789,315.817,315.845 ,315.871,315.898,315.924,315.949, 315.974,315.998,316.022,316.045,316.068 ,316.091,316.113,316.135,316.156, 316.177,316.197,316.217,316.237,316.256 ,316.275,316.302,316.311,316.318, 317.077,317.663,318.214,318.835,319.318 ,319.974,320.009,320.021,320.069, 320.102,320.135,320.169,320.203,320.237 ,320.272,320.307,320.342,320.378, 320.432,320.469,320.505,320.543,320.58, 320.618,320.657,320.695,320.754,320.794 ,320.834,320.875,320.916,320.957, 321.041,321.127,321.215,321.304,321.395 ,321.464,321.582,321.68,321.779,321.88, 321.983,322.089,322.115,322.075)
ORBIT_NUMBER = 2876
ORBITAL_ECCENTRICITY = 0.572
ORBITAL_INCLINATION = 86.62
ORBITAL_SEMIMAJOR_AXIS = 8593.39
PERIAPSIS_ALTITUDE = 285.84
PERIAPSIS_ARGUMENT_ANGLE = 213.19
PERIAPSIS_TIME = 2006-04-07T23:56:09.000Z
SPACECRAFT_ORIENTATION = (0.0,-1.0,0.0)
^MEX_ORIENTATION_DESC = "MEX_ORIENTATION_DESC.TXT"
SPACECRAFT_POINTING_MODE = NADIR
^MEX_POINTING_DESC = "MEX_POINTING_DESC.TXT"
RIGHT_ASCENSION = -1e+32
DECLINATION = -1e+32
OFFSET_ANGLE = -1e+32
SPACECRAFT_SOLAR_DISTANCE = 2.44689e+08
TARGET_NAME = MARS
/* CAMERA DATA ELEMENTS */
DETECTOR_TEMPERATURE = 18.5744
FOCAL_PLANE_TEMPERATURE = 7.5638
INST_CMPRS_NAME = "DISCRETE COSINE TRANSFORMATION (DCT)"
INST_CMPRS_RATIO = 15.4606
INST_CMPRS_QUALITY = 0
INST_CMPRS_QUANTZ_TBL_ID = 0
INSTRUMENT_TEMPERATURE = 11.234
LENS_TEMPERATURE = 7.9716
MACROPIXEL_SIZE = 4
MISSING_FRAMES = 0
PIXEL_SUBSAMPLING_FLAG = N
SIGNAL_CHAIN_ID = 1
/* RADIOMETRIC DATA ELEMENTS */
BANDWIDTH = 178.0
CENTER_FILTER_WAVELENGTH = 679.0
RADIANCE_OFFSET = 0.845922
RADIANCE_SCALING_FACTOR = 0.00776956
REFLECTANCE_SCALING_FACTOR = 0.000246346
MEX:REFLECTANCE_OFFSET = 0.0268213
/* IMAGE OBJECT DEFINITIONS */
OBJECT = IMAGE
  INTERCHANGE_FORMAT = BINARY
  LINES = 5615
  LINE_SAMPLES = 1868
  SAMPLE_TYPE = UNSIGNED_INTEGER
  SAMPLE_BITS = 8
  BANDS = 1
  BAND_STORAGE_TYPE = BAND_SEQUENTIAL
  MAXIMUM = 255
  MEAN = 91.5074
  MINIMUM = 1
  STANDARD_DEVIATION = 38.7752
END_OBJECT = IMAGE
/* MAP OBJECT DEFINITIONS */
OBJECT = IMAGE_MAP_PROJECTION
  ^DATA_SET_MAP_PROJECTION_CATALOG= "DSMAP.CAT"
  A_AXIS_RADIUS = 3396.0
  B_AXIS_RADIUS = 3396.0
  C_AXIS_RADIUS = 3396.0
  CENTER_LATITUDE = 0.0
  CENTER_LONGITUDE = 318.0
  COORDINATE_SYSTEM_NAME = PLANETOGRAPHIC
  COORDINATE_SYSTEM_TYPE = "BODY-FIXED ROTATING"
  EASTERNMOST_LONGITUDE = 322.115
  FIRST_STANDARD_PARALLEL = "N/A"
  LINE_FIRST_PIXEL = 1
  LINE_LAST_PIXEL = 5615
  LINE_PROJECTION_OFFSET = 13373.125
  MAP_PROJECTION_ROTATION = 0.0
  MAP_PROJECTION_TYPE = SINUSOIDAL
  MAP_RESOLUTION = 296.356901933333
  MAP_SCALE = 0.2
  MAXIMUM_LATITUDE = 45.1792
  MINIMUM_LATITUDE = 26.2451
  POSITIVE_LONGITUDE_DIRECTION = EAST
  REFERENCE_LATITUDE = "N/A"
  REFERENCE_LONGITUDE = "N/A"
  SAMPLE_FIRST_PIXEL = 1
  SAMPLE_LAST_PIXEL = 1868
  SAMPLE_PROJECTION_OFFSET = 848.875
  SECOND_STANDARD_PARALLEL = "N/A"
  WESTERNMOST_LONGITUDE = 314.792
END_OBJECT = IMAGE_MAP_PROJECTION
END
