PDS_VERSION_ID = PDS3
/* FILE DATA ELEMENTS */
RECORD_TYPE = UNDEFINED
/* POINTERS TO DATA OBJECTS */
^IMAGE = ("H2917_0000_P24.TIF")
/* IDENTIFICATION DATA ELEMENTS */
DATA_SET_ID = "MEX-M-HRSC-4-REFDR-MAPPROJECT-EXT1-V4.0"
DATA_SET_NAME = "MARS EXPRESS HRSC MAP PROJECTED REFDR EXTENSION1 V4.0"
DETECTOR_ID = MEX_HRSC_P2
EVENT_TYPE = "MARS-REGIONAL-MAPPING-Vo-Te-Eo"
INSTRUMENT_HOST_ID = MEX
INSTRUMENT_HOST_NAME = "MARS EXPRESS"
INSTRUMENT_ID = HRSC
INSTRUMENT_NAME = "HIGH RESOLUTION STEREO CAMERA"
MISSION_NAME = "MARS EXPRESS"
MISSION_PHASE_NAME = ME_Phase_2
PROCESSING_LEVEL_ID = 4
PRODUCT_CREATION_TIME = 2023-02-09T07:39:13.000Z
PRODUCT_ID = "H2917_0000_P24.TIF"
RELEASE_ID = 0002
REVISION_ID = 0000
/* QUALITY DATA ELEMENTS */
DATA_QUALITY_ID = 1
DATA_QUALITY_DESC = "Data calculated based on original SPICE kernels"
/* TIME DATA ELEMENTS */
SPACECRAFT_CLOCK_START_COUNT = "1/0093524367.08395"
SPACECRAFT_CLOCK_STOP_COUNT = "1/0093525172.13647"
START_TIME = 2006-04-19T11:06:48.636Z
STOP_TIME = 2006-04-19T11:10:14.541Z
/* ORBITAL DATA ELEMENTS */
ASCENDING_NODE_LONGITUDE = 167.06
MAXIMUM_RESOLUTION = 0.0798
FOOTPRINT_POINT_LATITUDE = (43.2431,43.2538,43.2593,43.2631, 43.2663,43.2684,43.269,43.2684,43.2667, 43.2637,43.2595,43.254,43.2454,43.2444, 43.2596,42.9529,42.6457,42.3382,41.9269 ,41.5135,41.3059,41.0978,40.7847, 40.5756,40.261,40.051,39.8401,39.6293, 39.4175,39.2055,38.9928,38.7796,38.5659 ,38.3522,38.032,37.8195,37.6085,37.3987 ,37.1898,36.9818,36.775,36.466,36.1585, 35.8527,35.448,35.0477,34.7494,34.4519, 34.0588,33.7662,33.3792,33.0912,32.9957 ,32.9666,32.9679,32.9678,32.9678, 32.9674,32.9667,32.9648,32.9605,32.9584 ,32.9553,32.9515,32.9515,32.9525, 33.4321,33.7231,34.1128,34.5065,35.0031 ,35.4034,35.9117,36.3202,36.7331,37.046 ,37.36,37.5702,37.8873,38.0991,38.3129, 38.5265,38.7392,38.9516,39.2692,39.4813 ,39.6924,40.009,40.3252,40.5352,40.85, 41.0596,41.2687,41.4774,41.7897,42.3072 ,42.7189,43.1285,43.2306,43.2431)
FOOTPRINT_POINT_LONGITUDE = (252.327,251.623,251.156,250.747, 250.281,249.758,249.292,248.828,248.364 ,247.9,247.436,246.971,246.389,246.331, 246.303,246.341,246.377,246.413,246.459 ,246.505,246.528,246.55,246.583,246.605 ,246.637,246.658,246.679,246.699,246.72 ,246.74,246.76,246.78,246.799,246.819, 246.847,246.865,246.883,246.9,246.917, 246.934,246.95,246.974,246.998,247.021, 247.052,247.081,247.102,247.123,247.15, 247.17,247.195,247.214,247.22,247.222, 247.729,248.081,248.394,248.784,249.214 ,249.645,250.233,250.587,250.902, 251.218,251.258,251.272,251.314,251.339 ,251.373,251.408,251.453,251.489, 251.538,251.576,251.616,251.647,251.678 ,251.699,251.73,251.751,251.773,251.795 ,251.817,251.839,251.872,251.895, 251.918,251.953,251.988,252.012,252.048 ,252.073,252.098,252.122,252.16,252.223 ,252.273,252.324,252.337,252.327)
ORBIT_NUMBER = 2917
ORBITAL_ECCENTRICITY = 0.573
ORBITAL_INCLINATION = 86.61
ORBITAL_SEMIMAJOR_AXIS = 8614.53
PERIAPSIS_ALTITUDE = 287.01
PERIAPSIS_ARGUMENT_ANGLE = 205.95
PERIAPSIS_TIME = 2006-04-19T11:25:44.000Z
SPACECRAFT_ORIENTATION = (0.0,-1.0,0.0)
^MEX_ORIENTATION_DESC = "MEX_ORIENTATION_DESC.TXT"
SPACECRAFT_POINTING_MODE = ACROSSTRACK
^MEX_POINTING_DESC = "MEX_POINTING_DESC.TXT"
RIGHT_ASCENSION = -1e+32
DECLINATION = -1e+32
OFFSET_ANGLE = 0.3
SPACECRAFT_SOLAR_DISTANCE = 2.4589e+08
TARGET_NAME = MARS
/* CAMERA DATA ELEMENTS */
DETECTOR_TEMPERATURE = 18.7783
FOCAL_PLANE_TEMPERATURE = 7.9716
INST_CMPRS_NAME = "DISCRETE COSINE TRANSFORMATION (DCT)"
INST_CMPRS_RATIO = 5.36819
INST_CMPRS_QUALITY = 0
INST_CMPRS_QUANTZ_TBL_ID = 0
INSTRUMENT_TEMPERATURE = 11.234
LENS_TEMPERATURE = 8.3794
MACROPIXEL_SIZE = 2
MISSING_FRAMES = 0
PIXEL_SUBSAMPLING_FLAG = N
SIGNAL_CHAIN_ID = 3
/* RADIOMETRIC DATA ELEMENTS */
BANDWIDTH = 177.0
CENTER_FILTER_WAVELENGTH = 676.5
RADIANCE_OFFSET = 1.05289
RADIANCE_SCALING_FACTOR = 0.0211167
REFLECTANCE_SCALING_FACTOR = 0.000676956
MEX:REFLECTANCE_OFFSET = 0.0337533
/* IMAGE OBJECT DEFINITIONS */
OBJECT = IMAGE
  INTERCHANGE_FORMAT = BINARY
  LINES = 8345
  LINE_SAMPLES = 2926
  SAMPLE_TYPE = UNSIGNED_INTEGER
  SAMPLE_BITS = 8
  BANDS = 1
  BAND_STORAGE_TYPE = BAND_SEQUENTIAL
  MAXIMUM = 255
  MEAN = 82.9261
  MINIMUM = 1
  STANDARD_DEVIATION = 17.633
END_OBJECT = IMAGE
/* MAP OBJECT DEFINITIONS */
OBJECT = IMAGE_MAP_PROJECTION
  ^DATA_SET_MAP_PROJECTION_CATALOG= "DSMAP.CAT"
  A_AXIS_RADIUS = 3396.0
  B_AXIS_RADIUS = 3396.0
  C_AXIS_RADIUS = 3396.0
  CENTER_LATITUDE = 0.0
  CENTER_LONGITUDE = 249.0
  COORDINATE_SYSTEM_NAME = PLANETOGRAPHIC
  COORDINATE_SYSTEM_TYPE = "BODY-FIXED ROTATING"
  EASTERNMOST_LONGITUDE = 252.337
  FIRST_STANDARD_PARALLEL = "N/A"
  LINE_FIRST_PIXEL = 1
  LINE_LAST_PIXEL = 8345
  LINE_PROJECTION_OFFSET = 25654.25
  MAP_PROJECTION_ROTATION = 0.0
  MAP_PROJECTION_TYPE = SINUSOIDAL
  MAP_RESOLUTION = 592.713803866667
  MAP_SCALE = 0.1
  MAXIMUM_LATITUDE = 43.269
  MINIMUM_LATITUDE = 32.9515
  POSITIVE_LONGITUDE_DIRECTION = EAST
  REFERENCE_LATITUDE = "N/A"
  REFERENCE_LONGITUDE = "N/A"
  SAMPLE_FIRST_PIXEL = 1
  SAMPLE_LAST_PIXEL = 2926
  SAMPLE_PROJECTION_OFFSET = 1331.75
  SECOND_STANDARD_PARALLEL = "N/A"
  WESTERNMOST_LONGITUDE = 246.303
END_OBJECT = IMAGE_MAP_PROJECTION
END
