PDS_VERSION_ID = PDS3
/* FILE DATA ELEMENTS */
RECORD_TYPE = UNDEFINED
/* POINTERS TO DATA OBJECTS */
^IMAGE = ("H2926_0000_IR4.TIF")
/* IDENTIFICATION DATA ELEMENTS */
DATA_SET_ID = "MEX-M-HRSC-4-REFDR-MAPPROJECT-EXT1-V4.0"
DATA_SET_NAME = "MARS EXPRESS HRSC MAP PROJECTED REFDR EXTENSION1 V4.0"
DETECTOR_ID = MEX_HRSC_IR
EVENT_TYPE = "MARS-REGIONAL-MAPPING-Te-Im-Fl"
INSTRUMENT_HOST_ID = MEX
INSTRUMENT_HOST_NAME = "MARS EXPRESS"
INSTRUMENT_ID = HRSC
INSTRUMENT_NAME = "HIGH RESOLUTION STEREO CAMERA"
MISSION_NAME = "MARS EXPRESS"
MISSION_PHASE_NAME = ME_Phase_2
PROCESSING_LEVEL_ID = 4
PRODUCT_CREATION_TIME = 2023-02-09T07:39:13.000Z
PRODUCT_ID = "H2926_0000_IR4.TIF"
RELEASE_ID = 0002
REVISION_ID = 0000
/* QUALITY DATA ELEMENTS */
DATA_QUALITY_ID = 1
DATA_QUALITY_DESC = "Data calculated based on original SPICE kernels"
/* TIME DATA ELEMENTS */
SPACECRAFT_CLOCK_START_COUNT = "1/0093742433.07318"
SPACECRAFT_CLOCK_STOP_COUNT = "1/0093742989.22752"
START_TIME = 2006-04-21T23:34:40.401Z
STOP_TIME = 2006-04-21T23:40:50.460Z
/* ORBITAL DATA ELEMENTS */
ASCENDING_NODE_LONGITUDE = 166.87
MAXIMUM_RESOLUTION = 0.1352
FOOTPRINT_POINT_LATITUDE = (35.1548,35.1747,35.1831,35.1894, 35.1936,35.1956,35.1954,35.1899,35.1838 ,35.1755,35.165,35.1415,35.1395,35.0781 ,34.5037,33.9204,33.6255,33.329,33.0304 ,32.7285,32.4253,32.12,31.8127,31.5032, 31.1913,30.8779,30.4045,30.0889,29.7748 ,29.463,29.154,28.846,28.5402,28.236, 27.9321,27.6312,27.3318,27.0345,26.7398 ,26.007,25.4274,24.8573,24.1521,23.595, 23.1821,22.6357,22.0953,21.5613,21.0236 ,20.6309,20.5003,20.4471,20.4491, 20.4496,20.4482,20.444,20.4386,20.4318, 20.4243,20.4236,20.425,20.9452,21.4849, 22.0186,22.5577,23.104,23.6549,24.2132, 24.7782,25.3489,25.9273,26.5113,26.806, 27.1022,27.3987,27.7,28.002,28.3063, 28.6126,28.9207,29.2308,29.5428,29.8566 ,30.1713,30.4893,30.9648,31.2793, 31.5913,31.9013,32.2096,32.5155,32.8194 ,33.1212,33.4212,33.7189,34.0149, 34.3084,34.8899,35.034,35.1548)
FOOTPRINT_POINT_LONGITUDE = (87.2081,86.4842,86.0714,85.6588, 85.2462,84.8337,84.4214,83.7002,83.2881 ,82.8757,82.4625,81.7383,81.6865, 81.6493,81.7181,81.785,81.8178,81.8504, 81.8827,81.914,81.9454,81.9763,82.007, 82.0372,82.0669,82.0966,82.1406,82.1689 ,82.1965,82.2235,82.2503,82.2762, 82.3014,82.326,82.3492,82.3725,82.3951, 82.4174,82.4393,82.4906,82.5289,82.5665 ,82.6105,82.6436,82.6675,82.698,82.7271 ,82.7549,82.7831,82.8019,82.8078, 82.8102,83.2581,83.8201,84.1569,84.6343 ,85.0276,85.4209,85.7866,85.8147, 85.8242,85.8598,85.8973,85.9354,85.975, 86.0156,86.0584,86.1023,86.148,86.1958, 86.2451,86.2969,86.3235,86.3508,86.3791 ,86.4068,86.4356,86.4647,86.4943, 86.5247,86.5556,86.5871,86.6193,86.6525 ,86.686,86.7372,86.7716,86.8065,86.8416 ,86.8768,86.9124,86.9483,86.9845, 87.0208,87.0576,87.0945,87.1319,87.2074 ,87.2264,87.2081)
ORBIT_NUMBER = 2926
ORBITAL_ECCENTRICITY = 0.573
ORBITAL_INCLINATION = 86.62
ORBITAL_SEMIMAJOR_AXIS = 8612.63
PERIAPSIS_ALTITUDE = 287.43
PERIAPSIS_ARGUMENT_ANGLE = 204.32
PERIAPSIS_TIME = 2006-04-21T23:54:08.000Z
SPACECRAFT_ORIENTATION = (0.0,-1.0,0.0)
^MEX_ORIENTATION_DESC = "MEX_ORIENTATION_DESC.TXT"
SPACECRAFT_POINTING_MODE = NADIR
^MEX_POINTING_DESC = "MEX_POINTING_DESC.TXT"
RIGHT_ASCENSION = -1e+32
DECLINATION = -1e+32
OFFSET_ANGLE = -1e+32
SPACECRAFT_SOLAR_DISTANCE = 2.46131e+08
TARGET_NAME = MARS
/* CAMERA DATA ELEMENTS */
DETECTOR_TEMPERATURE = 17.5549
FOCAL_PLANE_TEMPERATURE = 7.9716
INST_CMPRS_NAME = "DISCRETE COSINE TRANSFORMATION (DCT)"
INST_CMPRS_RATIO = 9.26912
INST_CMPRS_QUALITY = 0
INST_CMPRS_QUANTZ_TBL_ID = 0
INSTRUMENT_TEMPERATURE = 11.0301
LENS_TEMPERATURE = 8.3794
MACROPIXEL_SIZE = 4
MISSING_FRAMES = 1
PIXEL_SUBSAMPLING_FLAG = N
SIGNAL_CHAIN_ID = 2
/* RADIOMETRIC DATA ELEMENTS */
BANDWIDTH = 81.0
CENTER_FILTER_WAVELENGTH = 955.5
RADIANCE_OFFSET = 0.3163
RADIANCE_SCALING_FACTOR = 0.00369017
REFLECTANCE_SCALING_FACTOR = 0.000482286
MEX:REFLECTANCE_OFFSET = 0.0413388
/* IMAGE OBJECT DEFINITIONS */
OBJECT = IMAGE
  INTERCHANGE_FORMAT = BINARY
  LINES = 8730
  LINE_SAMPLES = 2270
  SAMPLE_TYPE = UNSIGNED_INTEGER
  SAMPLE_BITS = 8
  BANDS = 1
  BAND_STORAGE_TYPE = BAND_SEQUENTIAL
  MAXIMUM = 255
  MEAN = 100.521
  MINIMUM = 1
  STANDARD_DEVIATION = 25.0681
END_OBJECT = IMAGE
/* MAP OBJECT DEFINITIONS */
OBJECT = IMAGE_MAP_PROJECTION
  ^DATA_SET_MAP_PROJECTION_CATALOG= "DSMAP.CAT"
  A_AXIS_RADIUS = 3396.0
  B_AXIS_RADIUS = 3396.0
  C_AXIS_RADIUS = 3396.0
  CENTER_LATITUDE = 0.0
  CENTER_LONGITUDE = 84.0
  COORDINATE_SYSTEM_NAME = PLANETOGRAPHIC
  COORDINATE_SYSTEM_TYPE = "BODY-FIXED ROTATING"
  EASTERNMOST_LONGITUDE = 87.2264
  FIRST_STANDARD_PARALLEL = "N/A"
  LINE_FIRST_PIXEL = 1
  LINE_LAST_PIXEL = 8730
  LINE_PROJECTION_OFFSET = 20866.125
  MAP_PROJECTION_ROTATION = 0.0
  MAP_PROJECTION_TYPE = SINUSOIDAL
  MAP_RESOLUTION = 592.713803866667
  MAP_SCALE = 0.1
  MAXIMUM_LATITUDE = 35.1956
  MINIMUM_LATITUDE = 20.4236
  POSITIVE_LONGITUDE_DIRECTION = EAST
  REFERENCE_LATITUDE = "N/A"
  REFERENCE_LONGITUDE = "N/A"
  SAMPLE_FIRST_PIXEL = 1
  SAMPLE_LAST_PIXEL = 2270
  SAMPLE_PROJECTION_OFFSET = 938.125
  SECOND_STANDARD_PARALLEL = "N/A"
  WESTERNMOST_LONGITUDE = 81.6493
END_OBJECT = IMAGE_MAP_PROJECTION
END
