PDS_VERSION_ID = PDS3
/* FILE DATA ELEMENTS */
RECORD_TYPE = UNDEFINED
/* POINTERS TO DATA OBJECTS */
^IMAGE = ("H2932_0000_P24.TIF")
/* IDENTIFICATION DATA ELEMENTS */
DATA_SET_ID = "MEX-M-HRSC-4-REFDR-MAPPROJECT-EXT1-V4.0"
DATA_SET_NAME = "MARS EXPRESS HRSC MAP PROJECTED REFDR EXTENSION1 V4.0"
DETECTOR_ID = MEX_HRSC_P2
EVENT_TYPE = "MARS-REGIONAL-MAPPING-Vo-Te-Mw"
INSTRUMENT_HOST_ID = MEX
INSTRUMENT_HOST_NAME = "MARS EXPRESS"
INSTRUMENT_ID = HRSC
INSTRUMENT_NAME = "HIGH RESOLUTION STEREO CAMERA"
MISSION_NAME = "MARS EXPRESS"
MISSION_PHASE_NAME = ME_Phase_2
PROCESSING_LEVEL_ID = 4
PRODUCT_CREATION_TIME = 2023-02-09T07:39:13.000Z
PRODUCT_ID = "H2932_0000_P24.TIF"
RELEASE_ID = 0002
REVISION_ID = 0000
/* QUALITY DATA ELEMENTS */
DATA_QUALITY_ID = 1
DATA_QUALITY_DESC = "Data calculated based on original SPICE kernels"
/* TIME DATA ELEMENTS */
SPACECRAFT_CLOCK_START_COUNT = "1/0093887382.09416"
SPACECRAFT_CLOCK_STOP_COUNT = "1/0093888013.26601"
START_TIME = 2006-04-23T15:55:33.470Z
STOP_TIME = 2006-04-23T15:59:49.578Z
/* ORBITAL DATA ELEMENTS */
ASCENDING_NODE_LONGITUDE = 166.75
MAXIMUM_RESOLUTION = 0.0659
FOOTPRINT_POINT_LATITUDE = (41.4659,41.4724,41.4809,41.4841, 41.4864,41.4879,41.4884,41.4881,41.4869 ,41.4847,41.4816,41.4738,41.4731,41.537 ,41.0285,40.5173,40.0033,39.4868, 38.9675,38.4457,37.9211,37.394,36.8641, 36.3317,35.7964,35.2586,34.9884,34.7175 ,34.4462,34.1739,33.9014,33.6282, 33.3541,33.0793,32.8039,32.5277,32.2508 ,31.9733,31.6952,31.4165,31.1371,30.857 ,30.5762,30.2947,30.0126,29.7299,29.446 ,29.0181,28.7325,28.4468,28.1601, 28.0168,28.0113,28.0061,27.9995,27.9868 ,27.9794,27.9683,27.9558,27.9464, 27.9457,27.9463,28.3776,28.6623,28.948, 29.3771,29.6622,29.9456,30.3709,30.7931 ,31.0761,31.356,31.6358,31.9146,32.1923 ,32.6086,32.8872,33.1642,33.4408, 33.7154,33.9894,34.2628,34.5355,34.8075 ,35.0788,35.3497,35.6197,36.1576, 36.6932,37.2263,37.7567,38.2846,38.81, 39.3324,39.8523,40.3695,40.8843,41.3963 ,41.5243,41.4659)
FOOTPRINT_POINT_LONGITUDE = (216.022,215.569,214.812,214.407, 214.002,213.595,213.187,212.778,212.368 ,211.956,211.543,210.815,210.762, 210.682,210.751,210.817,210.882,210.945 ,211.007,211.067,211.126,211.182, 211.238,211.292,211.344,211.396,211.421 ,211.446,211.47,211.495,211.518,211.542 ,211.565,211.588,211.611,211.633, 211.655,211.677,211.698,211.72,211.74, 211.761,211.781,211.801,211.821,211.841 ,211.86,211.89,211.909,211.927,211.945, 211.954,211.955,212.335,212.747,213.281 ,213.654,214.179,214.731,215.128, 215.158,215.169,215.192,215.207,215.222 ,215.245,215.261,215.276,215.3,215.323, 215.34,215.356,215.372,215.388,215.404, 215.429,215.446,215.463,215.48,215.497, 215.514,215.531,215.548,215.565,215.582 ,215.6,215.617,215.653,215.689,215.725, 215.762,215.799,215.836,215.874,215.913 ,215.951,215.991,216.031,216.041, 216.022)
ORBIT_NUMBER = 2932
ORBITAL_ECCENTRICITY = 0.572
ORBITAL_INCLINATION = 86.61
ORBITAL_SEMIMAJOR_AXIS = 8611.01
PERIAPSIS_ALTITUDE = 288.19
PERIAPSIS_ARGUMENT_ANGLE = 203.25
PERIAPSIS_TIME = 2006-04-23T16:12:57.000Z
SPACECRAFT_ORIENTATION = (0.0,-1.0,0.0)
^MEX_ORIENTATION_DESC = "MEX_ORIENTATION_DESC.TXT"
SPACECRAFT_POINTING_MODE = ACROSSTRACK
^MEX_POINTING_DESC = "MEX_POINTING_DESC.TXT"
RIGHT_ASCENSION = -1e+32
DECLINATION = -1e+32
OFFSET_ANGLE = -1.0
SPACECRAFT_SOLAR_DISTANCE = 2.46287e+08
TARGET_NAME = MARS
/* CAMERA DATA ELEMENTS */
DETECTOR_TEMPERATURE = 18.5744
FOCAL_PLANE_TEMPERATURE = 7.5638
INST_CMPRS_NAME = "DISCRETE COSINE TRANSFORMATION (DCT)"
INST_CMPRS_RATIO = 7.17098
INST_CMPRS_QUALITY = 0
INST_CMPRS_QUANTZ_TBL_ID = 0
INSTRUMENT_TEMPERATURE = 11.0301
LENS_TEMPERATURE = 8.1755
MACROPIXEL_SIZE = 2
MISSING_FRAMES = 0
PIXEL_SUBSAMPLING_FLAG = N
SIGNAL_CHAIN_ID = 3
/* RADIOMETRIC DATA ELEMENTS */
BANDWIDTH = 177.0
CENTER_FILTER_WAVELENGTH = 676.5
RADIANCE_OFFSET = 2.03514
RADIANCE_SCALING_FACTOR = 0.0120642
REFLECTANCE_SCALING_FACTOR = 0.000388002
MEX:REFLECTANCE_OFFSET = 0.0654529
/* IMAGE OBJECT DEFINITIONS */
OBJECT = IMAGE
  INTERCHANGE_FORMAT = BINARY
  LINES = 16100
  LINE_SAMPLES = 5267
  SAMPLE_TYPE = UNSIGNED_INTEGER
  SAMPLE_BITS = 8
  BANDS = 1
  BAND_STORAGE_TYPE = BAND_SEQUENTIAL
  MAXIMUM = 255
  MEAN = 115.178
  MINIMUM = 1
  STANDARD_DEVIATION = 24.7248
END_OBJECT = IMAGE
/* MAP OBJECT DEFINITIONS */
OBJECT = IMAGE_MAP_PROJECTION
  ^DATA_SET_MAP_PROJECTION_CATALOG= "DSMAP.CAT"
  A_AXIS_RADIUS = 3396.0
  B_AXIS_RADIUS = 3396.0
  C_AXIS_RADIUS = 3396.0
  CENTER_LATITUDE = 0.0
  CENTER_LONGITUDE = 214.0
  COORDINATE_SYSTEM_NAME = PLANETOGRAPHIC
  COORDINATE_SYSTEM_TYPE = "BODY-FIXED ROTATING"
  EASTERNMOST_LONGITUDE = 216.041
  FIRST_STANDARD_PARALLEL = "N/A"
  LINE_FIRST_PIXEL = 1
  LINE_LAST_PIXEL = 16100
  LINE_PROJECTION_OFFSET = 49178.25
  MAP_PROJECTION_ROTATION = 0.0
  MAP_PROJECTION_TYPE = SINUSOIDAL
  MAP_RESOLUTION = 1185.42760773333
  MAP_SCALE = 0.05
  MAXIMUM_LATITUDE = 41.537
  MINIMUM_LATITUDE = 27.9457
  POSITIVE_LONGITUDE_DIRECTION = EAST
  REFERENCE_LATITUDE = "N/A"
  REFERENCE_LONGITUDE = "N/A"
  SAMPLE_FIRST_PIXEL = 1
  SAMPLE_LAST_PIXEL = 5267
  SAMPLE_PROJECTION_OFFSET = 3191.75
  SECOND_STANDARD_PARALLEL = "N/A"
  WESTERNMOST_LONGITUDE = 210.682
END_OBJECT = IMAGE_MAP_PROJECTION
END
