PDS_VERSION_ID = PDS3
/* FILE DATA ELEMENTS */
RECORD_TYPE = UNDEFINED
/* POINTERS TO DATA OBJECTS */
^IMAGE = ("H2938_0000_RE4.TIF")
/* IDENTIFICATION DATA ELEMENTS */
DATA_SET_ID = "MEX-M-HRSC-4-REFDR-MAPPROJECT-EXT1-V4.0"
DATA_SET_NAME = "MARS EXPRESS HRSC MAP PROJECTED REFDR EXTENSION1 V4.0"
DETECTOR_ID = MEX_HRSC_RED
EVENT_TYPE = "MARS-REGIONAL-MAPPING-Te-Im-Fl"
INSTRUMENT_HOST_ID = MEX
INSTRUMENT_HOST_NAME = "MARS EXPRESS"
INSTRUMENT_ID = HRSC
INSTRUMENT_NAME = "HIGH RESOLUTION STEREO CAMERA"
MISSION_NAME = "MARS EXPRESS"
MISSION_PHASE_NAME = ME_Phase_2
PROCESSING_LEVEL_ID = 4
PRODUCT_CREATION_TIME = 2023-02-09T07:39:13.000Z
PRODUCT_ID = "H2938_0000_RE4.TIF"
RELEASE_ID = 0002
REVISION_ID = 0000
/* QUALITY DATA ELEMENTS */
DATA_QUALITY_ID = 1
DATA_QUALITY_DESC = "Data calculated based on original SPICE kernels"
/* TIME DATA ELEMENTS */
SPACECRAFT_CLOCK_START_COUNT = "1/0094032700.08251"
SPACECRAFT_CLOCK_STOP_COUNT = "1/0094033258.44554"
START_TIME = 2006-04-25T08:16:34.317Z
STOP_TIME = 2006-04-25T08:20:51.340Z
/* ORBITAL DATA ELEMENTS */
ASCENDING_NODE_LONGITUDE = 166.62
MAXIMUM_RESOLUTION = 0.1109
FOOTPRINT_POINT_LATITUDE = (37.0161,37.0217,37.0259,37.0278, 37.0289,37.0294,37.028,37.0242,37.0239, 37.0945,36.5737,36.2295,35.8883,35.5494 ,35.2132,34.8804,34.5495,34.2206, 33.8939,33.5696,33.2476,32.9292,32.6124 ,32.139,31.8289,31.366,31.0604,30.6044, 30.3015,30.003,29.705,29.4109,28.9736, 28.683,28.3948,28.1091,27.8251,27.5427, 27.2628,26.8463,26.4333,26.0229,25.75, 25.2155,24.6867,24.2929,23.6478,23.1393 ,22.636,22.5115,22.3904,22.3882,22.3875 ,22.3816,22.3766,22.3727,22.3725, 22.3741,22.7477,23.2534,23.7626,24.2795 ,24.9373,25.4702,26.0088,26.2818, 26.5553,26.8316,27.2487,27.5283,27.8105 ,28.0944,28.3806,28.6684,28.9591, 29.2503,29.5478,29.8417,30.1385,30.4388 ,30.7419,31.0484,31.3631,31.8176, 32.1262,32.6019,32.9193,33.2382,33.5587 ,33.8847,34.2102,34.5403,34.8731, 35.2075,35.544,35.8835,36.2249,36.7433, 36.9175,37.0161)
FOOTPRINT_POINT_LONGITUDE = (347.239,346.651,346.025,345.595, 345.164,344.461,343.836,343.09,343.051, 343.007,343.049,343.077,343.103,343.129 ,343.154,343.178,343.202,343.225, 343.248,343.27,343.291,343.312,343.332, 343.362,343.381,343.408,343.426,343.453 ,343.47,343.487,343.503,343.519,343.541 ,343.556,343.57,343.585,343.598,343.612 ,343.625,343.644,343.663,343.681, 343.693,343.716,343.737,343.753,343.778 ,343.796,343.815,343.819,343.823, 344.289,344.849,345.199,345.619,346.296 ,346.32,346.328,346.346,346.372,346.398 ,346.426,346.461,346.491,346.521, 346.536,346.552,346.568,346.592,346.609 ,346.625,346.642,346.66,346.677,346.695 ,346.713,346.733,346.751,346.77,346.789 ,346.809,346.83,346.855,346.882,346.902 ,346.936,346.958,346.98,347.003,347.027 ,347.05,347.075,347.1,347.125,347.151, 347.177,347.204,347.245,347.259, 347.239)
ORBIT_NUMBER = 2938
ORBITAL_ECCENTRICITY = 0.572
ORBITAL_INCLINATION = 86.62
ORBITAL_SEMIMAJOR_AXIS = 8608.89
PERIAPSIS_ALTITUDE = 288.97
PERIAPSIS_ARGUMENT_ANGLE = 202.18
PERIAPSIS_TIME = 2006-04-25T08:31:54.000Z
SPACECRAFT_ORIENTATION = (0.0,-1.0,0.0)
^MEX_ORIENTATION_DESC = "MEX_ORIENTATION_DESC.TXT"
SPACECRAFT_POINTING_MODE = NADIR
^MEX_POINTING_DESC = "MEX_POINTING_DESC.TXT"
RIGHT_ASCENSION = -1e+32
DECLINATION = -1e+32
OFFSET_ANGLE = -1e+32
SPACECRAFT_SOLAR_DISTANCE = 2.46439e+08
TARGET_NAME = MARS
/* CAMERA DATA ELEMENTS */
DETECTOR_TEMPERATURE = 18.7783
FOCAL_PLANE_TEMPERATURE = 8.5833
INST_CMPRS_NAME = "DISCRETE COSINE TRANSFORMATION (DCT)"
INST_CMPRS_RATIO = 13.4519
INST_CMPRS_QUALITY = 0
INST_CMPRS_QUANTZ_TBL_ID = 0
INSTRUMENT_TEMPERATURE = 11.0301
LENS_TEMPERATURE = 8.9911
MACROPIXEL_SIZE = 4
MISSING_FRAMES = 0
PIXEL_SUBSAMPLING_FLAG = N
SIGNAL_CHAIN_ID = 2
/* RADIOMETRIC DATA ELEMENTS */
BANDWIDTH = 48.0
CENTER_FILTER_WAVELENGTH = 748.0
RADIANCE_OFFSET = 0.476613
RADIANCE_SCALING_FACTOR = 0.00306141
REFLECTANCE_SCALING_FACTOR = 0.000424289
MEX:REFLECTANCE_OFFSET = 0.066055
/* IMAGE OBJECT DEFINITIONS */
OBJECT = IMAGE
  INTERCHANGE_FORMAT = BINARY
  LINES = 8727
  LINE_SAMPLES = 2271
  SAMPLE_TYPE = UNSIGNED_INTEGER
  SAMPLE_BITS = 8
  BANDS = 1
  BAND_STORAGE_TYPE = BAND_SEQUENTIAL
  MAXIMUM = 255
  MEAN = 90.6928
  MINIMUM = 1
  STANDARD_DEVIATION = 30.6943
END_OBJECT = IMAGE
/* MAP OBJECT DEFINITIONS */
OBJECT = IMAGE_MAP_PROJECTION
  ^DATA_SET_MAP_PROJECTION_CATALOG= "DSMAP.CAT"
  A_AXIS_RADIUS = 3396.0
  B_AXIS_RADIUS = 3396.0
  C_AXIS_RADIUS = 3396.0
  CENTER_LATITUDE = 0.0
  CENTER_LONGITUDE = 345.0
  COORDINATE_SYSTEM_NAME = PLANETOGRAPHIC
  COORDINATE_SYSTEM_TYPE = "BODY-FIXED ROTATING"
  EASTERNMOST_LONGITUDE = 347.259
  FIRST_STANDARD_PARALLEL = "N/A"
  LINE_FIRST_PIXEL = 1
  LINE_LAST_PIXEL = 8727
  LINE_PROJECTION_OFFSET = 21976.875
  MAP_PROJECTION_ROTATION = 0.0
  MAP_PROJECTION_TYPE = SINUSOIDAL
  MAP_RESOLUTION = 592.713803866667
  MAP_SCALE = 0.1
  MAXIMUM_LATITUDE = 37.0945
  MINIMUM_LATITUDE = 22.3725
  POSITIVE_LONGITUDE_DIRECTION = EAST
  REFERENCE_LATITUDE = "N/A"
  REFERENCE_LONGITUDE = "N/A"
  SAMPLE_FIRST_PIXEL = 1
  SAMPLE_LAST_PIXEL = 2271
  SAMPLE_PROJECTION_OFFSET = 1074.625
  SECOND_STANDARD_PARALLEL = "N/A"
  WESTERNMOST_LONGITUDE = 343.007
END_OBJECT = IMAGE_MAP_PROJECTION
END
