PDS_VERSION_ID = PDS3
/* FILE DATA ELEMENTS */
RECORD_TYPE = UNDEFINED
/* POINTERS TO DATA OBJECTS */
^IMAGE = ("H2956_0000_S14.TIF")
/* IDENTIFICATION DATA ELEMENTS */
DATA_SET_ID = "MEX-M-HRSC-4-REFDR-MAPPROJECT-EXT1-V4.0"
DATA_SET_NAME = "MARS EXPRESS HRSC MAP PROJECTED REFDR EXTENSION1 V4.0"
DETECTOR_ID = MEX_HRSC_S1
EVENT_TYPE = "MARS-REGIONAL-MAPPING-Im-La"
INSTRUMENT_HOST_ID = MEX
INSTRUMENT_HOST_NAME = "MARS EXPRESS"
INSTRUMENT_ID = HRSC
INSTRUMENT_NAME = "HIGH RESOLUTION STEREO CAMERA"
MISSION_NAME = "MARS EXPRESS"
MISSION_PHASE_NAME = ME_Phase_3
PROCESSING_LEVEL_ID = 4
PRODUCT_CREATION_TIME = 2023-02-09T07:39:13.000Z
PRODUCT_ID = "H2956_0000_S14.TIF"
RELEASE_ID = 0002
REVISION_ID = 0000
/* QUALITY DATA ELEMENTS */
DATA_QUALITY_ID = 1
DATA_QUALITY_DESC = "Data calculated based on original SPICE kernels"
/* TIME DATA ELEMENTS */
SPACECRAFT_CLOCK_START_COUNT = "1/0094468557.07298"
SPACECRAFT_CLOCK_STOP_COUNT = "1/0094468864.63350"
START_TIME = 2006-04-30T09:16:02.633Z
STOP_TIME = 2006-04-30T09:19:31.859Z
/* ORBITAL DATA ELEMENTS */
ASCENDING_NODE_LONGITUDE = 166.24
MAXIMUM_RESOLUTION = 0.0456
FOOTPRINT_POINT_LATITUDE = (22.4436,22.452,22.457,22.4614,22.4652, 22.4684,22.471,22.473,22.4745,22.4755, 22.4752,22.4741,22.4739,22.443,22.0926, 21.7455,21.5162,21.2884,21.0617,20.8303 ,20.6113,20.3874,20.1646,19.8329, 19.6124,19.3943,19.1764,18.9607,18.6395 ,18.4251,18.2128,17.9992,17.7899, 17.5777,17.3693,17.057,16.8508,16.6444, 16.4407,16.2365,16.0343,15.833,15.5336, 15.0369,14.6438,14.1548,13.6768,13.2953 ,13.0119,12.5418,12.171,12.0782,12.0637 ,12.0601,12.0577,12.0551,12.0512, 12.0434,12.0356,12.0352,12.0359,12.4967 ,12.9656,13.2487,13.6296,14.1107, 14.5975,14.8921,15.2858,15.6838,15.886, 16.0875,16.3932,16.5973,16.8034,17.0095 ,17.2174,17.5286,17.7392,17.9494, 18.1627,18.3751,18.59,18.8041,19.0209, 19.3478,19.6767,19.8974,20.1195,20.3415 ,20.5577,20.7857,21.1253,21.3534, 21.5806,21.8109,22.0423,22.2743,22.3912 ,22.4436)
FOOTPRINT_POINT_LONGITUDE = (17.8547,17.5239,17.3038,17.0839, 16.8642,16.6446,16.4252,16.2062,15.9874 ,15.6864,15.3031,15.0567,15.0294, 15.0123,15.0293,15.046,15.0571,15.068, 15.0786,15.0876,15.0992,15.1092,15.1188 ,15.1332,15.1426,15.1518,15.1609, 15.1699,15.1833,15.1919,15.2001,15.2081 ,15.2163,15.2238,15.2314,15.2428, 15.2501,15.2574,15.2645,15.2716,15.2784 ,15.2854,15.2956,15.3116,15.3242, 15.3385,15.3538,15.3646,15.3727,15.3855 ,15.3958,15.3983,15.3987,15.7693, 16.0109,16.2153,16.4945,16.8865,17.2978 ,17.3165,17.3232,17.3438,17.3637, 17.3759,17.3926,17.4141,17.4362,17.4499 ,17.469,17.4885,17.4982,17.5081,17.5231 ,17.5332,17.5436,17.554,17.5647,17.5812 ,17.5923,17.6034,17.6147,17.626,17.6376 ,17.6495,17.6615,17.6795,17.698,17.7108 ,17.7234,17.7367,17.7528,17.7649, 17.7855,17.7995,17.8142,17.8286,17.8433 ,17.8582,17.8658,17.8547)
ORBIT_NUMBER = 2956
ORBITAL_ECCENTRICITY = 0.573
ORBITAL_INCLINATION = 86.61
ORBITAL_SEMIMAJOR_AXIS = 8616.92
PERIAPSIS_ALTITUDE = 289.61
PERIAPSIS_ARGUMENT_ANGLE = 199.0
PERIAPSIS_TIME = 2006-04-30T09:28:28.000Z
SPACECRAFT_ORIENTATION = (0.0,-1.0,0.0)
^MEX_ORIENTATION_DESC = "MEX_ORIENTATION_DESC.TXT"
SPACECRAFT_POINTING_MODE = ACROSSTRACK
^MEX_POINTING_DESC = "MEX_POINTING_DESC.TXT"
RIGHT_ASCENSION = -1e+32
DECLINATION = -1e+32
OFFSET_ANGLE = 0.2
SPACECRAFT_SOLAR_DISTANCE = 2.46871e+08
TARGET_NAME = MARS
/* CAMERA DATA ELEMENTS */
DETECTOR_TEMPERATURE = 17.351
FOCAL_PLANE_TEMPERATURE = 8.1755
INST_CMPRS_NAME = "DISCRETE COSINE TRANSFORMATION (DCT)"
INST_CMPRS_RATIO = 9.99198
INST_CMPRS_QUALITY = 0
INST_CMPRS_QUANTZ_TBL_ID = 0
INSTRUMENT_TEMPERATURE = 11.234
LENS_TEMPERATURE = 8.5833
MACROPIXEL_SIZE = 2
MISSING_FRAMES = 0
PIXEL_SUBSAMPLING_FLAG = N
SIGNAL_CHAIN_ID = 1
/* RADIOMETRIC DATA ELEMENTS */
BANDWIDTH = 180.0
CENTER_FILTER_WAVELENGTH = 677.0
RADIANCE_OFFSET = 2.20163
RADIANCE_SCALING_FACTOR = 0.011381
REFLECTANCE_SCALING_FACTOR = 0.000361876
MEX:REFLECTANCE_OFFSET = 0.0700042
/* IMAGE OBJECT DEFINITIONS */
OBJECT = IMAGE
  INTERCHANGE_FORMAT = BINARY
  LINES = 12336
  LINE_SAMPLES = 2741
  SAMPLE_TYPE = UNSIGNED_INTEGER
  SAMPLE_BITS = 8
  BANDS = 1
  BAND_STORAGE_TYPE = BAND_SEQUENTIAL
  MAXIMUM = 255
  MEAN = 112.199
  MINIMUM = 1
  STANDARD_DEVIATION = 27.4693
END_OBJECT = IMAGE
/* MAP OBJECT DEFINITIONS */
OBJECT = IMAGE_MAP_PROJECTION
  ^DATA_SET_MAP_PROJECTION_CATALOG= "DSMAP.CAT"
  A_AXIS_RADIUS = 3396.0
  B_AXIS_RADIUS = 3396.0
  C_AXIS_RADIUS = 3396.0
  CENTER_LATITUDE = 0.0
  CENTER_LONGITUDE = 16.0
  COORDINATE_SYSTEM_NAME = PLANETOGRAPHIC
  COORDINATE_SYSTEM_TYPE = "BODY-FIXED ROTATING"
  EASTERNMOST_LONGITUDE = 17.8658
  FIRST_STANDARD_PARALLEL = "N/A"
  LINE_FIRST_PIXEL = 1
  LINE_LAST_PIXEL = 12336
  LINE_PROJECTION_OFFSET = 26631.75
  MAP_PROJECTION_ROTATION = 0.0
  MAP_PROJECTION_TYPE = SINUSOIDAL
  MAP_RESOLUTION = 1185.42760773333
  MAP_SCALE = 0.05
  MAXIMUM_LATITUDE = 22.4755
  MINIMUM_LATITUDE = 12.0352
  POSITIVE_LONGITUDE_DIRECTION = EAST
  REFERENCE_LATITUDE = "N/A"
  REFERENCE_LONGITUDE = "N/A"
  SAMPLE_FIRST_PIXEL = 1
  SAMPLE_LAST_PIXEL = 2741
  SAMPLE_PROJECTION_OFFSET = 895.75
  SECOND_STANDARD_PARALLEL = "N/A"
  WESTERNMOST_LONGITUDE = 15.0123
END_OBJECT = IMAGE_MAP_PROJECTION
END
