PDS_VERSION_ID = PDS3
/* FILE DATA ELEMENTS */
RECORD_TYPE = UNDEFINED
/* POINTERS TO DATA OBJECTS */
^IMAGE = ("H2965_0000_P14.TIF")
/* IDENTIFICATION DATA ELEMENTS */
DATA_SET_ID = "MEX-M-HRSC-4-REFDR-MAPPROJECT-EXT1-V4.0"
DATA_SET_NAME = "MARS EXPRESS HRSC MAP PROJECTED REFDR EXTENSION1 V4.0"
DETECTOR_ID = MEX_HRSC_P1
EVENT_TYPE = "MARS-REGIONAL-MAPPING-Vo-Fl-Eo"
INSTRUMENT_HOST_ID = MEX
INSTRUMENT_HOST_NAME = "MARS EXPRESS"
INSTRUMENT_ID = HRSC
INSTRUMENT_NAME = "HIGH RESOLUTION STEREO CAMERA"
MISSION_NAME = "MARS EXPRESS"
MISSION_PHASE_NAME = ME_Phase_3
PROCESSING_LEVEL_ID = 4
PRODUCT_CREATION_TIME = 2023-02-09T07:39:13.000Z
PRODUCT_ID = "H2965_0000_P14.TIF"
RELEASE_ID = 0002
REVISION_ID = 0000
/* QUALITY DATA ELEMENTS */
DATA_QUALITY_ID = 1
DATA_QUALITY_DESC = "Data calculated based on original SPICE kernels"
/* TIME DATA ELEMENTS */
SPACECRAFT_CLOCK_START_COUNT = "1/0094686415.08400"
SPACECRAFT_CLOCK_STOP_COUNT = "1/0094686740.33503"
START_TIME = 2006-05-02T21:47:22.013Z
STOP_TIME = 2006-05-02T21:51:28.834Z
/* ORBITAL DATA ELEMENTS */
ASCENDING_NODE_LONGITUDE = 166.05
MAXIMUM_RESOLUTION = 0.0311
FOOTPRINT_POINT_LATITUDE = (15.8806,15.8714,15.8614,15.8504, 15.8385,15.8255,15.8059,15.8049,15.7801 ,15.4467,15.1177,14.789,14.4648,14.1417 ,13.8217,13.5032,13.1874,12.8732, 12.5621,12.2521,11.9455,11.6388,11.3371 ,10.8855,10.5882,10.2901,9.99768, 9.70467,9.41378,9.126,8.6947,8.41178, 8.12814,7.84684,7.56867,7.28994,7.01342 ,6.74014,6.46635,6.19364,5.92561,5.6569 ,5.25563,4.72919,4.33442,3.81814, 3.29992,2.77985,2.12737,1.60413,1.47294 ,1.46032,1.49368,1.50754,1.52363, 1.52418,1.52487,2.31199,2.83394,3.35418 ,3.87254,4.3889,4.78353,5.04715,5.31023 ,5.57678,5.84592,6.1141,6.38406,6.65852 ,6.93235,7.20597,7.48561,7.76452, 8.18503,8.46887,8.75188,9.03887,9.32702 ,9.61444,9.90921,10.201,10.4958,10.7947 ,11.0921,11.3944,11.6965,12.0033, 12.3102,12.7765,13.088,13.4047,13.8815, 14.2022,14.5256,14.8504,15.1796,15.678, 15.8454,15.8806)
FOOTPRINT_POINT_LONGITUDE = (211.426,211.116,210.803,210.487, 210.167,209.843,209.391,209.37,209.337, 209.349,209.361,209.372,209.383,209.394 ,209.405,209.415,209.425,209.434, 209.444,209.453,209.462,209.47,209.478, 209.49,209.498,209.506,209.513,209.52, 209.527,209.534,209.543,209.549,209.555 ,209.561,209.567,209.572,209.578, 209.583,209.588,209.593,209.597,209.602 ,209.609,209.618,209.624,209.632, 209.639,209.646,209.654,209.662,209.663 ,209.664,210.365,210.671,211.033, 211.046,211.051,211.066,211.076,211.087 ,211.098,211.109,211.117,211.123, 211.129,211.135,211.141,211.147,211.154 ,211.16,211.167,211.174,211.181,211.188 ,211.198,211.205,211.213,211.22,211.227 ,211.235,211.243,211.251,211.259, 211.267,211.275,211.284,211.292,211.301 ,211.31,211.324,211.334,211.343,211.358 ,211.368,211.378,211.389,211.4,211.416, 211.422,211.426)
ORBIT_NUMBER = 2965
ORBITAL_ECCENTRICITY = 0.572
ORBITAL_INCLINATION = 86.61
ORBITAL_SEMIMAJOR_AXIS = 8616.86
PERIAPSIS_ALTITUDE = 290.18
PERIAPSIS_ARGUMENT_ANGLE = 197.39
PERIAPSIS_TIME = 2006-05-02T21:56:39.000Z
SPACECRAFT_ORIENTATION = (0.0,-1.0,0.0)
^MEX_ORIENTATION_DESC = "MEX_ORIENTATION_DESC.TXT"
SPACECRAFT_POINTING_MODE = ACROSSTRACK
^MEX_POINTING_DESC = "MEX_POINTING_DESC.TXT"
RIGHT_ASCENSION = -1e+32
DECLINATION = -1e+32
OFFSET_ANGLE = -1.3
SPACECRAFT_SOLAR_DISTANCE = 2.47074e+08
TARGET_NAME = MARS
/* CAMERA DATA ELEMENTS */
DETECTOR_TEMPERATURE = 17.5549
FOCAL_PLANE_TEMPERATURE = 7.7677
INST_CMPRS_NAME = "DISCRETE COSINE TRANSFORMATION (DCT)"
INST_CMPRS_RATIO = 8.22081
INST_CMPRS_QUALITY = 0
INST_CMPRS_QUANTZ_TBL_ID = 0
INSTRUMENT_TEMPERATURE = 11.0301
LENS_TEMPERATURE = 7.9716
MACROPIXEL_SIZE = 2
MISSING_FRAMES = 0
PIXEL_SUBSAMPLING_FLAG = N
SIGNAL_CHAIN_ID = 3
/* RADIOMETRIC DATA ELEMENTS */
BANDWIDTH = 174.0
CENTER_FILTER_WAVELENGTH = 675.0
RADIANCE_OFFSET = 1.9252
RADIANCE_SCALING_FACTOR = 0.00992262
REFLECTANCE_SCALING_FACTOR = 0.00032581
MEX:REFLECTANCE_OFFSET = 0.0632142
/* IMAGE OBJECT DEFINITIONS */
OBJECT = IMAGE
  INTERCHANGE_FORMAT = BINARY
  LINES = 33990
  LINE_SAMPLES = 4489
  SAMPLE_TYPE = UNSIGNED_INTEGER
  SAMPLE_BITS = 8
  BANDS = 1
  BAND_STORAGE_TYPE = BAND_SEQUENTIAL
  MAXIMUM = 255
  MEAN = 124.867
  MINIMUM = 1
  STANDARD_DEVIATION = 40.6618
END_OBJECT = IMAGE
/* MAP OBJECT DEFINITIONS */
OBJECT = IMAGE_MAP_PROJECTION
  ^DATA_SET_MAP_PROJECTION_CATALOG= "DSMAP.CAT"
  A_AXIS_RADIUS = 3396.0
  B_AXIS_RADIUS = 3396.0
  C_AXIS_RADIUS = 3396.0
  CENTER_LATITUDE = 0.0
  CENTER_LONGITUDE = 210.0
  COORDINATE_SYSTEM_NAME = PLANETOGRAPHIC
  COORDINATE_SYSTEM_TYPE = "BODY-FIXED ROTATING"
  EASTERNMOST_LONGITUDE = 211.426
  FIRST_STANDARD_PARALLEL = "N/A"
  LINE_FIRST_PIXEL = 1
  LINE_LAST_PIXEL = 33990
  LINE_PROJECTION_OFFSET = 37569.75
  MAP_PROJECTION_ROTATION = 0.0
  MAP_PROJECTION_TYPE = SINUSOIDAL
  MAP_RESOLUTION = 2370.85521546667
  MAP_SCALE = 0.025
  MAXIMUM_LATITUDE = 15.8806
  MINIMUM_LATITUDE = 1.46032
  POSITIVE_LONGITUDE_DIRECTION = EAST
  REFERENCE_LATITUDE = "N/A"
  REFERENCE_LONGITUDE = "N/A"
  SAMPLE_FIRST_PIXEL = 1
  SAMPLE_LAST_PIXEL = 4489
  SAMPLE_PROJECTION_OFFSET = 1372.75
  SECOND_STANDARD_PARALLEL = "N/A"
  WESTERNMOST_LONGITUDE = 209.337
END_OBJECT = IMAGE_MAP_PROJECTION
END
