PDS_VERSION_ID = PDS3
/* FILE DATA ELEMENTS */
RECORD_TYPE = UNDEFINED
/* POINTERS TO DATA OBJECTS */
^IMAGE = ("H2969_0000_P24.TIF")
/* IDENTIFICATION DATA ELEMENTS */
DATA_SET_ID = "MEX-M-HRSC-4-REFDR-MAPPROJECT-EXT1-V4.0"
DATA_SET_NAME = "MARS EXPRESS HRSC MAP PROJECTED REFDR EXTENSION1 V4.0"
DETECTOR_ID = MEX_HRSC_P2
EVENT_TYPE = "MARS-REGIONAL-MAPPING-Vo-Pf-Eo"
INSTRUMENT_HOST_ID = MEX
INSTRUMENT_HOST_NAME = "MARS EXPRESS"
INSTRUMENT_ID = HRSC
INSTRUMENT_NAME = "HIGH RESOLUTION STEREO CAMERA"
MISSION_NAME = "MARS EXPRESS"
MISSION_PHASE_NAME = ME_Phase_3
PROCESSING_LEVEL_ID = 4
PRODUCT_CREATION_TIME = 2023-02-09T07:39:13.000Z
PRODUCT_ID = "H2969_0000_P24.TIF"
RELEASE_ID = 0002
REVISION_ID = 0000
/* QUALITY DATA ELEMENTS */
DATA_QUALITY_ID = 1
DATA_QUALITY_DESC = "Data calculated based on original SPICE kernels"
/* TIME DATA ELEMENTS */
SPACECRAFT_CLOCK_START_COUNT = "1/0094783297.07308"
SPACECRAFT_CLOCK_STOP_COUNT = "1/0094783529.07673"
START_TIME = 2006-05-04T00:42:53.447Z
STOP_TIME = 2006-05-04T00:45:22.580Z
/* ORBITAL DATA ELEMENTS */
ASCENDING_NODE_LONGITUDE = 165.96
MAXIMUM_RESOLUTION = 0.0565
FOOTPRINT_POINT_LATITUDE = (9.98839,9.99335,9.99663,10.0,10.0035, 10.0071,10.011,10.0112,10.0299,9.71057, 9.49903,9.28706,9.07522,8.86553,8.55537 ,8.34855,8.1415,7.93431,7.727,7.51952, 7.31194,7.10421,6.89637,6.68841,6.4803, 6.27201,6.06366,5.85517,5.64651,5.43776 ,5.22891,5.01993,4.81082,4.6016,4.30432 ,3.95324,3.60186,3.1621,2.81009,2.45757 ,2.10448,1.8399,1.39859,1.133,0.955705, 0.778809,0.602201,0.425266,0.33653, 0.264395,0.256998,0.252832,0.248554, 0.243058,0.242897,0.243717,0.509116, 0.774801,0.952692,1.12938,1.30599, 1.48271,1.65931,1.83602,2.01268,2.18933 ,2.54189,2.89398,3.2459,3.59754,3.94884 ,4.29981,4.49575,4.70495,4.91405, 5.12305,5.33191,5.54066,5.74928,5.9578, 6.16617,6.37443,6.58255,6.79056,6.99841 ,7.20616,7.41372,7.6212,7.82852,8.03572 ,8.24277,8.44961,8.65647,8.86311,9.1793 ,9.39116,9.60281,9.8143,9.92001, 9.98839)
FOOTPRINT_POINT_LONGITUDE = (179.079,178.733,178.512,178.289, 178.066,177.843,177.604,177.59,177.574, 177.579,177.582,177.585,177.588,177.592 ,177.596,177.599,177.602,177.605, 177.608,177.61,177.613,177.616,177.618, 177.621,177.624,177.626,177.629,177.631 ,177.633,177.636,177.638,177.64,177.642 ,177.645,177.648,177.651,177.655, 177.659,177.662,177.665,177.668,177.67, 177.674,177.676,177.678,177.679,177.68, 177.681,177.682,177.683,178.044,178.279 ,178.536,178.869,178.88,178.884,178.888 ,178.893,178.896,178.899,178.901, 178.904,178.907,178.91,178.914,178.917, 178.923,178.929,178.936,178.942,178.949 ,178.956,178.96,178.964,178.968,178.972 ,178.977,178.981,178.985,178.99,178.994 ,178.999,179.003,179.008,179.012, 179.017,179.022,179.026,179.031,179.036 ,179.041,179.046,179.051,179.056, 179.063,179.069,179.074,179.079,179.082 ,179.079)
ORBIT_NUMBER = 2969
ORBITAL_ECCENTRICITY = 0.572
ORBITAL_INCLINATION = 86.63
ORBITAL_SEMIMAJOR_AXIS = 8612.71
PERIAPSIS_ALTITUDE = 290.72
PERIAPSIS_ARGUMENT_ANGLE = 196.68
PERIAPSIS_TIME = 2006-05-04T00:49:19.000Z
SPACECRAFT_ORIENTATION = (0.0,-1.0,0.0)
^MEX_ORIENTATION_DESC = "MEX_ORIENTATION_DESC.TXT"
SPACECRAFT_POINTING_MODE = ACROSSTRACK
^MEX_POINTING_DESC = "MEX_POINTING_DESC.TXT"
RIGHT_ASCENSION = -1e+32
DECLINATION = -1e+32
OFFSET_ANGLE = -0.3
SPACECRAFT_SOLAR_DISTANCE = 2.47162e+08
TARGET_NAME = MARS
/* CAMERA DATA ELEMENTS */
DETECTOR_TEMPERATURE = 18.3705
FOCAL_PLANE_TEMPERATURE = 8.5833
INST_CMPRS_NAME = "DISCRETE COSINE TRANSFORMATION (DCT)"
INST_CMPRS_RATIO = 10.0681
INST_CMPRS_QUALITY = 0
INST_CMPRS_QUANTZ_TBL_ID = 0
INSTRUMENT_TEMPERATURE = 11.0301
LENS_TEMPERATURE = 8.5833
MACROPIXEL_SIZE = 4
MISSING_FRAMES = 0
PIXEL_SUBSAMPLING_FLAG = N
SIGNAL_CHAIN_ID = 3
/* RADIOMETRIC DATA ELEMENTS */
BANDWIDTH = 177.0
CENTER_FILTER_WAVELENGTH = 676.5
RADIANCE_OFFSET = 1.71297
RADIANCE_SCALING_FACTOR = 0.00960978
REFLECTANCE_SCALING_FACTOR = 0.000311266
MEX:REFLECTANCE_OFFSET = 0.055484
/* IMAGE OBJECT DEFINITIONS */
OBJECT = IMAGE
  INTERCHANGE_FORMAT = BINARY
  LINES = 11573
  LINE_SAMPLES = 1836
  SAMPLE_TYPE = UNSIGNED_INTEGER
  SAMPLE_BITS = 8
  BANDS = 1
  BAND_STORAGE_TYPE = BAND_SEQUENTIAL
  MAXIMUM = 255
  MEAN = 93.4249
  MINIMUM = 1
  STANDARD_DEVIATION = 22.6043
END_OBJECT = IMAGE
/* MAP OBJECT DEFINITIONS */
OBJECT = IMAGE_MAP_PROJECTION
  ^DATA_SET_MAP_PROJECTION_CATALOG= "DSMAP.CAT"
  A_AXIS_RADIUS = 3396.0
  B_AXIS_RADIUS = 3396.0
  C_AXIS_RADIUS = 3396.0
  CENTER_LATITUDE = 0.0
  CENTER_LONGITUDE = 178.0
  COORDINATE_SYSTEM_NAME = PLANETOGRAPHIC
  COORDINATE_SYSTEM_TYPE = "BODY-FIXED ROTATING"
  EASTERNMOST_LONGITUDE = 179.082
  FIRST_STANDARD_PARALLEL = "N/A"
  LINE_FIRST_PIXEL = 1
  LINE_LAST_PIXEL = 11573
  LINE_PROJECTION_OFFSET = 11851.375
  MAP_PROJECTION_ROTATION = 0.0
  MAP_PROJECTION_TYPE = SINUSOIDAL
  MAP_RESOLUTION = 1185.42760773333
  MAP_SCALE = 0.05
  MAXIMUM_LATITUDE = 10.0299
  MINIMUM_LATITUDE = 0.242897
  POSITIVE_LONGITUDE_DIRECTION = EAST
  REFERENCE_LATITUDE = "N/A"
  REFERENCE_LONGITUDE = "N/A"
  SAMPLE_FIRST_PIXEL = 1
  SAMPLE_LAST_PIXEL = 1836
  SAMPLE_PROJECTION_OFFSET = 533.875
  SECOND_STANDARD_PARALLEL = "N/A"
  WESTERNMOST_LONGITUDE = 177.574
END_OBJECT = IMAGE_MAP_PROJECTION
END
