PDS_VERSION_ID = PDS3
/* FILE DATA ELEMENTS */
RECORD_TYPE = UNDEFINED
/* POINTERS TO DATA OBJECTS */
^IMAGE = ("H2979_0000_RE4.TIF")
/* IDENTIFICATION DATA ELEMENTS */
DATA_SET_ID = "MEX-M-HRSC-4-REFDR-MAPPROJECT-EXT1-V4.0"
DATA_SET_NAME = "MARS EXPRESS HRSC MAP PROJECTED REFDR EXTENSION1 V4.0"
DETECTOR_ID = MEX_HRSC_RED
EVENT_TYPE = "MARS-REGIONAL-STEREO-Vo-Te-Fl"
INSTRUMENT_HOST_ID = MEX
INSTRUMENT_HOST_NAME = "MARS EXPRESS"
INSTRUMENT_ID = HRSC
INSTRUMENT_NAME = "HIGH RESOLUTION STEREO CAMERA"
MISSION_NAME = "MARS EXPRESS"
MISSION_PHASE_NAME = ME_Phase_3
PROCESSING_LEVEL_ID = 4
PRODUCT_CREATION_TIME = 2023-02-09T07:39:13.000Z
PRODUCT_ID = "H2979_0000_RE4.TIF"
RELEASE_ID = 0002
REVISION_ID = 0000
/* QUALITY DATA ELEMENTS */
DATA_QUALITY_ID = 1
DATA_QUALITY_DESC = "Data calculated based on original SPICE kernels"
/* TIME DATA ELEMENTS */
SPACECRAFT_CLOCK_START_COUNT = "1/0095025321.07283"
SPACECRAFT_CLOCK_STOP_COUNT = "1/0095025604.16003"
START_TIME = 2006-05-06T19:56:27.340Z
STOP_TIME = 2006-05-06T20:00:03.331Z
/* ORBITAL DATA ELEMENTS */
ASCENDING_NODE_LONGITUDE = 165.75
MAXIMUM_RESOLUTION = 0.0961
FOOTPRINT_POINT_LATITUDE = (3.6022,3.59885,3.59475,3.59065,3.59057 ,3.57944,3.26191,2.78558,2.30862,1.9906 ,1.68016,1.37248,1.06472,0.755859, 0.448334,-0.00985316,-0.307833, -0.605896,-1.05456,-1.35425,-1.65348, -2.09786,-2.38668,-2.81949,-3.10791, -3.39652,-3.68491,-3.96625,-4.24073, -4.52444,-4.94853,-5.24568,-5.6637, -6.07976,-6.3571,-6.63185,-7.14862, -7.44192,-7.71832,-8.02098,-8.29714, -8.69947,-8.96871,-9.23907,-9.50597, -9.77256,-10.0389,-10.3051,-10.7043, -10.8374,-10.8699,-10.8612,-10.8521, -10.8519,-10.8502,-10.4513,-9.9189, -9.38634,-9.11983,-8.85328,-8.58414, -8.30682,-8.01033,-7.71958,-7.44976, -7.03759,-6.51178,-6.09639,-5.81917, -5.54116,-5.26464,-4.98549,-4.57038, -4.28249,-3.99416,-3.70564,-3.41657, -3.12739,-2.8393,-2.55076,-2.26215, -1.97324,-1.67464,-1.37497,-0.925228, -0.625977,-0.178933,0.119178,0.426885, 0.735298,1.04346,1.35119,1.65816, 1.96752,2.28549,2.76193,3.07957,3.39691 ,3.55563,3.6022)
FOOTPRINT_POINT_LONGITUDE = (276.8,276.513,276.113,275.603,275.592, 275.588,275.591,275.594,275.598,275.6, 275.602,275.604,275.606,275.608,275.61, 275.612,275.614,275.615,275.618,275.62, 275.621,275.623,275.625,275.627,275.628 ,275.629,275.63,275.63,275.628,275.629, 275.631,275.635,275.637,275.638,275.638 ,275.638,275.633,275.636,275.636, 275.641,275.642,275.641,275.642,275.643 ,275.643,275.644,275.644,275.644, 275.644,275.645,275.645,276.194,276.645 ,276.655,276.661,276.661,276.661, 276.662,276.662,276.663,276.665,276.668 ,276.679,276.687,276.685,276.684, 276.672,276.674,276.675,276.677,276.679 ,276.682,276.684,276.686,276.689, 276.692,276.695,276.698,276.701,276.704 ,276.708,276.711,276.715,276.72,276.726 ,276.731,276.737,276.741,276.745,276.75 ,276.754,276.759,276.763,276.768, 276.774,276.781,276.787,276.792,276.795 ,276.8)
ORBIT_NUMBER = 2979
ORBITAL_ECCENTRICITY = 0.573
ORBITAL_INCLINATION = 86.63
ORBITAL_SEMIMAJOR_AXIS = 8625.48
PERIAPSIS_ALTITUDE = 290.68
PERIAPSIS_ARGUMENT_ANGLE = 194.93
PERIAPSIS_TIME = 2006-05-06T20:00:43.000Z
SPACECRAFT_ORIENTATION = (0.0,-1.0,0.0)
^MEX_ORIENTATION_DESC = "MEX_ORIENTATION_DESC.TXT"
SPACECRAFT_POINTING_MODE = ACROSSTRACK
^MEX_POINTING_DESC = "MEX_POINTING_DESC.TXT"
RIGHT_ASCENSION = -1e+32
DECLINATION = -1e+32
OFFSET_ANGLE = 0.25
SPACECRAFT_SOLAR_DISTANCE = 2.47373e+08
TARGET_NAME = MARS
/* CAMERA DATA ELEMENTS */
DETECTOR_TEMPERATURE = 18.3705
FOCAL_PLANE_TEMPERATURE = 8.1755
INST_CMPRS_NAME = "DISCRETE COSINE TRANSFORMATION (DCT)"
INST_CMPRS_RATIO = 20.2728
INST_CMPRS_QUALITY = 0
INST_CMPRS_QUANTZ_TBL_ID = 0
INSTRUMENT_TEMPERATURE = 11.0301
LENS_TEMPERATURE = 8.3794
MACROPIXEL_SIZE = 8
MISSING_FRAMES = 0
PIXEL_SUBSAMPLING_FLAG = N
SIGNAL_CHAIN_ID = 2
/* RADIOMETRIC DATA ELEMENTS */
BANDWIDTH = 48.0
CENTER_FILTER_WAVELENGTH = 748.0
RADIANCE_OFFSET = 0.174145
RADIANCE_SCALING_FACTOR = 0.00394576
REFLECTANCE_SCALING_FACTOR = 0.000551012
MEX:REFLECTANCE_OFFSET = 0.0243187
/* IMAGE OBJECT DEFINITIONS */
OBJECT = IMAGE
  INTERCHANGE_FORMAT = BINARY
  LINES = 8560
  LINE_SAMPLES = 744
  SAMPLE_TYPE = UNSIGNED_INTEGER
  SAMPLE_BITS = 8
  BANDS = 1
  BAND_STORAGE_TYPE = BAND_SEQUENTIAL
  MAXIMUM = 255
  MEAN = 92.8122
  MINIMUM = 1
  STANDARD_DEVIATION = 37.44
END_OBJECT = IMAGE
/* MAP OBJECT DEFINITIONS */
OBJECT = IMAGE_MAP_PROJECTION
  ^DATA_SET_MAP_PROJECTION_CATALOG= "DSMAP.CAT"
  A_AXIS_RADIUS = 3396.0
  B_AXIS_RADIUS = 3396.0
  C_AXIS_RADIUS = 3396.0
  CENTER_LATITUDE = 0.0
  CENTER_LONGITUDE = 276.0
  COORDINATE_SYSTEM_NAME = PLANETOGRAPHIC
  COORDINATE_SYSTEM_TYPE = "BODY-FIXED ROTATING"
  EASTERNMOST_LONGITUDE = 276.8
  FIRST_STANDARD_PARALLEL = "N/A"
  LINE_FIRST_PIXEL = 1
  LINE_LAST_PIXEL = 8560
  LINE_PROJECTION_OFFSET = 2136.1875
  MAP_PROJECTION_ROTATION = 0.0
  MAP_PROJECTION_TYPE = SINUSOIDAL
  MAP_RESOLUTION = 592.713803866667
  MAP_SCALE = 0.1
  MAXIMUM_LATITUDE = 3.6022
  MINIMUM_LATITUDE = -10.8699
  POSITIVE_LONGITUDE_DIRECTION = EAST
  REFERENCE_LATITUDE = "N/A"
  REFERENCE_LONGITUDE = "N/A"
  SAMPLE_FIRST_PIXEL = 1
  SAMPLE_LAST_PIXEL = 744
  SAMPLE_PROJECTION_OFFSET = 260.6875
  SECOND_STANDARD_PARALLEL = "N/A"
  WESTERNMOST_LONGITUDE = 275.588
END_OBJECT = IMAGE_MAP_PROJECTION
END
