PDS_VERSION_ID = PDS3
/* FILE DATA ELEMENTS */
RECORD_TYPE = UNDEFINED
/* POINTERS TO DATA OBJECTS */
^IMAGE = ("H2980_0000_GR4.TIF")
/* IDENTIFICATION DATA ELEMENTS */
DATA_SET_ID = "MEX-M-HRSC-4-REFDR-MAPPROJECT-EXT1-V4.0"
DATA_SET_NAME = "MARS EXPRESS HRSC MAP PROJECTED REFDR EXTENSION1 V4.0"
DETECTOR_ID = MEX_HRSC_GREEN
EVENT_TYPE = "MARS-REGIONAL-MAPPING-Vo-Eo"
INSTRUMENT_HOST_ID = MEX
INSTRUMENT_HOST_NAME = "MARS EXPRESS"
INSTRUMENT_ID = HRSC
INSTRUMENT_NAME = "HIGH RESOLUTION STEREO CAMERA"
MISSION_NAME = "MARS EXPRESS"
MISSION_PHASE_NAME = ME_Phase_3
PROCESSING_LEVEL_ID = 4
PRODUCT_CREATION_TIME = 2023-02-09T07:39:13.000Z
PRODUCT_ID = "H2980_0000_GR4.TIF"
RELEASE_ID = 0002
REVISION_ID = 0000
/* QUALITY DATA ELEMENTS */
DATA_QUALITY_ID = 1
DATA_QUALITY_DESC = "Data calculated based on original SPICE kernels"
/* TIME DATA ELEMENTS */
SPACECRAFT_CLOCK_START_COUNT = "1/0095049409.07281"
SPACECRAFT_CLOCK_STOP_COUNT = "1/0095049635.56384"
START_TIME = 2006-05-07T02:37:29.546Z
STOP_TIME = 2006-05-07T02:40:05.155Z
/* ORBITAL DATA ELEMENTS */
ASCENDING_NODE_LONGITUDE = 165.73
MAXIMUM_RESOLUTION = 0.0541
FOOTPRINT_POINT_LATITUDE = (9.49748,9.4985,9.49905,9.49934,9.49945 ,9.49939,9.49913,9.49911,9.49391, 9.28063,9.06703,8.85318,8.5333,8.32444, 8.11534,7.90598,7.69638,7.48654,7.27645 ,7.06612,6.85555,6.64474,6.43369, 6.22242,6.0109,5.79916,5.58719,5.37499, 5.16257,4.94992,4.73705,4.52396,4.31065 ,4.11035,3.75207,3.3932,3.03375,2.67372 ,2.31311,1.95206,1.77132,1.59042, 1.40939,1.2282,1.04689,0.865434, 0.683851,0.502109,0.320284,0.138376, -0.221377,-0.309554,-0.311203,-0.311254 ,-0.311592,-0.311886,-0.311896, -0.311084,0.136845,0.318729,0.500416, 0.772851,0.954287,1.13559,1.3167, 1.58839,1.94996,2.31099,2.67152,3.0315, 3.39091,3.74973,4.10797,4.30809,4.52139 ,4.73446,4.94731,5.15994,5.37236, 5.58455,5.79651,6.00824,6.21974,6.43101 ,6.64205,6.85286,7.06342,7.27376, 7.48384,7.69369,7.90329,8.11265,8.32175 ,8.53062,8.74347,8.95746,9.17118, 9.38463,9.49126,9.49748)
FOOTPRINT_POINT_LONGITUDE = (178.032,177.706,177.447,177.228, 177.008,176.786,176.578,176.564,176.547 ,176.551,176.554,176.558,176.563, 176.566,176.57,176.573,176.576,176.579, 176.582,176.585,176.588,176.591,176.594 ,176.596,176.599,176.602,176.604, 176.607,176.61,176.612,176.615,176.617, 176.619,176.621,176.625,176.629,176.632 ,176.636,176.639,176.643,176.644, 176.646,176.647,176.649,176.65,176.652, 176.653,176.654,176.656,176.657,176.66, 176.661,176.661,177.006,177.48,177.829, 177.84,177.843,177.85,177.853,177.856, 177.86,177.863,177.866,177.869,177.873, 177.879,177.885,177.892,177.898,177.905 ,177.911,177.918,177.922,177.926,177.93 ,177.934,177.939,177.943,177.947, 177.952,177.956,177.961,177.965,177.97, 177.974,177.979,177.983,177.988,177.993 ,177.998,178.003,178.007,178.012, 178.017,178.023,178.028,178.033,178.036 ,178.032)
ORBIT_NUMBER = 2980
ORBITAL_ECCENTRICITY = 0.572
ORBITAL_INCLINATION = 86.63
ORBITAL_SEMIMAJOR_AXIS = 8614.29
PERIAPSIS_ALTITUDE = 291.48
PERIAPSIS_ARGUMENT_ANGLE = 194.72
PERIAPSIS_TIME = 2006-05-07T02:43:48.000Z
SPACECRAFT_ORIENTATION = (0.0,-1.0,0.0)
^MEX_ORIENTATION_DESC = "MEX_ORIENTATION_DESC.TXT"
SPACECRAFT_POINTING_MODE = ACROSSTRACK
^MEX_POINTING_DESC = "MEX_POINTING_DESC.TXT"
RIGHT_ASCENSION = -1e+32
DECLINATION = -1e+32
OFFSET_ANGLE = -0.4
SPACECRAFT_SOLAR_DISTANCE = 2.47393e+08
TARGET_NAME = MARS
/* CAMERA DATA ELEMENTS */
DETECTOR_TEMPERATURE = 17.1471
FOCAL_PLANE_TEMPERATURE = 8.5833
INST_CMPRS_NAME = "DISCRETE COSINE TRANSFORMATION (DCT)"
INST_CMPRS_RATIO = 10.9293
INST_CMPRS_QUALITY = 0
INST_CMPRS_QUANTZ_TBL_ID = 0
INSTRUMENT_TEMPERATURE = 11.4379
LENS_TEMPERATURE = 8.9911
MACROPIXEL_SIZE = 4
MISSING_FRAMES = 0
PIXEL_SUBSAMPLING_FLAG = N
SIGNAL_CHAIN_ID = 2
/* RADIOMETRIC DATA ELEMENTS */
BANDWIDTH = 88.0
CENTER_FILTER_WAVELENGTH = 538.0
RADIANCE_OFFSET = 0.678446
RADIANCE_SCALING_FACTOR = 0.00286264
REFLECTANCE_SCALING_FACTOR = 0.000150845
MEX:REFLECTANCE_OFFSET = 0.0357503
/* IMAGE OBJECT DEFINITIONS */
OBJECT = IMAGE
  INTERCHANGE_FORMAT = BINARY
  LINES = 11626
  LINE_SAMPLES = 1733
  SAMPLE_TYPE = UNSIGNED_INTEGER
  SAMPLE_BITS = 8
  BANDS = 1
  BAND_STORAGE_TYPE = BAND_SEQUENTIAL
  MAXIMUM = 255
  MEAN = 106.599
  MINIMUM = 1
  STANDARD_DEVIATION = 24.5396
END_OBJECT = IMAGE
/* MAP OBJECT DEFINITIONS */
OBJECT = IMAGE_MAP_PROJECTION
  ^DATA_SET_MAP_PROJECTION_CATALOG= "DSMAP.CAT"
  A_AXIS_RADIUS = 3396.0
  B_AXIS_RADIUS = 3396.0
  C_AXIS_RADIUS = 3396.0
  CENTER_LATITUDE = 0.0
  CENTER_LONGITUDE = 177.0
  COORDINATE_SYSTEM_NAME = PLANETOGRAPHIC
  COORDINATE_SYSTEM_TYPE = "BODY-FIXED ROTATING"
  EASTERNMOST_LONGITUDE = 178.036
  FIRST_STANDARD_PARALLEL = "N/A"
  LINE_FIRST_PIXEL = 1
  LINE_LAST_PIXEL = 11626
  LINE_PROJECTION_OFFSET = 11264.125
  MAP_PROJECTION_ROTATION = 0.0
  MAP_PROJECTION_TYPE = SINUSOIDAL
  MAP_RESOLUTION = 1185.42760773333
  MAP_SCALE = 0.05
  MAXIMUM_LATITUDE = 9.49945
  MINIMUM_LATITUDE = -0.311896
  POSITIVE_LONGITUDE_DIRECTION = EAST
  REFERENCE_LATITUDE = "N/A"
  REFERENCE_LONGITUDE = "N/A"
  SAMPLE_FIRST_PIXEL = 1
  SAMPLE_LAST_PIXEL = 1733
  SAMPLE_PROJECTION_OFFSET = 530.875
  SECOND_STANDARD_PARALLEL = "N/A"
  WESTERNMOST_LONGITUDE = 176.547
END_OBJECT = IMAGE_MAP_PROJECTION
END
