PDS_VERSION_ID = PDS3
/* FILE DATA ELEMENTS */
RECORD_TYPE = UNDEFINED
/* POINTERS TO DATA OBJECTS */
^IMAGE = ("H2980_0000_S24.TIF")
/* IDENTIFICATION DATA ELEMENTS */
DATA_SET_ID = "MEX-M-HRSC-4-REFDR-MAPPROJECT-EXT1-V4.0"
DATA_SET_NAME = "MARS EXPRESS HRSC MAP PROJECTED REFDR EXTENSION1 V4.0"
DETECTOR_ID = MEX_HRSC_S2
EVENT_TYPE = "MARS-REGIONAL-MAPPING-Vo-Eo"
INSTRUMENT_HOST_ID = MEX
INSTRUMENT_HOST_NAME = "MARS EXPRESS"
INSTRUMENT_ID = HRSC
INSTRUMENT_NAME = "HIGH RESOLUTION STEREO CAMERA"
MISSION_NAME = "MARS EXPRESS"
MISSION_PHASE_NAME = ME_Phase_3
PROCESSING_LEVEL_ID = 4
PRODUCT_CREATION_TIME = 2023-02-09T07:39:13.000Z
PRODUCT_ID = "H2980_0000_S24.TIF"
RELEASE_ID = 0002
REVISION_ID = 0000
/* QUALITY DATA ELEMENTS */
DATA_QUALITY_ID = 1
DATA_QUALITY_DESC = "Data calculated based on original SPICE kernels"
/* TIME DATA ELEMENTS */
SPACECRAFT_CLOCK_START_COUNT = "1/0095049409.07281"
SPACECRAFT_CLOCK_STOP_COUNT = "1/0095049635.56384"
START_TIME = 2006-05-07T02:38:12.817Z
STOP_TIME = 2006-05-07T02:40:39.324Z
/* ORBITAL DATA ELEMENTS */
ASCENDING_NODE_LONGITUDE = 165.73
MAXIMUM_RESOLUTION = 0.0278
FOOTPRINT_POINT_LATITUDE = (9.46734,9.47281,9.47847,9.48434, 9.49048,9.49685,9.50595,9.50637,9.53543 ,9.20029,8.97683,8.64126,8.41747, 8.19358,7.9696,7.74549,7.52135,7.29711, 7.07276,6.73662,6.54853,6.36035,6.17209 ,5.98382,5.79547,5.60706,5.4186,5.23007 ,5.04152,4.85294,4.6643,4.4756,4.28688, 4.09815,3.9094,3.62611,3.43723,3.24832, 3.05937,2.87039,2.68136,2.49234,2.21039 ,2.02683,1.56841,1.20218,0.927393, 0.561136,0.201871,-0.152663,-0.241618, -0.26922,-0.283554,-0.29212,-0.307856, -0.30817,-0.307867,-0.0422754,0.312333, 0.677253,0.860978,1.04432,1.22806, 1.41165,1.77721,2.1435,2.42517,2.61425, 2.80324,2.99218,3.18107,3.37001,3.65332 ,3.84208,4.1252,4.31387,4.50251,4.69112 ,4.8797,5.06825,5.25676,5.44518,5.63358 ,5.91612,6.10439,6.2926,6.48074,6.66882 ,6.99943,7.22367,7.55996,7.89606, 8.23201,8.45589,8.67958,8.90325,9.12679 ,9.35018,9.46189,9.46734)
FOOTPRINT_POINT_LONGITUDE = (177.987,177.773,177.558,177.343, 177.126,176.908,176.607,176.593,176.575 ,176.579,176.583,176.587,176.59,176.593 ,176.596,176.599,176.601,176.604, 176.607,176.611,176.613,176.615,176.617 ,176.619,176.621,176.623,176.624, 176.626,176.628,176.63,176.632,176.633, 176.635,176.637,176.638,176.641,176.642 ,176.644,176.645,176.647,176.648, 176.649,176.651,176.653,176.656,176.658 ,176.66,176.662,176.664,176.666,176.667 ,176.667,177.041,177.32,177.807,177.818 ,177.822,177.825,177.83,177.835,177.838 ,177.84,177.843,177.845,177.851,177.856 ,177.86,177.863,177.866,177.869,177.872 ,177.875,177.88,177.883,177.888,177.891 ,177.894,177.897,177.9,177.904,177.907, 177.91,177.914,177.919,177.922,177.926, 177.929,177.933,177.939,177.944,177.95, 177.957,177.964,177.968,177.973,177.978 ,177.982,177.987,177.99,177.987)
ORBIT_NUMBER = 2980
ORBITAL_ECCENTRICITY = 0.572
ORBITAL_INCLINATION = 86.63
ORBITAL_SEMIMAJOR_AXIS = 8614.29
PERIAPSIS_ALTITUDE = 291.48
PERIAPSIS_ARGUMENT_ANGLE = 194.72
PERIAPSIS_TIME = 2006-05-07T02:43:48.000Z
SPACECRAFT_ORIENTATION = (0.0,-1.0,0.0)
^MEX_ORIENTATION_DESC = "MEX_ORIENTATION_DESC.TXT"
SPACECRAFT_POINTING_MODE = ACROSSTRACK
^MEX_POINTING_DESC = "MEX_POINTING_DESC.TXT"
RIGHT_ASCENSION = -1e+32
DECLINATION = -1e+32
OFFSET_ANGLE = -0.4
SPACECRAFT_SOLAR_DISTANCE = 2.47393e+08
TARGET_NAME = MARS
/* CAMERA DATA ELEMENTS */
DETECTOR_TEMPERATURE = 18.9822
FOCAL_PLANE_TEMPERATURE = 8.5833
INST_CMPRS_NAME = "DISCRETE COSINE TRANSFORMATION (DCT)"
INST_CMPRS_RATIO = 8.98411
INST_CMPRS_QUALITY = 0
INST_CMPRS_QUANTZ_TBL_ID = 0
INSTRUMENT_TEMPERATURE = 11.4379
LENS_TEMPERATURE = 8.9911
MACROPIXEL_SIZE = 2
MISSING_FRAMES = 0
PIXEL_SUBSAMPLING_FLAG = N
SIGNAL_CHAIN_ID = 1
/* RADIOMETRIC DATA ELEMENTS */
BANDWIDTH = 178.0
CENTER_FILTER_WAVELENGTH = 679.0
RADIANCE_OFFSET = 1.97477
RADIANCE_SCALING_FACTOR = 0.010999
REFLECTANCE_SCALING_FACTOR = 0.000356497
MEX:REFLECTANCE_OFFSET = 0.0640058
/* IMAGE OBJECT DEFINITIONS */
OBJECT = IMAGE
  INTERCHANGE_FORMAT = BINARY
  LINES = 23252
  LINE_SAMPLES = 3466
  SAMPLE_TYPE = UNSIGNED_INTEGER
  SAMPLE_BITS = 8
  BANDS = 1
  BAND_STORAGE_TYPE = BAND_SEQUENTIAL
  MAXIMUM = 255
  MEAN = 97.3656
  MINIMUM = 1
  STANDARD_DEVIATION = 23.0405
END_OBJECT = IMAGE
/* MAP OBJECT DEFINITIONS */
OBJECT = IMAGE_MAP_PROJECTION
  ^DATA_SET_MAP_PROJECTION_CATALOG= "DSMAP.CAT"
  A_AXIS_RADIUS = 3396.0
  B_AXIS_RADIUS = 3396.0
  C_AXIS_RADIUS = 3396.0
  CENTER_LATITUDE = 0.0
  CENTER_LONGITUDE = 177.0
  COORDINATE_SYSTEM_NAME = PLANETOGRAPHIC
  COORDINATE_SYSTEM_TYPE = "BODY-FIXED ROTATING"
  EASTERNMOST_LONGITUDE = 177.99
  FIRST_STANDARD_PARALLEL = "N/A"
  LINE_FIRST_PIXEL = 1
  LINE_LAST_PIXEL = 23252
  LINE_PROJECTION_OFFSET = 22528.75
  MAP_PROJECTION_ROTATION = 0.0
  MAP_PROJECTION_TYPE = SINUSOIDAL
  MAP_RESOLUTION = 2370.85521546667
  MAP_SCALE = 0.025
  MAXIMUM_LATITUDE = 9.53543
  MINIMUM_LATITUDE = -0.30817
  POSITIVE_LONGITUDE_DIRECTION = EAST
  REFERENCE_LATITUDE = "N/A"
  REFERENCE_LONGITUDE = "N/A"
  SAMPLE_FIRST_PIXEL = 1
  SAMPLE_LAST_PIXEL = 3466
  SAMPLE_PROJECTION_OFFSET = 1062.25
  SECOND_STANDARD_PARALLEL = "N/A"
  WESTERNMOST_LONGITUDE = 176.575
END_OBJECT = IMAGE_MAP_PROJECTION
END
