PDS_VERSION_ID = PDS3
/* FILE DATA ELEMENTS */
RECORD_TYPE = UNDEFINED
/* POINTERS TO DATA OBJECTS */
^IMAGE = ("H2983_0000_BL4.TIF")
/* IDENTIFICATION DATA ELEMENTS */
DATA_SET_ID = "MEX-M-HRSC-4-REFDR-MAPPROJECT-EXT1-V4.0"
DATA_SET_NAME = "MARS EXPRESS HRSC MAP PROJECTED REFDR EXTENSION1 V4.0"
DETECTOR_ID = MEX_HRSC_BLUE
EVENT_TYPE = "MARS-REGIONAL-MAPPING-Vo-Te-Eo"
INSTRUMENT_HOST_ID = MEX
INSTRUMENT_HOST_NAME = "MARS EXPRESS"
INSTRUMENT_ID = HRSC
INSTRUMENT_NAME = "HIGH RESOLUTION STEREO CAMERA"
MISSION_NAME = "MARS EXPRESS"
MISSION_PHASE_NAME = ME_Phase_3
PROCESSING_LEVEL_ID = 4
PRODUCT_CREATION_TIME = 2023-02-09T07:39:13.000Z
PRODUCT_ID = "H2983_0000_BL4.TIF"
RELEASE_ID = 0002
REVISION_ID = 0000
/* QUALITY DATA ELEMENTS */
DATA_QUALITY_ID = 1
DATA_QUALITY_DESC = "Data calculated based on original SPICE kernels"
/* TIME DATA ELEMENTS */
SPACECRAFT_CLOCK_START_COUNT = "1/0095121493.07281"
SPACECRAFT_CLOCK_STOP_COUNT = "1/0095121951.06970"
START_TIME = 2006-05-07T22:40:21.722Z
STOP_TIME = 2006-05-07T22:45:18.694Z
/* ORBITAL DATA ELEMENTS */
ASCENDING_NODE_LONGITUDE = 165.67
MAXIMUM_RESOLUTION = 0.1531
FOOTPRINT_POINT_LATITUDE = (33.3686,33.3729,33.3733,33.372,33.369, 33.3641,33.3594,33.359,33.3585,32.7425, 32.3366,31.9343,31.5362,31.1417,30.7508 ,30.363,29.9791,29.5984,29.2208,28.8474 ,28.4771,28.1096,27.7451,27.3839, 27.0266,26.4953,26.1453,25.7971,25.4529 ,25.1116,24.7718,24.4363,23.937,23.4438 ,23.1171,22.7949,22.4742,22.1563, 21.6839,21.3705,21.062,20.7533,20.4493, 20.1446,19.6963,19.1026,18.5179,18.0837 ,17.3718,16.6714,16.5337,16.3982, 16.3977,16.3961,16.3941,16.3915,16.3914 ,16.3937,17.0892,17.7964,18.516,19.101, 19.8438,20.1432,20.4479,20.752,21.0608, 21.3696,21.6832,22.156,22.4741,22.7951, 23.1175,23.4446,23.9382,24.4379,24.9436 ,25.2838,25.628,25.9741,26.323,26.6758, 27.0312,27.3889,27.7505,28.1157,28.4837 ,28.8546,29.2286,29.6067,29.988,30.3728 ,30.7612,31.1529,31.5482,31.9474, 32.3503,32.9618,33.1679,33.3686)
FOOTPRINT_POINT_LONGITUDE = (244.571,243.797,243.292,242.787, 242.312,241.806,241.449,241.419,241.398 ,241.439,241.466,241.491,241.515, 241.539,241.562,241.584,241.605,241.626 ,241.646,241.666,241.685,241.703, 241.721,241.738,241.755,241.779,241.794 ,241.809,241.824,241.838,241.851, 241.865,241.884,241.903,241.914,241.926 ,241.937,241.948,241.964,241.974, 241.984,241.994,242.003,242.013,242.025 ,242.043,242.06,242.071,242.09,242.107, 242.11,242.114,242.466,242.982,243.401, 243.804,243.82,243.831,243.854,243.877, 243.902,243.922,243.949,243.96,243.971, 243.982,243.994,244.006,244.018,244.037 ,244.049,244.062,244.075,244.089, 244.109,244.13,244.152,244.167,244.182, 244.197,244.213,244.229,244.246,244.262 ,244.28,244.297,244.315,244.333,244.352 ,244.371,244.391,244.411,244.431, 244.452,244.473,244.495,244.517,244.552 ,244.563,244.571)
ORBIT_NUMBER = 2983
ORBITAL_ECCENTRICITY = 0.573
ORBITAL_INCLINATION = 86.62
ORBITAL_SEMIMAJOR_AXIS = 8630.93
PERIAPSIS_ALTITUDE = 291.06
PERIAPSIS_ARGUMENT_ANGLE = 194.22
PERIAPSIS_TIME = 2006-05-07T22:53:07.000Z
SPACECRAFT_ORIENTATION = (0.0,-1.0,0.0)
^MEX_ORIENTATION_DESC = "MEX_ORIENTATION_DESC.TXT"
SPACECRAFT_POINTING_MODE = NADIR
^MEX_POINTING_DESC = "MEX_POINTING_DESC.TXT"
RIGHT_ASCENSION = -1e+32
DECLINATION = -1e+32
OFFSET_ANGLE = -1e+32
SPACECRAFT_SOLAR_DISTANCE = 2.47454e+08
TARGET_NAME = MARS
/* CAMERA DATA ELEMENTS */
DETECTOR_TEMPERATURE = 18.3705
FOCAL_PLANE_TEMPERATURE = 8.1755
INST_CMPRS_NAME = "DISCRETE COSINE TRANSFORMATION (DCT)"
INST_CMPRS_RATIO = 15.1228
INST_CMPRS_QUALITY = 0
INST_CMPRS_QUANTZ_TBL_ID = 0
INSTRUMENT_TEMPERATURE = 11.0301
LENS_TEMPERATURE = 8.5833
MACROPIXEL_SIZE = 8
MISSING_FRAMES = 0
PIXEL_SUBSAMPLING_FLAG = N
SIGNAL_CHAIN_ID = 2
/* RADIOMETRIC DATA ELEMENTS */
BANDWIDTH = 76.0
CENTER_FILTER_WAVELENGTH = 444.0
RADIANCE_OFFSET = 0.263864
RADIANCE_SCALING_FACTOR = 0.0021316
REFLECTANCE_SCALING_FACTOR = 0.000134106
MEX:REFLECTANCE_OFFSET = 0.0166005
/* IMAGE OBJECT DEFINITIONS */
OBJECT = IMAGE
  INTERCHANGE_FORMAT = BINARY
  LINES = 5037
  LINE_SAMPLES = 815
  SAMPLE_TYPE = UNSIGNED_INTEGER
  SAMPLE_BITS = 8
  BANDS = 1
  BAND_STORAGE_TYPE = BAND_SEQUENTIAL
  MAXIMUM = 255
  MEAN = 124.162
  MINIMUM = 1
  STANDARD_DEVIATION = 17.9299
END_OBJECT = IMAGE
/* MAP OBJECT DEFINITIONS */
OBJECT = IMAGE_MAP_PROJECTION
  ^DATA_SET_MAP_PROJECTION_CATALOG= "DSMAP.CAT"
  A_AXIS_RADIUS = 3396.0
  B_AXIS_RADIUS = 3396.0
  C_AXIS_RADIUS = 3396.0
  CENTER_LATITUDE = 0.0
  CENTER_LONGITUDE = 243.0
  COORDINATE_SYSTEM_NAME = PLANETOGRAPHIC
  COORDINATE_SYSTEM_TYPE = "BODY-FIXED ROTATING"
  EASTERNMOST_LONGITUDE = 244.571
  FIRST_STANDARD_PARALLEL = "N/A"
  LINE_FIRST_PIXEL = 1
  LINE_LAST_PIXEL = 5037
  LINE_PROJECTION_OFFSET = 9899.1875
  MAP_PROJECTION_ROTATION = 0.0
  MAP_PROJECTION_TYPE = SINUSOIDAL
  MAP_RESOLUTION = 296.356901933333
  MAP_SCALE = 0.2
  MAXIMUM_LATITUDE = 33.3733
  MINIMUM_LATITUDE = 16.3914
  POSITIVE_LONGITUDE_DIRECTION = EAST
  REFERENCE_LATITUDE = "N/A"
  REFERENCE_LONGITUDE = "N/A"
  SAMPLE_FIRST_PIXEL = 1
  SAMPLE_LAST_PIXEL = 815
  SAMPLE_PROJECTION_OFFSET = 415.0625
  SECOND_STANDARD_PARALLEL = "N/A"
  WESTERNMOST_LONGITUDE = 241.398
END_OBJECT = IMAGE_MAP_PROJECTION
END
