PDS_VERSION_ID = PDS3
/* FILE DATA ELEMENTS */
RECORD_TYPE = UNDEFINED
/* POINTERS TO DATA OBJECTS */
^IMAGE = ("H2985_0000_P14.TIF")
/* IDENTIFICATION DATA ELEMENTS */
DATA_SET_ID = "MEX-M-HRSC-4-REFDR-MAPPROJECT-EXT1-V4.0"
DATA_SET_NAME = "MARS EXPRESS HRSC MAP PROJECTED REFDR EXTENSION1 V4.0"
DETECTOR_ID = MEX_HRSC_P1
EVENT_TYPE = "MARS-REGIONAL-MAPPING-Te-Im-Fl"
INSTRUMENT_HOST_ID = MEX
INSTRUMENT_HOST_NAME = "MARS EXPRESS"
INSTRUMENT_ID = HRSC
INSTRUMENT_NAME = "HIGH RESOLUTION STEREO CAMERA"
MISSION_NAME = "MARS EXPRESS"
MISSION_PHASE_NAME = ME_Phase_3
PROCESSING_LEVEL_ID = 4
PRODUCT_CREATION_TIME = 2023-02-09T07:39:13.000Z
PRODUCT_ID = "H2985_0000_P14.TIF"
RELEASE_ID = 0002
REVISION_ID = 0000
/* QUALITY DATA ELEMENTS */
DATA_QUALITY_ID = 1
DATA_QUALITY_DESC = "Data calculated based on original SPICE kernels"
/* TIME DATA ELEMENTS */
SPACECRAFT_CLOCK_START_COUNT = "1/0095169756.08254"
SPACECRAFT_CLOCK_STOP_COUNT = "1/0095170228.22147"
START_TIME = 2006-05-08T12:03:35.079Z
STOP_TIME = 2006-05-08T12:08:54.580Z
/* ORBITAL DATA ELEMENTS */
ASCENDING_NODE_LONGITUDE = 165.63
MAXIMUM_RESOLUTION = 0.0515
FOOTPRINT_POINT_LATITUDE = (38.2814,38.289,38.2905,38.2885,38.2811 ,38.2719,38.2549,38.2356,38.234,38.2004 ,37.8499,37.5016,37.1556,36.8124, 36.4714,36.1327,35.7971,35.464,35.1329, 34.8027,34.4754,34.1506,33.6687,33.3493 ,32.8724,32.5609,32.0936,31.7855, 31.3254,31.0232,30.7221,30.4224,30.1265 ,29.6842,29.3915,29.102,28.8138,28.5285 ,28.2443,27.9613,27.5399,26.8483,26.302 ,25.8968,25.2308,24.7052,24.3158, 23.8009,23.4178,23.2912,23.2655,23.2704 ,23.274,23.2742,23.272,23.268,23.2677, 23.2683,23.8977,24.2882,24.6766,25.2021 ,25.7357,26.4156,26.9648,27.5153, 27.9371,28.2189,28.5045,28.7918,29.0806 ,29.3724,29.6644,29.9597,30.2565, 30.5549,30.8553,31.1583,31.4627,31.7703 ,32.0794,32.3902,32.7043,33.1807, 33.4992,33.8221,34.1456,34.4721,34.8001 ,35.1313,35.4645,35.7998,36.1389, 36.4782,36.8202,37.1649,37.5122,38.0367 ,38.2134,38.2814)
FOOTPRINT_POINT_LONGITUDE = (48.6104,47.8795,47.193,46.7209,46.0353 ,45.5213,44.8348,44.2334,44.1904, 44.1593,44.1983,44.2361,44.2727,44.3085 ,44.3431,44.3768,44.4098,44.4419,44.473 ,44.5027,44.5318,44.5601,44.6017,44.628 ,44.665,44.691,44.7267,44.7501,44.7832, 44.8056,44.827,44.8473,44.868,44.8977, 44.9164,44.9354,44.9536,44.972,44.9895, 45.0063,45.0307,45.07,45.0998,45.1213, 45.1557,45.1818,45.2011,45.2252,45.2421 ,45.2479,45.2491,45.7807,46.3353, 46.6584,47.1203,47.6053,47.6284,47.6368 ,47.6721,47.6896,47.7105,47.7381, 47.7656,47.8002,47.8299,47.8635,47.8875 ,47.9047,47.9214,47.9382,47.9556, 47.9726,47.991,48.0093,48.0282,48.0473, 48.0669,48.0866,48.1068,48.1272,48.1481 ,48.1698,48.1912,48.2238,48.2468, 48.2692,48.2932,48.3171,48.3421,48.3674 ,48.3934,48.42,48.4465,48.4748,48.5037, 48.5332,48.5632,48.6103,48.6261, 48.6104)
ORBIT_NUMBER = 2985
ORBITAL_ECCENTRICITY = 0.573
ORBITAL_INCLINATION = 86.62
ORBITAL_SEMIMAJOR_AXIS = 8623.78
PERIAPSIS_ALTITUDE = 291.08
PERIAPSIS_ARGUMENT_ANGLE = 193.88
PERIAPSIS_TIME = 2006-05-08T12:19:25.000Z
SPACECRAFT_ORIENTATION = (0.0,-1.0,0.0)
^MEX_ORIENTATION_DESC = "MEX_ORIENTATION_DESC.TXT"
SPACECRAFT_POINTING_MODE = NADIR
^MEX_POINTING_DESC = "MEX_POINTING_DESC.TXT"
RIGHT_ASCENSION = -1e+32
DECLINATION = -1e+32
OFFSET_ANGLE = -1e+32
SPACECRAFT_SOLAR_DISTANCE = 2.47494e+08
TARGET_NAME = MARS
/* CAMERA DATA ELEMENTS */
DETECTOR_TEMPERATURE = 17.5549
FOCAL_PLANE_TEMPERATURE = 8.5833
INST_CMPRS_NAME = "DISCRETE COSINE TRANSFORMATION (DCT)"
INST_CMPRS_RATIO = 7.86076
INST_CMPRS_QUALITY = 0
INST_CMPRS_QUANTZ_TBL_ID = 0
INSTRUMENT_TEMPERATURE = 11.4379
LENS_TEMPERATURE = 8.7872
MACROPIXEL_SIZE = 2
MISSING_FRAMES = 0
PIXEL_SUBSAMPLING_FLAG = N
SIGNAL_CHAIN_ID = 3
/* RADIOMETRIC DATA ELEMENTS */
BANDWIDTH = 174.0
CENTER_FILTER_WAVELENGTH = 675.0
RADIANCE_OFFSET = 2.16494
RADIANCE_SCALING_FACTOR = 0.0191024
REFLECTANCE_SCALING_FACTOR = 0.000629363
MEX:REFLECTANCE_OFFSET = 0.0713278
/* IMAGE OBJECT DEFINITIONS */
OBJECT = IMAGE
  INTERCHANGE_FORMAT = BINARY
  LINES = 17771
  LINE_SAMPLES = 3723
  SAMPLE_TYPE = UNSIGNED_INTEGER
  SAMPLE_BITS = 8
  BANDS = 1
  BAND_STORAGE_TYPE = BAND_SEQUENTIAL
  MAXIMUM = 255
  MEAN = 115.265
  MINIMUM = 1
  STANDARD_DEVIATION = 20.9919
END_OBJECT = IMAGE
/* MAP OBJECT DEFINITIONS */
OBJECT = IMAGE_MAP_PROJECTION
  ^DATA_SET_MAP_PROJECTION_CATALOG= "DSMAP.CAT"
  A_AXIS_RADIUS = 3396.0
  B_AXIS_RADIUS = 3396.0
  C_AXIS_RADIUS = 3396.0
  CENTER_LATITUDE = 0.0
  CENTER_LONGITUDE = 46.0
  COORDINATE_SYSTEM_NAME = PLANETOGRAPHIC
  COORDINATE_SYSTEM_TYPE = "BODY-FIXED ROTATING"
  EASTERNMOST_LONGITUDE = 48.6261
  FIRST_STANDARD_PARALLEL = "N/A"
  LINE_FIRST_PIXEL = 1
  LINE_LAST_PIXEL = 17771
  LINE_PROJECTION_OFFSET = 45342.25
  MAP_PROJECTION_ROTATION = 0.0
  MAP_PROJECTION_TYPE = SINUSOIDAL
  MAP_RESOLUTION = 1185.42760773333
  MAP_SCALE = 0.05
  MAXIMUM_LATITUDE = 38.2905
  MINIMUM_LATITUDE = 23.2655
  POSITIVE_LONGITUDE_DIRECTION = EAST
  REFERENCE_LATITUDE = "N/A"
  REFERENCE_LONGITUDE = "N/A"
  SAMPLE_FIRST_PIXEL = 1
  SAMPLE_LAST_PIXEL = 3723
  SAMPLE_PROJECTION_OFFSET = 1508.25
  SECOND_STANDARD_PARALLEL = "N/A"
  WESTERNMOST_LONGITUDE = 44.1593
END_OBJECT = IMAGE_MAP_PROJECTION
END
