PDS_VERSION_ID = PDS3
/* FILE DATA ELEMENTS */
RECORD_TYPE = UNDEFINED
/* POINTERS TO DATA OBJECTS */
^IMAGE = ("H2990_0000_BL4.TIF")
/* IDENTIFICATION DATA ELEMENTS */
DATA_SET_ID = "MEX-M-HRSC-4-REFDR-MAPPROJECT-EXT1-V4.0"
DATA_SET_NAME = "MARS EXPRESS HRSC MAP PROJECTED REFDR EXTENSION1 V4.0"
DETECTOR_ID = MEX_HRSC_BLUE
EVENT_TYPE = "MARS-REGIONAL-STEREO-Vo-Te-La"
INSTRUMENT_HOST_ID = MEX
INSTRUMENT_HOST_NAME = "MARS EXPRESS"
INSTRUMENT_ID = HRSC
INSTRUMENT_NAME = "HIGH RESOLUTION STEREO CAMERA"
MISSION_NAME = "MARS EXPRESS"
MISSION_PHASE_NAME = ME_Phase_3
PROCESSING_LEVEL_ID = 4
PRODUCT_CREATION_TIME = 2023-02-09T07:39:13.000Z
PRODUCT_ID = "H2990_0000_BL4.TIF"
RELEASE_ID = 0002
REVISION_ID = 0000
/* QUALITY DATA ELEMENTS */
DATA_QUALITY_ID = 1
DATA_QUALITY_DESC = "Data calculated based on original SPICE kernels"
/* TIME DATA ELEMENTS */
SPACECRAFT_CLOCK_START_COUNT = "1/0095291510.09053"
SPACECRAFT_CLOCK_STOP_COUNT = "1/0095291693.48565"
START_TIME = 2006-05-09T21:52:29.271Z
STOP_TIME = 2006-05-09T21:54:35.778Z
/* ORBITAL DATA ELEMENTS */
ASCENDING_NODE_LONGITUDE = 165.52
MAXIMUM_RESOLUTION = 0.0922
FOOTPRINT_POINT_LATITUDE = (-1.8677,-1.86773,-1.86772,-1.86767, -1.86757,-1.86745,-1.8673,-1.86729, -1.87319,-2.04312,-2.21311,-2.46805, -2.63828,-2.80836,-3.06367,-3.23388, -3.48936,-3.65967,-3.83003,-4.00046, -4.16498,-4.32885,-4.65121,-4.81852, -4.98409,-5.23448,-5.48137,-5.64607, -5.81073,-5.97547,-6.1402,-6.30493, -6.46554,-6.6294,-6.79351,-6.9584, -7.2064,-7.45572,-7.62097,-7.87004, -8.03472,-8.195,-8.43428,-8.7521, -8.99046,-9.22876,-9.62628,-10.1032, -10.1827,-10.2415,-10.2413,-10.2405, -10.2393,-10.2385,-10.2384,-10.2369, -9.99863,-9.52199,-9.20421,-8.88592, -8.6476,-8.40697,-8.0923,-7.92795, -7.7596,-7.59245,-7.42808,-7.26076, -7.09531,-6.93141,-6.60914,-6.44517, -6.28061,-6.11596,-5.95127,-5.78676, -5.62219,-5.45752,-5.21082,-5.04391, -4.87659,-4.71159,-4.54765,-4.38294, -4.21933,-4.05703,-3.89109,-3.72109, -3.55071,-3.38044,-3.21023,-3.04005, -2.86991,-2.69982,-2.52968,-2.35972, -2.1898,-2.01991,-1.93496,-1.8677)
FOOTPRINT_POINT_LONGITUDE = (275.74,275.504,275.33,275.166,275.003, 274.841,274.668,274.658,274.657,274.658 ,274.659,274.66,274.661,274.661,274.662 ,274.663,274.664,274.665,274.665, 274.666,274.666,274.666,274.661,274.664 ,274.666,274.669,274.67,274.67,274.671, 274.671,274.671,274.672,274.668,274.668 ,274.667,274.667,274.668,274.671, 274.671,274.673,274.673,274.673,274.674 ,274.675,274.675,274.675,274.675, 274.675,274.675,274.675,274.852,275.154 ,275.487,275.668,275.678,275.684, 275.684,275.684,275.685,275.686,275.687 ,275.693,275.687,275.689,275.697, 275.702,275.702,275.708,275.71,275.709, 275.694,275.693,275.694,275.694,275.695 ,275.696,275.697,275.698,275.699, 275.706,275.713,275.716,275.716,275.718 ,275.717,275.714,275.711,275.711, 275.713,275.715,275.716,275.718,275.72, 275.721,275.723,275.725,275.727,275.729 ,275.73,275.74)
ORBIT_NUMBER = 2990
ORBITAL_ECCENTRICITY = 0.573
ORBITAL_INCLINATION = 86.63
ORBITAL_SEMIMAJOR_AXIS = 8627.58
PERIAPSIS_ALTITUDE = 291.61
PERIAPSIS_ARGUMENT_ANGLE = 192.97
PERIAPSIS_TIME = 2006-05-09T21:55:12.000Z
SPACECRAFT_ORIENTATION = (0.0,-1.0,0.0)
^MEX_ORIENTATION_DESC = "MEX_ORIENTATION_DESC.TXT"
SPACECRAFT_POINTING_MODE = ACROSSTRACK
^MEX_POINTING_DESC = "MEX_POINTING_DESC.TXT"
RIGHT_ASCENSION = -1e+32
DECLINATION = -1e+32
OFFSET_ANGLE = 0.2
SPACECRAFT_SOLAR_DISTANCE = 2.47592e+08
TARGET_NAME = MARS
/* CAMERA DATA ELEMENTS */
DETECTOR_TEMPERATURE = 18.3705
FOCAL_PLANE_TEMPERATURE = 7.9716
INST_CMPRS_NAME = "DISCRETE COSINE TRANSFORMATION (DCT)"
INST_CMPRS_RATIO = 12.9417
INST_CMPRS_QUALITY = 0
INST_CMPRS_QUANTZ_TBL_ID = 0
INSTRUMENT_TEMPERATURE = 11.0301
LENS_TEMPERATURE = 8.1755
MACROPIXEL_SIZE = 8
MISSING_FRAMES = 0
PIXEL_SUBSAMPLING_FLAG = N
SIGNAL_CHAIN_ID = 2
/* RADIOMETRIC DATA ELEMENTS */
BANDWIDTH = 76.0
CENTER_FILTER_WAVELENGTH = 444.0
RADIANCE_OFFSET = 0.192855
RADIANCE_SCALING_FACTOR = 0.00177831
REFLECTANCE_SCALING_FACTOR = 0.000112005
MEX:REFLECTANCE_OFFSET = 0.0121468
/* IMAGE OBJECT DEFINITIONS */
OBJECT = IMAGE
  INTERCHANGE_FORMAT = BINARY
  LINES = 4966
  LINE_SAMPLES = 647
  SAMPLE_TYPE = UNSIGNED_INTEGER
  SAMPLE_BITS = 8
  BANDS = 1
  BAND_STORAGE_TYPE = BAND_SEQUENTIAL
  MAXIMUM = 255
  MEAN = 92.7514
  MINIMUM = 1
  STANDARD_DEVIATION = 32.0582
END_OBJECT = IMAGE
/* MAP OBJECT DEFINITIONS */
OBJECT = IMAGE_MAP_PROJECTION
  ^DATA_SET_MAP_PROJECTION_CATALOG= "DSMAP.CAT"
  A_AXIS_RADIUS = 3396.0
  B_AXIS_RADIUS = 3396.0
  C_AXIS_RADIUS = 3396.0
  CENTER_LATITUDE = 0.0
  CENTER_LONGITUDE = 275.0
  COORDINATE_SYSTEM_NAME = PLANETOGRAPHIC
  COORDINATE_SYSTEM_TYPE = "BODY-FIXED ROTATING"
  EASTERNMOST_LONGITUDE = 275.74
  FIRST_STANDARD_PARALLEL = "N/A"
  LINE_FIRST_PIXEL = 1
  LINE_LAST_PIXEL = 4966
  LINE_PROJECTION_OFFSET = -1098.1875
  MAP_PROJECTION_ROTATION = 0.0
  MAP_PROJECTION_TYPE = SINUSOIDAL
  MAP_RESOLUTION = 592.713803866667
  MAP_SCALE = 0.1
  MAXIMUM_LATITUDE = -1.86729
  MINIMUM_LATITUDE = -10.2415
  POSITIVE_LONGITUDE_DIRECTION = EAST
  REFERENCE_LATITUDE = "N/A"
  REFERENCE_LONGITUDE = "N/A"
  SAMPLE_FIRST_PIXEL = 1
  SAMPLE_LAST_PIXEL = 647
  SAMPLE_PROJECTION_OFFSET = 212.0625
  SECOND_STANDARD_PARALLEL = "N/A"
  WESTERNMOST_LONGITUDE = 274.657
END_OBJECT = IMAGE_MAP_PROJECTION
END
