PDS_VERSION_ID = PDS3
/* FILE DATA ELEMENTS */
RECORD_TYPE = UNDEFINED
/* POINTERS TO DATA OBJECTS */
^IMAGE = ("H2991_0000_IR4.TIF")
/* IDENTIFICATION DATA ELEMENTS */
DATA_SET_ID = "MEX-M-HRSC-4-REFDR-MAPPROJECT-EXT1-V4.0"
DATA_SET_NAME = "MARS EXPRESS HRSC MAP PROJECTED REFDR EXTENSION1 V4.0"
DETECTOR_ID = MEX_HRSC_IR
EVENT_TYPE = "MARS-REGIONAL-MAPPING-Vo-Gl-Eo"
INSTRUMENT_HOST_ID = MEX
INSTRUMENT_HOST_NAME = "MARS EXPRESS"
INSTRUMENT_ID = HRSC
INSTRUMENT_NAME = "HIGH RESOLUTION STEREO CAMERA"
MISSION_NAME = "MARS EXPRESS"
MISSION_PHASE_NAME = ME_Phase_3
PROCESSING_LEVEL_ID = 4
PRODUCT_CREATION_TIME = 2023-02-09T07:39:13.000Z
PRODUCT_ID = "H2991_0000_IR4.TIF"
RELEASE_ID = 0002
REVISION_ID = 0000
/* QUALITY DATA ELEMENTS */
DATA_QUALITY_ID = 1
DATA_QUALITY_DESC = "Data calculated based on original SPICE kernels"
/* TIME DATA ELEMENTS */
SPACECRAFT_CLOCK_START_COUNT = "1/0095315511.08422"
SPACECRAFT_CLOCK_STOP_COUNT = "1/0095315777.23398"
START_TIME = 2006-05-10T04:32:03.727Z
STOP_TIME = 2006-05-10T04:35:30.427Z
/* ORBITAL DATA ELEMENTS */
ASCENDING_NODE_LONGITUDE = 165.5
MAXIMUM_RESOLUTION = 0.1068
FOOTPRINT_POINT_LATITUDE = (9.53789,9.53671,9.53399,9.52696, 9.52678,9.50181,9.21819,8.79257,8.51503 ,8.23675,7.9579,7.67845,7.39838,7.11776 ,6.83655,6.55468,6.27223,5.98927, 5.70571,5.42158,5.13691,4.85163,4.56788 ,4.32797,4.08768,3.84702,3.60594, 3.36452,3.12273,2.88054,2.638,2.39507, 2.15182,1.90819,1.66426,1.42027,1.17595 ,0.930828,0.685563,0.320161,-0.156802, -0.395355,-0.634605,-0.99305,-1.35277, -1.70109,-2.16623,-2.5157,-3.10195, -3.21886,-3.24103,-3.23504,-3.22807, -3.22798,-3.22633,-2.7579,-2.29073, -1.94228,-1.59228,-1.1222,-0.882445, -0.64331,-0.403788,0.0734746,0.430382, 0.798067,1.04327,1.28806,1.53261, 1.77644,2.0204,2.2633,2.50612,2.87021, 3.1124,3.35421,3.59564,3.83674,4.07743, 4.31776,4.5577,4.83737,5.12274,5.40749, 5.69163,5.97525,6.2583,6.54078,6.8227, 7.10402,7.38474,7.66488,7.94441,8.22333 ,8.50164,8.77937,9.0623,9.34661,9.48838 ,9.53789)
FOOTPRINT_POINT_LONGITUDE = (177.252,176.912,176.475,175.815, 175.801,175.783,175.787,175.795,175.799 ,175.804,175.808,175.812,175.817, 175.821,175.825,175.829,175.833,175.836 ,175.84,175.844,175.847,175.851,175.854 ,175.857,175.859,175.862,175.864, 175.867,175.869,175.872,175.874,175.876 ,175.878,175.881,175.883,175.885, 175.887,175.889,175.891,175.894,175.897 ,175.899,175.9,175.903,175.905,175.907, 175.91,175.912,175.914,175.914,175.914, 176.418,177.011,177.021,177.028,177.033 ,177.039,177.043,177.048,177.054, 177.057,177.06,177.064,177.07,177.076, 177.081,177.085,177.089,177.093,177.097 ,177.101,177.105,177.109,177.116,177.12 ,177.124,177.129,177.133,177.138, 177.142,177.147,177.153,177.158,177.164 ,177.17,177.176,177.182,177.188,177.194 ,177.2,177.207,177.213,177.22,177.226, 177.233,177.24,177.247,177.254,177.257, 177.252)
ORBIT_NUMBER = 2991
ORBITAL_ECCENTRICITY = 0.572
ORBITAL_INCLINATION = 86.63
ORBITAL_SEMIMAJOR_AXIS = 8615.77
PERIAPSIS_ALTITUDE = 292.4
PERIAPSIS_ARGUMENT_ANGLE = 192.77
PERIAPSIS_TIME = 2006-05-10T04:38:18.000Z
SPACECRAFT_ORIENTATION = (0.0,-1.0,0.0)
^MEX_ORIENTATION_DESC = "MEX_ORIENTATION_DESC.TXT"
SPACECRAFT_POINTING_MODE = ACROSSTRACK
^MEX_POINTING_DESC = "MEX_POINTING_DESC.TXT"
RIGHT_ASCENSION = -1e+32
DECLINATION = -1e+32
OFFSET_ANGLE = -0.25
SPACECRAFT_SOLAR_DISTANCE = 2.47611e+08
TARGET_NAME = MARS
/* CAMERA DATA ELEMENTS */
DETECTOR_TEMPERATURE = 17.351
FOCAL_PLANE_TEMPERATURE = 7.7677
INST_CMPRS_NAME = "DISCRETE COSINE TRANSFORMATION (DCT)"
INST_CMPRS_RATIO = 13.831
INST_CMPRS_QUALITY = 0
INST_CMPRS_QUANTZ_TBL_ID = 0
INSTRUMENT_TEMPERATURE = 11.234
LENS_TEMPERATURE = 8.1755
MACROPIXEL_SIZE = 8
MISSING_FRAMES = 0
PIXEL_SUBSAMPLING_FLAG = N
SIGNAL_CHAIN_ID = 2
/* RADIOMETRIC DATA ELEMENTS */
BANDWIDTH = 81.0
CENTER_FILTER_WAVELENGTH = 955.5
RADIANCE_OFFSET = 0.490385
RADIANCE_SCALING_FACTOR = 0.00297203
REFLECTANCE_SCALING_FACTOR = 0.000393116
MEX:REFLECTANCE_OFFSET = 0.0648642
/* IMAGE OBJECT DEFINITIONS */
OBJECT = IMAGE
  INTERCHANGE_FORMAT = BINARY
  LINES = 7561
  LINE_SAMPLES = 828
  SAMPLE_TYPE = UNSIGNED_INTEGER
  SAMPLE_BITS = 8
  BANDS = 1
  BAND_STORAGE_TYPE = BAND_SEQUENTIAL
  MAXIMUM = 255
  MEAN = 103.857
  MINIMUM = 1
  STANDARD_DEVIATION = 28.413
END_OBJECT = IMAGE
/* MAP OBJECT DEFINITIONS */
OBJECT = IMAGE_MAP_PROJECTION
  ^DATA_SET_MAP_PROJECTION_CATALOG= "DSMAP.CAT"
  A_AXIS_RADIUS = 3396.0
  B_AXIS_RADIUS = 3396.0
  C_AXIS_RADIUS = 3396.0
  CENTER_LATITUDE = 0.0
  CENTER_LONGITUDE = 176.0
  COORDINATE_SYSTEM_NAME = PLANETOGRAPHIC
  COORDINATE_SYSTEM_TYPE = "BODY-FIXED ROTATING"
  EASTERNMOST_LONGITUDE = 177.257
  FIRST_STANDARD_PARALLEL = "N/A"
  LINE_FIRST_PIXEL = 1
  LINE_LAST_PIXEL = 7561
  LINE_PROJECTION_OFFSET = 5654.6875
  MAP_PROJECTION_ROTATION = 0.0
  MAP_PROJECTION_TYPE = SINUSOIDAL
  MAP_RESOLUTION = 592.713803866667
  MAP_SCALE = 0.1
  MAXIMUM_LATITUDE = 9.537890000000001
  MINIMUM_LATITUDE = -3.24103
  POSITIVE_LONGITUDE_DIRECTION = EAST
  REFERENCE_LATITUDE = "N/A"
  REFERENCE_LONGITUDE = "N/A"
  SAMPLE_FIRST_PIXEL = 1
  SAMPLE_LAST_PIXEL = 828
  SAMPLE_PROJECTION_OFFSET = 112.6875
  SECOND_STANDARD_PARALLEL = "N/A"
  WESTERNMOST_LONGITUDE = 175.783
END_OBJECT = IMAGE_MAP_PROJECTION
END
