PDS_VERSION_ID = PDS3
/* FILE DATA ELEMENTS */
RECORD_TYPE = UNDEFINED
/* POINTERS TO DATA OBJECTS */
^IMAGE = ("H2991_0000_P24.TIF")
/* IDENTIFICATION DATA ELEMENTS */
DATA_SET_ID = "MEX-M-HRSC-4-REFDR-MAPPROJECT-EXT1-V4.0"
DATA_SET_NAME = "MARS EXPRESS HRSC MAP PROJECTED REFDR EXTENSION1 V4.0"
DETECTOR_ID = MEX_HRSC_P2
EVENT_TYPE = "MARS-REGIONAL-MAPPING-Vo-Gl-Eo"
INSTRUMENT_HOST_ID = MEX
INSTRUMENT_HOST_NAME = "MARS EXPRESS"
INSTRUMENT_ID = HRSC
INSTRUMENT_NAME = "HIGH RESOLUTION STEREO CAMERA"
MISSION_NAME = "MARS EXPRESS"
MISSION_PHASE_NAME = ME_Phase_3
PROCESSING_LEVEL_ID = 4
PRODUCT_CREATION_TIME = 2023-02-09T07:39:13.000Z
PRODUCT_ID = "H2991_0000_P24.TIF"
RELEASE_ID = 0002
REVISION_ID = 0000
/* QUALITY DATA ELEMENTS */
DATA_QUALITY_ID = 1
DATA_QUALITY_DESC = "Data calculated based on original SPICE kernels"
/* TIME DATA ELEMENTS */
SPACECRAFT_CLOCK_START_COUNT = "1/0095315511.08422"
SPACECRAFT_CLOCK_STOP_COUNT = "1/0095315777.23398"
START_TIME = 2006-05-10T04:32:58.975Z
STOP_TIME = 2006-05-10T04:36:11.709Z
/* ORBITAL DATA ELEMENTS */
ASCENDING_NODE_LONGITUDE = 165.5
MAXIMUM_RESOLUTION = 0.051
FOOTPRINT_POINT_LATITUDE = (9.52281,9.5267,9.53195,9.54066,9.54085 ,9.55868,9.25334,8.94745,8.64124, 8.33482,8.02815,7.7362,7.4789,7.22141, 6.96378,6.706,6.44812,6.19006,5.93182, 5.67346,5.41497,5.15634,4.8976,4.63873, 4.37973,4.12062,3.86139,3.60208,3.34401 ,3.09282,2.84155,2.59017,2.33872, 2.08717,1.83551,1.58366,1.33879,1.09513 ,0.729946,0.486247,0.120808,-0.123004, -0.367113,-0.610006,-1.08186,-1.55272, -2.25897,-2.49664,-2.96714,-3.08478, -3.20127,-3.20881,-3.21504,-3.21845, -3.21857,-3.21782,-2.86463,-2.5111, -2.15716,-1.921,-1.45012,-0.861042, -0.382867,-0.138954,0.105304,0.349042, 0.593099,0.836819,1.08031,1.44539, 1.8203,2.07196,2.32385,2.57528,2.82656, 3.07779,3.32894,3.58707,3.84634,4.10553 ,4.3646,4.62355,4.88241,5.14108,5.39967 ,5.65814,5.91648,6.17467,6.43271,6.6906 ,6.94835,7.20595,7.46336,7.72066, 8.16645,8.47302,8.77929,9.23825,9.39109 ,9.52281)
FOOTPRINT_POINT_LONGITUDE = (177.194,176.881,176.478,175.856, 175.844,175.829,175.833,175.837,175.841 ,175.845,175.848,175.852,175.855, 175.858,175.86,175.863,175.866,175.868, 175.871,175.873,175.876,175.878,175.88, 175.883,175.885,175.887,175.889,175.891 ,175.893,175.895,175.896,175.898,175.9, 175.901,175.903,175.904,175.906,175.908 ,175.909,175.911,175.912,175.913, 175.915,175.916,175.918,175.919,175.921 ,175.923,175.923,175.924,175.924, 176.362,176.705,176.996,177.006,177.01, 177.013,177.016,177.019,177.022,177.027 ,177.033,177.038,177.041,177.044, 177.047,177.05,177.053,177.056,177.061, 177.066,177.07,177.073,177.077,177.081, 177.084,177.088,177.092,177.096,177.1, 177.104,177.108,177.112,177.117,177.121 ,177.125,177.13,177.134,177.139,177.144 ,177.148,177.153,177.158,177.163, 177.172,177.178,177.184,177.193,177.196 ,177.194)
ORBIT_NUMBER = 2991
ORBITAL_ECCENTRICITY = 0.572
ORBITAL_INCLINATION = 86.63
ORBITAL_SEMIMAJOR_AXIS = 8615.77
PERIAPSIS_ALTITUDE = 292.4
PERIAPSIS_ARGUMENT_ANGLE = 192.77
PERIAPSIS_TIME = 2006-05-10T04:38:18.000Z
SPACECRAFT_ORIENTATION = (0.0,-1.0,0.0)
^MEX_ORIENTATION_DESC = "MEX_ORIENTATION_DESC.TXT"
SPACECRAFT_POINTING_MODE = ACROSSTRACK
^MEX_POINTING_DESC = "MEX_POINTING_DESC.TXT"
RIGHT_ASCENSION = -1e+32
DECLINATION = -1e+32
OFFSET_ANGLE = -0.25
SPACECRAFT_SOLAR_DISTANCE = 2.47611e+08
TARGET_NAME = MARS
/* CAMERA DATA ELEMENTS */
DETECTOR_TEMPERATURE = 18.3705
FOCAL_PLANE_TEMPERATURE = 7.7677
INST_CMPRS_NAME = "DISCRETE COSINE TRANSFORMATION (DCT)"
INST_CMPRS_RATIO = 7.4059
INST_CMPRS_QUALITY = 0
INST_CMPRS_QUANTZ_TBL_ID = 0
INSTRUMENT_TEMPERATURE = 11.234
LENS_TEMPERATURE = 8.1755
MACROPIXEL_SIZE = 4
MISSING_FRAMES = 0
PIXEL_SUBSAMPLING_FLAG = N
SIGNAL_CHAIN_ID = 3
/* RADIOMETRIC DATA ELEMENTS */
BANDWIDTH = 177.0
CENTER_FILTER_WAVELENGTH = 676.5
RADIANCE_OFFSET = 1.9033
RADIANCE_SCALING_FACTOR = 0.010916
REFLECTANCE_SCALING_FACTOR = 0.000354862
MEX:REFLECTANCE_OFFSET = 0.0618734
/* IMAGE OBJECT DEFINITIONS */
OBJECT = IMAGE
  INTERCHANGE_FORMAT = BINARY
  LINES = 15122
  LINE_SAMPLES = 1656
  SAMPLE_TYPE = UNSIGNED_INTEGER
  SAMPLE_BITS = 8
  BANDS = 1
  BAND_STORAGE_TYPE = BAND_SEQUENTIAL
  MAXIMUM = 255
  MEAN = 101.11
  MINIMUM = 1
  STANDARD_DEVIATION = 26.0799
END_OBJECT = IMAGE
/* MAP OBJECT DEFINITIONS */
OBJECT = IMAGE_MAP_PROJECTION
  ^DATA_SET_MAP_PROJECTION_CATALOG= "DSMAP.CAT"
  A_AXIS_RADIUS = 3396.0
  B_AXIS_RADIUS = 3396.0
  C_AXIS_RADIUS = 3396.0
  CENTER_LATITUDE = 0.0
  CENTER_LONGITUDE = 176.0
  COORDINATE_SYSTEM_NAME = PLANETOGRAPHIC
  COORDINATE_SYSTEM_TYPE = "BODY-FIXED ROTATING"
  EASTERNMOST_LONGITUDE = 177.196
  FIRST_STANDARD_PARALLEL = "N/A"
  LINE_FIRST_PIXEL = 1
  LINE_LAST_PIXEL = 15122
  LINE_PROJECTION_OFFSET = 11309.875
  MAP_PROJECTION_ROTATION = 0.0
  MAP_PROJECTION_TYPE = SINUSOIDAL
  MAP_RESOLUTION = 1185.42760773333
  MAP_SCALE = 0.05
  MAXIMUM_LATITUDE = 9.558680000000001
  MINIMUM_LATITUDE = -3.21857
  POSITIVE_LONGITUDE_DIRECTION = EAST
  REFERENCE_LATITUDE = "N/A"
  REFERENCE_LONGITUDE = "N/A"
  SAMPLE_FIRST_PIXEL = 1
  SAMPLE_LAST_PIXEL = 1656
  SAMPLE_PROJECTION_OFFSET = 225.875
  SECOND_STANDARD_PARALLEL = "N/A"
  WESTERNMOST_LONGITUDE = 175.829
END_OBJECT = IMAGE_MAP_PROJECTION
END
