PDS_VERSION_ID = PDS3
/* FILE DATA ELEMENTS */
RECORD_TYPE = UNDEFINED
/* POINTERS TO DATA OBJECTS */
^IMAGE = ("H2996_0000_GR4.TIF")
/* IDENTIFICATION DATA ELEMENTS */
DATA_SET_ID = "MEX-M-HRSC-4-REFDR-MAPPROJECT-EXT1-V4.0"
DATA_SET_NAME = "MARS EXPRESS HRSC MAP PROJECTED REFDR EXTENSION1 V4.0"
DETECTOR_ID = MEX_HRSC_GREEN
EVENT_TYPE = "MARS-REGIONAL-MAPPING-Te-Im-Fl"
INSTRUMENT_HOST_ID = MEX
INSTRUMENT_HOST_NAME = "MARS EXPRESS"
INSTRUMENT_ID = HRSC
INSTRUMENT_NAME = "HIGH RESOLUTION STEREO CAMERA"
MISSION_NAME = "MARS EXPRESS"
MISSION_PHASE_NAME = ME_Phase_3
PROCESSING_LEVEL_ID = 4
PRODUCT_CREATION_TIME = 2023-02-09T07:39:13.000Z
PRODUCT_ID = "H2996_0000_GR4.TIF"
RELEASE_ID = 0002
REVISION_ID = 0000
/* QUALITY DATA ELEMENTS */
DATA_QUALITY_ID = 1
DATA_QUALITY_DESC = "Data calculated based on original SPICE kernels"
/* TIME DATA ELEMENTS */
SPACECRAFT_CLOCK_START_COUNT = "1/0095436015.08436"
SPACECRAFT_CLOCK_STOP_COUNT = "1/0095436330.21750"
START_TIME = 2006-05-11T14:01:41.218Z
STOP_TIME = 2006-05-11T14:04:33.066Z
/* ORBITAL DATA ELEMENTS */
ASCENDING_NODE_LONGITUDE = 165.4
MAXIMUM_RESOLUTION = 0.1799
FOOTPRINT_POINT_LATITUDE = (32.4543,32.4544,32.4541,32.4534, 32.4523,32.4502,32.4465,32.4437,32.4404 ,32.4367,32.4325,32.4278,32.422,32.4213 ,32.4115,32.2051,31.9989,31.7946, 31.5905,31.3881,31.1857,30.9853,30.7846 ,30.5861,30.3873,30.1906,29.8958, 29.7013,29.5062,29.3137,29.1209,28.8337 ,28.548,28.3596,28.0768,27.797,27.6105, 27.4262,27.2416,26.9671,26.7847,26.5119 ,26.1526,25.7969,25.2674,24.9187, 24.5719,24.2294,23.7197,23.4662,23.216, 23.1325,23.0959,23.1006,23.1037,23.106, 23.107,23.1076,23.1074,23.1074,23.11, 23.4443,23.7827,24.2081,24.5517,24.812, 25.3359,25.688,26.0445,26.3139,26.4947, 26.6749,26.9483,27.1305,27.4075,27.5922 ,27.7785,27.9657,28.2472,28.4363,28.625 ,28.8165,29.0075,29.2971,29.4902,29.783 ,29.9781,30.1758,30.3729,30.5721, 30.7712,30.9716,31.1731,31.4775,31.6806 ,31.8861,32.0912,32.2987,32.4022, 32.4543)
FOOTPRINT_POINT_LONGITUDE = (46.3912,46.1397,45.9163,45.6927, 45.4686,45.1878,44.8224,44.5972,44.3716 ,44.1455,43.9189,43.6914,43.435,43.4065 ,43.3737,43.3886,43.4033,43.4183, 43.4329,43.4472,43.4607,43.4746,43.4878 ,43.501,43.5146,43.5266,43.545,43.5575, 43.5694,43.581,43.5929,43.6095,43.6262, 43.6373,43.6528,43.6682,43.6784,43.6888 ,43.6988,43.7135,43.7233,43.7327, 43.7542,43.7728,43.7981,43.8145,43.8312 ,43.8477,43.8701,43.8815,43.8921, 43.8958,43.8974,44.2967,44.6564,45.0142 ,45.3114,45.7254,45.9809,46.0005, 46.0136,46.0256,46.0374,46.0525,46.065, 46.0744,46.0942,46.1078,46.1222,46.1322 ,46.1393,46.1466,46.158,46.1658,46.1771 ,46.1848,46.1925,46.2002,46.2119,46.22, 46.2282,46.2363,46.2445,46.2571,46.2654 ,46.2781,46.2867,46.2955,46.3043,46.313 ,46.3222,46.3319,46.3409,46.3546, 46.3642,46.3739,46.3837,46.3935,46.3985 ,46.3912)
ORBIT_NUMBER = 2996
ORBITAL_ECCENTRICITY = 0.572
ORBITAL_INCLINATION = 86.63
ORBITAL_SEMIMAJOR_AXIS = 8625.31
PERIAPSIS_ALTITUDE = 292.01
PERIAPSIS_ARGUMENT_ANGLE = 191.92
PERIAPSIS_TIME = 2006-05-11T14:13:55.000Z
SPACECRAFT_ORIENTATION = (0.0,-1.0,0.0)
^MEX_ORIENTATION_DESC = "MEX_ORIENTATION_DESC.TXT"
SPACECRAFT_POINTING_MODE = ACROSSTRACK
^MEX_POINTING_DESC = "MEX_POINTING_DESC.TXT"
RIGHT_ASCENSION = -1e+32
DECLINATION = -1e+32
OFFSET_ANGLE = -0.5
SPACECRAFT_SOLAR_DISTANCE = 2.47706e+08
TARGET_NAME = MARS
/* CAMERA DATA ELEMENTS */
DETECTOR_TEMPERATURE = 18.3705
FOCAL_PLANE_TEMPERATURE = 8.7872
INST_CMPRS_NAME = "DISCRETE COSINE TRANSFORMATION (DCT)"
INST_CMPRS_RATIO = 14.7913
INST_CMPRS_QUALITY = 0
INST_CMPRS_QUANTZ_TBL_ID = 0
INSTRUMENT_TEMPERATURE = 11.234
LENS_TEMPERATURE = 8.7872
MACROPIXEL_SIZE = 8
MISSING_FRAMES = 0
PIXEL_SUBSAMPLING_FLAG = N
SIGNAL_CHAIN_ID = 2
/* RADIOMETRIC DATA ELEMENTS */
BANDWIDTH = 88.0
CENTER_FILTER_WAVELENGTH = 538.0
RADIANCE_OFFSET = 0.830131
RADIANCE_SCALING_FACTOR = 0.00416922
REFLECTANCE_SCALING_FACTOR = 0.000220249
MEX:REFLECTANCE_OFFSET = 0.0438537
/* IMAGE OBJECT DEFINITIONS */
OBJECT = IMAGE
  INTERCHANGE_FORMAT = BINARY
  LINES = 2775
  LINE_SAMPLES = 752
  SAMPLE_TYPE = UNSIGNED_INTEGER
  SAMPLE_BITS = 8
  BANDS = 1
  BAND_STORAGE_TYPE = BAND_SEQUENTIAL
  MAXIMUM = 255
  MEAN = 135.826
  MINIMUM = 1
  STANDARD_DEVIATION = 24.8364
END_OBJECT = IMAGE
/* MAP OBJECT DEFINITIONS */
OBJECT = IMAGE_MAP_PROJECTION
  ^DATA_SET_MAP_PROJECTION_CATALOG= "DSMAP.CAT"
  A_AXIS_RADIUS = 3396.0
  B_AXIS_RADIUS = 3396.0
  C_AXIS_RADIUS = 3396.0
  CENTER_LATITUDE = 0.0
  CENTER_LONGITUDE = 45.0
  COORDINATE_SYSTEM_NAME = PLANETOGRAPHIC
  COORDINATE_SYSTEM_TYPE = "BODY-FIXED ROTATING"
  EASTERNMOST_LONGITUDE = 46.3985
  FIRST_STANDARD_PARALLEL = "N/A"
  LINE_FIRST_PIXEL = 1
  LINE_LAST_PIXEL = 2775
  LINE_PROJECTION_OFFSET = 9621.8125
  MAP_PROJECTION_ROTATION = 0.0
  MAP_PROJECTION_TYPE = SINUSOIDAL
  MAP_RESOLUTION = 296.356901933333
  MAP_SCALE = 0.2
  MAXIMUM_LATITUDE = 32.4544
  MINIMUM_LATITUDE = 23.0959
  POSITIVE_LONGITUDE_DIRECTION = EAST
  REFERENCE_LATITUDE = "N/A"
  REFERENCE_LONGITUDE = "N/A"
  SAMPLE_FIRST_PIXEL = 1
  SAMPLE_LAST_PIXEL = 752
  SAMPLE_PROJECTION_OFFSET = 408.3125
  SECOND_STANDARD_PARALLEL = "N/A"
  WESTERNMOST_LONGITUDE = 43.3737
END_OBJECT = IMAGE_MAP_PROJECTION
END
