PDS_VERSION_ID = PDS3
/* FILE DATA ELEMENTS */
RECORD_TYPE = UNDEFINED
/* POINTERS TO DATA OBJECTS */
^IMAGE = ("H3003_0000_ND4.TIF")
/* IDENTIFICATION DATA ELEMENTS */
DATA_SET_ID = "MEX-M-HRSC-4-REFDR-MAPPROJECT-EXT1-V4.0"
DATA_SET_NAME = "MARS EXPRESS HRSC MAP PROJECTED REFDR EXTENSION1 V4.0"
DETECTOR_ID = MEX_HRSC_NADIR
EVENT_TYPE = "MARS-REGIONAL-MAPPING-Vo"
INSTRUMENT_HOST_ID = MEX
INSTRUMENT_HOST_NAME = "MARS EXPRESS"
INSTRUMENT_ID = HRSC
INSTRUMENT_NAME = "HIGH RESOLUTION STEREO CAMERA"
MISSION_NAME = "MARS EXPRESS"
MISSION_PHASE_NAME = ME_Phase_3
PROCESSING_LEVEL_ID = 4
PRODUCT_CREATION_TIME = 2023-02-09T11:24:25.000Z
PRODUCT_ID = "H3003_0000_ND4.TIF"
RELEASE_ID = 0003
REVISION_ID = 0000
/* QUALITY DATA ELEMENTS */
DATA_QUALITY_ID = 1
DATA_QUALITY_DESC = "Data calculated based on original SPICE kernels"
/* TIME DATA ELEMENTS */
SPACECRAFT_CLOCK_START_COUNT = "1/0095605718.09045"
SPACECRAFT_CLOCK_STOP_COUNT = "1/0095606058.49556"
START_TIME = 2006-05-13T13:09:26.700Z
STOP_TIME = 2006-05-13T13:13:55.704Z
/* ORBITAL DATA ELEMENTS */
ASCENDING_NODE_LONGITUDE = 165.25
MAXIMUM_RESOLUTION = 0.0121
FOOTPRINT_POINT_LATITUDE = (14.3973,14.3998,14.4008,14.4013, 14.4013,14.4012,13.9947,13.592,13.1942, 12.7961,12.4071,12.0174,11.6268,11.2355 ,10.8435,10.4507,10.0572,9.66303, 9.26811,8.8725,8.29629,7.96349,7.63024, 7.29654,6.9624,6.62784,6.2928,5.95738, 5.62154,5.28529,4.94865,4.61163,4.27422 ,3.94111,3.61387,3.28633,2.9584,2.63016 ,2.14222,1.82419,1.50589,1.18732, 0.868488,0.549376,0.0745191,-0.543065, -1.16141,-1.78068,-2.09057,-2.7022, -2.85181,-2.8613,-2.86279,-2.86453, -2.86456,-2.86438,-2.10361,-1.17475, -0.556351,0.0611139,0.53557,0.854618, 1.17342,1.49195,1.81021,2.1282,2.61575, 2.94395,3.27181,3.59936,3.92656,4.25933 ,4.59672,4.93374,5.27036,5.60659, 5.94242,6.27788,6.61288,6.94748,7.28162 ,7.61531,7.94857,8.28137,8.85563, 9.25128,9.64623,10.0405,10.434,10.8269, 11.219,11.6103,12.0009,12.3908,12.7798, 13.1776,13.7744,14.1815,14.3847, 14.3973)
FOOTPRINT_POINT_LONGITUDE = (78.2678,77.7284,77.3983,76.7664, 76.7514,76.7379,76.7462,76.7539,76.7616 ,76.7696,76.7769,76.7835,76.7905, 76.7966,76.8025,76.8085,76.8146,76.8204 ,76.8262,76.8319,76.8391,76.8434, 76.8474,76.8514,76.8552,76.8586,76.8632 ,76.8663,76.8696,76.8729,76.8759, 76.8786,76.8814,76.8841,76.8869,76.8881 ,76.8913,76.8937,76.8968,76.8987, 76.9005,76.9021,76.9036,76.9057,76.9074 ,76.9103,76.9104,76.9143,76.9154, 76.9179,76.9176,76.9176,77.3673,77.9601 ,77.9704,77.9755,77.983,77.9902,77.9988 ,78.0053,78.0107,78.0144,78.0184, 78.0223,78.0264,78.0306,78.0373,78.042, 78.0464,78.0513,78.0558,78.0616,78.0669 ,78.0724,78.0779,78.0835,78.0893, 78.0963,78.1022,78.1089,78.1151,78.1212 ,78.1276,78.1341,78.1458,78.1543, 78.1625,78.1709,78.1795,78.1882,78.1971 ,78.2058,78.2149,78.2242,78.2332, 78.2436,78.2584,78.269,78.2743,78.2678)
ORBIT_NUMBER = 3003
ORBITAL_ECCENTRICITY = 0.572
ORBITAL_INCLINATION = 86.64
ORBITAL_SEMIMAJOR_AXIS = 8626.2
PERIAPSIS_ALTITUDE = 292.62
PERIAPSIS_ARGUMENT_ANGLE = 190.64
PERIAPSIS_TIME = 2006-05-13T13:15:53.000Z
SPACECRAFT_ORIENTATION = (0.0,-1.0,0.0)
^MEX_ORIENTATION_DESC = "MEX_ORIENTATION_DESC.TXT"
SPACECRAFT_POINTING_MODE = ACROSSTRACK
^MEX_POINTING_DESC = "MEX_POINTING_DESC.TXT"
RIGHT_ASCENSION = -1e+32
DECLINATION = -1e+32
OFFSET_ANGLE = -0.1
SPACECRAFT_SOLAR_DISTANCE = 2.47834e+08
TARGET_NAME = MARS
/* CAMERA DATA ELEMENTS */
DETECTOR_TEMPERATURE = 18.3705
FOCAL_PLANE_TEMPERATURE = 8.5833
INST_CMPRS_NAME = "DISCRETE COSINE TRANSFORMATION (DCT)"
INST_CMPRS_RATIO = 7.55693
INST_CMPRS_QUALITY = 0
INST_CMPRS_QUANTZ_TBL_ID = 0
INSTRUMENT_TEMPERATURE = 11.234
LENS_TEMPERATURE = 8.9911
MACROPIXEL_SIZE = 1
MISSING_FRAMES = 0
PIXEL_SUBSAMPLING_FLAG = N
SIGNAL_CHAIN_ID = 0
/* RADIOMETRIC DATA ELEMENTS */
BANDWIDTH = 177.0
CENTER_FILTER_WAVELENGTH = 677.5
RADIANCE_OFFSET = 0.806589
RADIANCE_SCALING_FACTOR = 0.00959835
REFLECTANCE_SCALING_FACTOR = 0.000313186
MEX:REFLECTANCE_OFFSET = 0.0263183
/* IMAGE OBJECT DEFINITIONS */
OBJECT = IMAGE
  INTERCHANGE_FORMAT = BINARY
  LINES = 81874
  LINE_SAMPLES = 7059
  SAMPLE_TYPE = UNSIGNED_INTEGER
  SAMPLE_BITS = 8
  BANDS = 1
  BAND_STORAGE_TYPE = BAND_SEQUENTIAL
  MAXIMUM = 255
  MEAN = 119.414
  MINIMUM = 1
  STANDARD_DEVIATION = 26.2321
END_OBJECT = IMAGE
/* MAP OBJECT DEFINITIONS */
OBJECT = IMAGE_MAP_PROJECTION
  ^DATA_SET_MAP_PROJECTION_CATALOG= "DSMAP.CAT"
  A_AXIS_RADIUS = 3396.0
  B_AXIS_RADIUS = 3396.0
  C_AXIS_RADIUS = 3396.0
  CENTER_LATITUDE = 0.0
  CENTER_LONGITUDE = 77.0
  COORDINATE_SYSTEM_NAME = PLANETOGRAPHIC
  COORDINATE_SYSTEM_TYPE = "BODY-FIXED ROTATING"
  EASTERNMOST_LONGITUDE = 78.2743
  FIRST_STANDARD_PARALLEL = "N/A"
  LINE_FIRST_PIXEL = 1
  LINE_LAST_PIXEL = 81874
  LINE_PROJECTION_OFFSET = 68295.0
  MAP_PROJECTION_ROTATION = 0.0
  MAP_PROJECTION_TYPE = SINUSOIDAL
  MAP_RESOLUTION = 4741.71043093333
  MAP_SCALE = 0.0125
  MAXIMUM_LATITUDE = 14.4013
  MINIMUM_LATITUDE = -2.86456
  POSITIVE_LONGITUDE_DIRECTION = EAST
  REFERENCE_LATITUDE = "N/A"
  REFERENCE_LONGITUDE = "N/A"
  SAMPLE_FIRST_PIXEL = 1
  SAMPLE_LAST_PIXEL = 7059
  SAMPLE_PROJECTION_OFFSET = 1202.0
  SECOND_STANDARD_PARALLEL = "N/A"
  WESTERNMOST_LONGITUDE = 76.7379
END_OBJECT = IMAGE_MAP_PROJECTION
END
