PDS_VERSION_ID = PDS3
/* FILE DATA ELEMENTS */
RECORD_TYPE = UNDEFINED
/* POINTERS TO DATA OBJECTS */
^IMAGE = ("H3006_0000_P14.TIF")
/* IDENTIFICATION DATA ELEMENTS */
DATA_SET_ID = "MEX-M-HRSC-4-REFDR-MAPPROJECT-EXT1-V4.0"
DATA_SET_NAME = "MARS EXPRESS HRSC MAP PROJECTED REFDR EXTENSION1 V4.0"
DETECTOR_ID = MEX_HRSC_P1
EVENT_TYPE = "MARS-REGIONAL-MAPPING-Vo-Te-Fl"
INSTRUMENT_HOST_ID = MEX
INSTRUMENT_HOST_NAME = "MARS EXPRESS"
INSTRUMENT_ID = HRSC
INSTRUMENT_NAME = "HIGH RESOLUTION STEREO CAMERA"
MISSION_NAME = "MARS EXPRESS"
MISSION_PHASE_NAME = ME_Phase_3
PROCESSING_LEVEL_ID = 4
PRODUCT_CREATION_TIME = 2023-02-09T11:24:25.000Z
PRODUCT_ID = "H3006_0000_P14.TIF"
RELEASE_ID = 0003
REVISION_ID = 0000
/* QUALITY DATA ELEMENTS */
DATA_QUALITY_ID = 1
DATA_QUALITY_DESC = "Data calculated based on original SPICE kernels"
/* TIME DATA ELEMENTS */
SPACECRAFT_CLOCK_START_COUNT = "1/0095678025.07287"
SPACECRAFT_CLOCK_STOP_COUNT = "1/0095678434.63529"
START_TIME = 2006-05-14T09:14:18.147Z
STOP_TIME = 2006-05-14T09:19:23.504Z
/* ORBITAL DATA ELEMENTS */
ASCENDING_NODE_LONGITUDE = 165.18
MAXIMUM_RESOLUTION = 0.0334
FOOTPRINT_POINT_LATITUDE = (28.4143,28.4107,28.4054,28.3984, 28.3895,28.3788,28.3611,28.3602,28.3382 ,27.7234,27.317,26.9155,26.5163,26.1221 ,25.7301,25.3417,24.9569,24.5743, 24.1978,23.6361,23.2653,22.8902,22.3527 ,21.9932,21.4604,21.1074,20.7581, 20.2391,19.8954,19.5557,19.2169,18.8819 ,18.5446,18.2146,17.8861,17.5613,17.237 ,16.9179,16.4394,16.1253,15.8107, 15.5022,15.1929,14.7345,14.4307,14.1283 ,13.5315,13.0894,12.5049,11.9286, 11.4959,11.3551,11.3485,11.3661,11.3758 ,11.376,11.3765,11.8069,12.3818,13.1115 ,13.554,14.1512,14.4541,14.7582,15.2169 ,15.5267,15.8356,16.1508,16.4653,16.944 ,17.2638,17.5881,17.9134,18.2419, 18.5724,18.9099,19.2452,19.5841,19.9241 ,20.2677,20.7874,21.1369,21.4904, 22.0253,22.5665,23.115,23.6707,24.2337, 24.6122,24.9951,25.3814,25.7711,26.1643 ,26.5601,26.9602,27.363,27.7717,28.1826 ,28.3888,28.4143)
FOOTPRINT_POINT_LONGITUDE = (143.487,143.086,142.683,142.279, 141.873,141.466,140.902,140.876,140.853 ,140.892,140.917,140.942,140.965, 140.988,141.009,141.029,141.05,141.069, 141.088,141.115,141.132,141.143,141.173 ,141.187,141.21,141.224,141.238,141.257 ,141.269,141.281,141.292,141.303, 141.315,141.325,141.335,141.345,141.354 ,141.364,141.377,141.386,141.394, 141.402,141.41,141.422,141.429,141.437, 141.45,141.46,141.474,141.484,141.491, 141.494,141.494,142.181,142.937,142.951 ,142.956,142.965,142.978,142.995, 143.005,143.02,143.027,143.035,143.047, 143.055,143.063,143.071,143.079,143.092 ,143.101,143.11,143.119,143.129,143.138 ,143.148,143.158,143.168,143.179,143.19 ,143.206,143.217,143.229,143.247, 143.265,143.284,143.304,143.324,143.338 ,143.353,143.368,143.383,143.398, 143.414,143.43,143.447,143.464,143.482, 143.491,143.487)
ORBIT_NUMBER = 3006
ORBITAL_ECCENTRICITY = 0.572
ORBITAL_INCLINATION = 86.62
ORBITAL_SEMIMAJOR_AXIS = 8621.73
PERIAPSIS_ALTITUDE = 293.51
PERIAPSIS_ARGUMENT_ANGLE = 190.14
PERIAPSIS_TIME = 2006-05-14T09:25:18.000Z
SPACECRAFT_ORIENTATION = (0.0,-1.0,0.0)
^MEX_ORIENTATION_DESC = "MEX_ORIENTATION_DESC.TXT"
SPACECRAFT_POINTING_MODE = ACROSSTRACK
^MEX_POINTING_DESC = "MEX_POINTING_DESC.TXT"
RIGHT_ASCENSION = -1e+32
DECLINATION = -1e+32
OFFSET_ANGLE = -0.54
SPACECRAFT_SOLAR_DISTANCE = 2.47887e+08
TARGET_NAME = MARS
/* CAMERA DATA ELEMENTS */
DETECTOR_TEMPERATURE = 17.1471
FOCAL_PLANE_TEMPERATURE = 7.9716
INST_CMPRS_NAME = "DISCRETE COSINE TRANSFORMATION (DCT)"
INST_CMPRS_RATIO = 10.1284
INST_CMPRS_QUALITY = 0
INST_CMPRS_QUANTZ_TBL_ID = 0
INSTRUMENT_TEMPERATURE = 11.234
LENS_TEMPERATURE = 8.3794
MACROPIXEL_SIZE = 2
MISSING_FRAMES = 1
PIXEL_SUBSAMPLING_FLAG = N
SIGNAL_CHAIN_ID = 3
/* RADIOMETRIC DATA ELEMENTS */
BANDWIDTH = 174.0
CENTER_FILTER_WAVELENGTH = 675.0
RADIANCE_OFFSET = 2.26688
RADIANCE_SCALING_FACTOR = 0.0201254
REFLECTANCE_SCALING_FACTOR = 0.000665174
MEX:REFLECTANCE_OFFSET = 0.0749239
/* IMAGE OBJECT DEFINITIONS */
OBJECT = IMAGE
  INTERCHANGE_FORMAT = BINARY
  LINES = 36654
  LINE_SAMPLES = 5108
  SAMPLE_TYPE = UNSIGNED_INTEGER
  SAMPLE_BITS = 8
  BANDS = 1
  BAND_STORAGE_TYPE = BAND_SEQUENTIAL
  MAXIMUM = 255
  MEAN = 120.371
  MINIMUM = 1
  STANDARD_DEVIATION = 20.6689
END_OBJECT = IMAGE
/* MAP OBJECT DEFINITIONS */
OBJECT = IMAGE_MAP_PROJECTION
  ^DATA_SET_MAP_PROJECTION_CATALOG= "DSMAP.CAT"
  A_AXIS_RADIUS = 3396.0
  B_AXIS_RADIUS = 3396.0
  C_AXIS_RADIUS = 3396.0
  CENTER_LATITUDE = 0.0
  CENTER_LONGITUDE = 142.0
  COORDINATE_SYSTEM_NAME = PLANETOGRAPHIC
  COORDINATE_SYSTEM_TYPE = "BODY-FIXED ROTATING"
  EASTERNMOST_LONGITUDE = 143.491
  FIRST_STANDARD_PARALLEL = "N/A"
  LINE_FIRST_PIXEL = 1
  LINE_LAST_PIXEL = 36654
  LINE_PROJECTION_OFFSET = 67262.75
  MAP_PROJECTION_ROTATION = 0.0
  MAP_PROJECTION_TYPE = SINUSOIDAL
  MAP_RESOLUTION = 2370.85521546667
  MAP_SCALE = 0.025
  MAXIMUM_LATITUDE = 28.4143
  MINIMUM_LATITUDE = 11.3485
  POSITIVE_LONGITUDE_DIRECTION = EAST
  REFERENCE_LATITUDE = "N/A"
  REFERENCE_LONGITUDE = "N/A"
  SAMPLE_FIRST_PIXEL = 1
  SAMPLE_LAST_PIXEL = 5108
  SAMPLE_PROJECTION_OFFSET = 2197.25
  SECOND_STANDARD_PARALLEL = "N/A"
  WESTERNMOST_LONGITUDE = 140.853
END_OBJECT = IMAGE_MAP_PROJECTION
END
