PDS_VERSION_ID = PDS3
/* FILE DATA ELEMENTS */
RECORD_TYPE = UNDEFINED
/* POINTERS TO DATA OBJECTS */
^IMAGE = ("H3024_0000_P24.TIF")
/* IDENTIFICATION DATA ELEMENTS */
DATA_SET_ID = "MEX-M-HRSC-4-REFDR-MAPPROJECT-EXT1-V4.0"
DATA_SET_NAME = "MARS EXPRESS HRSC MAP PROJECTED REFDR EXTENSION1 V4.0"
DETECTOR_ID = MEX_HRSC_P2
EVENT_TYPE = "MARS-REGIONAL-MAPPING-Vo-Gl-Eo"
INSTRUMENT_HOST_ID = MEX
INSTRUMENT_HOST_NAME = "MARS EXPRESS"
INSTRUMENT_ID = HRSC
INSTRUMENT_NAME = "HIGH RESOLUTION STEREO CAMERA"
MISSION_NAME = "MARS EXPRESS"
MISSION_PHASE_NAME = ME_Phase_3
PROCESSING_LEVEL_ID = 4
PRODUCT_CREATION_TIME = 2023-02-09T11:24:25.000Z
PRODUCT_ID = "H3024_0000_P24.TIF"
RELEASE_ID = 0003
REVISION_ID = 0000
/* QUALITY DATA ELEMENTS */
DATA_QUALITY_ID = 1
DATA_QUALITY_DESC = "Data calculated based on original SPICE kernels"
/* TIME DATA ELEMENTS */
SPACECRAFT_CLOCK_START_COUNT = "1/0096113798.09076"
SPACECRAFT_CLOCK_STOP_COUNT = "1/0096114031.32216"
START_TIME = 2006-05-19T10:17:38.667Z
STOP_TIME = 2006-05-19T10:20:26.105Z
/* ORBITAL DATA ELEMENTS */
ASCENDING_NODE_LONGITUDE = 164.8
MAXIMUM_RESOLUTION = 0.0499
FOOTPRINT_POINT_LATITUDE = (10.0251,10.0256,10.0264,10.0271, 10.0283,10.0283,10.0462,9.80821,9.57032 ,9.21294,8.97457,8.73658,8.38077, 8.03451,7.68813,7.45714,7.11045,6.87934 ,6.53343,6.30986,6.08612,5.75052, 5.41482,5.191,4.85518,4.63126,4.4073, 4.0545,3.83819,3.62187,3.29734,2.97278, 2.7564,2.53999,2.2154,1.99901,1.78261, 1.56622,1.248,0.934993,0.726323, 0.517665,0.308797,0.100185,-0.108604, -0.31728,-0.630449,-0.943236,-1.04748, -1.08246,-1.08401,-1.08474,-1.08512, -1.08523,-1.08524,-1.08447,-0.875859, -0.563175,-0.354484,0.0628698,0.37582, 0.584422,0.793299,1.10633,1.31498, 1.63575,1.85213,2.06852,2.28488,2.50127 ,2.71765,3.0422,3.25853,3.47483,3.7993, 4.01558,4.36706,4.59101,4.81492,5.15073 ,5.48647,5.71028,5.93403,6.26959,6.4932 ,6.83789,7.18454,7.41569,7.64674, 7.87773,8.1086,8.33944,8.69398,8.93233, 9.17057,9.40874,9.64682,9.88479,10.0038 ,10.0251)
FOOTPRINT_POINT_LONGITUDE = (174.636,174.362,174.032,173.77,173.428 ,173.417,173.405,173.408,173.41,173.414 ,173.416,173.418,173.421,173.424, 173.427,173.429,173.432,173.433,173.436 ,173.437,173.439,173.441,173.443, 173.444,173.446,173.447,173.448,173.45, 173.451,173.451,173.453,173.454,173.455 ,173.455,173.456,173.457,173.457, 173.458,173.459,173.459,173.46,173.46, 173.46,173.461,173.461,173.461,173.461, 173.462,173.462,173.461,173.747,173.964 ,174.23,174.506,174.516,174.519,174.52, 174.522,174.524,174.527,174.529,174.531 ,174.532,174.535,174.537,174.539, 174.541,174.543,174.545,174.547,174.549 ,174.553,174.555,174.557,174.56,174.563 ,174.567,174.569,174.572,174.576,174.58 ,174.583,174.585,174.59,174.593,174.597 ,174.602,174.605,174.608,174.612, 174.615,174.618,174.624,174.627,174.631 ,174.635,174.638,174.642,174.644, 174.636)
ORBIT_NUMBER = 3024
ORBITAL_ECCENTRICITY = 0.572
ORBITAL_INCLINATION = 86.64
ORBITAL_SEMIMAJOR_AXIS = 8618.29
PERIAPSIS_ALTITUDE = 294.5
PERIAPSIS_ARGUMENT_ANGLE = 186.91
PERIAPSIS_TIME = 2006-05-19T10:21:36.000Z
SPACECRAFT_ORIENTATION = (0.0,-1.0,0.0)
^MEX_ORIENTATION_DESC = "MEX_ORIENTATION_DESC.TXT"
SPACECRAFT_POINTING_MODE = NADIR
^MEX_POINTING_DESC = "MEX_POINTING_DESC.TXT"
RIGHT_ASCENSION = -1e+32
DECLINATION = -1e+32
OFFSET_ANGLE = -1e+32
SPACECRAFT_SOLAR_DISTANCE = 2.48185e+08
TARGET_NAME = MARS
/* CAMERA DATA ELEMENTS */
DETECTOR_TEMPERATURE = 18.5744
FOCAL_PLANE_TEMPERATURE = 8.5833
INST_CMPRS_NAME = "DISCRETE COSINE TRANSFORMATION (DCT)"
INST_CMPRS_RATIO = 7.3462
INST_CMPRS_QUALITY = 0
INST_CMPRS_QUANTZ_TBL_ID = 0
INSTRUMENT_TEMPERATURE = 11.234
LENS_TEMPERATURE = 8.9911
MACROPIXEL_SIZE = 4
PIXEL_SUBSAMPLING_FLAG = N
SIGNAL_CHAIN_ID = 3
/* RADIOMETRIC DATA ELEMENTS */
BANDWIDTH = 177.0
CENTER_FILTER_WAVELENGTH = 676.5
RADIANCE_OFFSET = 2.07286
RADIANCE_SCALING_FACTOR = 0.0142534
REFLECTANCE_SCALING_FACTOR = 0.000465506
MEX:REFLECTANCE_OFFSET = 0.0676984
/* IMAGE OBJECT DEFINITIONS */
OBJECT = IMAGE
  INTERCHANGE_FORMAT = BINARY
  LINES = 13224
  LINE_SAMPLES = 1485
  SAMPLE_TYPE = UNSIGNED_INTEGER
  SAMPLE_BITS = 8
  BANDS = 1
  BAND_STORAGE_TYPE = BAND_SEQUENTIAL
  MAXIMUM = 255
  MEAN = 119.094
  MINIMUM = 1
  STANDARD_DEVIATION = 23.8217
END_OBJECT = IMAGE
/* MAP OBJECT DEFINITIONS */
OBJECT = IMAGE_MAP_PROJECTION
  ^DATA_SET_MAP_PROJECTION_CATALOG= "DSMAP.CAT"
  A_AXIS_RADIUS = 3396.0
  B_AXIS_RADIUS = 3396.0
  C_AXIS_RADIUS = 3396.0
  CENTER_LATITUDE = 0.0
  CENTER_LONGITUDE = 174.0
  COORDINATE_SYSTEM_NAME = PLANETOGRAPHIC
  COORDINATE_SYSTEM_TYPE = "BODY-FIXED ROTATING"
  EASTERNMOST_LONGITUDE = 174.644
  FIRST_STANDARD_PARALLEL = "N/A"
  LINE_FIRST_PIXEL = 1
  LINE_LAST_PIXEL = 13224
  LINE_PROJECTION_OFFSET = 11935.375
  MAP_PROJECTION_ROTATION = 0.0
  MAP_PROJECTION_TYPE = SINUSOIDAL
  MAP_RESOLUTION = 1185.42760773333
  MAP_SCALE = 0.05
  MAXIMUM_LATITUDE = 10.0462
  MINIMUM_LATITUDE = -1.08524
  POSITIVE_LONGITUDE_DIRECTION = EAST
  REFERENCE_LATITUDE = "N/A"
  REFERENCE_LONGITUDE = "N/A"
  SAMPLE_FIRST_PIXEL = 1
  SAMPLE_LAST_PIXEL = 1485
  SAMPLE_PROJECTION_OFFSET = 713.625
  SECOND_STANDARD_PARALLEL = "N/A"
  WESTERNMOST_LONGITUDE = 173.405
END_OBJECT = IMAGE_MAP_PROJECTION
END
