PDS_VERSION_ID = PDS3
/* FILE DATA ELEMENTS */
RECORD_TYPE = UNDEFINED
/* POINTERS TO DATA OBJECTS */
^IMAGE = ("H3030_0000_BL4.TIF")
/* IDENTIFICATION DATA ELEMENTS */
DATA_SET_ID = "MEX-M-HRSC-4-REFDR-MAPPROJECT-EXT1-V4.0"
DATA_SET_NAME = "MARS EXPRESS HRSC MAP PROJECTED REFDR EXTENSION1 V4.0"
DETECTOR_ID = MEX_HRSC_BLUE
EVENT_TYPE = "MARS-REGIONAL-MAPPING-Im-Fl-Lc"
INSTRUMENT_HOST_ID = MEX
INSTRUMENT_HOST_NAME = "MARS EXPRESS"
INSTRUMENT_ID = HRSC
INSTRUMENT_NAME = "HIGH RESOLUTION STEREO CAMERA"
MISSION_NAME = "MARS EXPRESS"
MISSION_PHASE_NAME = ME_Phase_3
PROCESSING_LEVEL_ID = 4
PRODUCT_CREATION_TIME = 2023-02-09T11:24:25.000Z
PRODUCT_ID = "H3030_0000_BL4.TIF"
RELEASE_ID = 0003
REVISION_ID = 0000
/* QUALITY DATA ELEMENTS */
DATA_QUALITY_ID = 1
DATA_QUALITY_DESC = "Data calculated based on original SPICE kernels"
/* TIME DATA ELEMENTS */
SPACECRAFT_CLOCK_START_COUNT = "1/0096259037.07305"
SPACECRAFT_CLOCK_STOP_COUNT = "1/0096259187.49173"
START_TIME = 2006-05-21T02:37:55.936Z
STOP_TIME = 2006-05-21T02:39:29.623Z
/* ORBITAL DATA ELEMENTS */
ASCENDING_NODE_LONGITUDE = 164.67
MAXIMUM_RESOLUTION = 0.0954
FOOTPRINT_POINT_LATITUDE = (4.21986,4.22066,4.22162,4.22255, 4.22349,4.22442,4.22599,4.22605,4.22325 ,4.03504,3.90934,3.72075,3.59513,3.4694 ,3.34363,3.21778,3.09188,2.96587, 2.84008,2.7142,2.52539,2.39965,2.21731, 2.03491,1.91326,1.60979,1.42752,1.24499 ,1.06242,0.940704,0.758043,0.575321, 0.392491,0.270619,0.148695,0.0268081, -0.0950481,-0.27781,-0.39967,-0.521873, -0.644139,-0.827807,-1.01023,-1.132, -1.25381,-1.37551,-1.55837,-1.68032, -1.86327,-1.92425,-1.95779,-1.95866, -1.96038,-1.96142,-1.96229,-1.96373, -1.96379,-1.9623,-1.7794,-1.65749, -1.53556,-1.35291,-1.23111,-1.10913, -0.986137,-0.864195,-0.681388,-0.499, -0.377244,-0.255397,-0.0725892, 0.0492865,0.232134,0.354179,0.537089, 0.658952,0.841642,0.963417,1.08516, 1.26775,1.38943,1.51107,1.81512,2.05767 ,2.36061,2.54891,2.67478,2.80057,2.9265 ,3.05194,3.17762,3.30424,3.43016, 3.61895,3.74474,3.87046,3.99621,4.12188 ,4.18473,4.21986)
FOOTPRINT_POINT_LONGITUDE = (304.756,304.623,304.46,304.296,304.132 ,303.967,303.678,303.668,303.665, 303.666,303.666,303.667,303.667,303.667 ,303.668,303.668,303.669,303.67,303.67, 303.67,303.67,303.67,303.671,303.672, 303.672,303.672,303.672,303.672,303.672 ,303.673,303.673,303.674,303.674, 303.675,303.675,303.675,303.676,303.676 ,303.676,303.677,303.678,303.679, 303.679,303.678,303.678,303.677,303.677 ,303.677,303.677,303.677,303.677, 303.812,304.084,304.277,304.431,304.69, 304.7,304.706,304.707,304.708,304.708, 304.709,304.71,304.71,304.712,304.713, 304.714,304.715,304.716,304.716,304.718 ,304.719,304.72,304.721,304.723,304.724 ,304.725,304.726,304.727,304.729,304.73 ,304.731,304.733,304.735,304.736, 304.739,304.74,304.741,304.742,304.743, 304.744,304.746,304.747,304.749,304.75, 304.751,304.753,304.754,304.755, 304.756)
ORBIT_NUMBER = 3030
ORBITAL_ECCENTRICITY = 0.572
ORBITAL_INCLINATION = 86.63
ORBITAL_SEMIMAJOR_AXIS = 8623.04
PERIAPSIS_ALTITUDE = 296.1
PERIAPSIS_ARGUMENT_ANGLE = 185.87
PERIAPSIS_TIME = 2006-05-21T02:40:24.000Z
SPACECRAFT_ORIENTATION = (0.0,-1.0,0.0)
^MEX_ORIENTATION_DESC = "MEX_ORIENTATION_DESC.TXT"
SPACECRAFT_POINTING_MODE = ACROSSTRACK
^MEX_POINTING_DESC = "MEX_POINTING_DESC.TXT"
RIGHT_ASCENSION = -1e+32
DECLINATION = -1e+32
OFFSET_ANGLE = -0.21
SPACECRAFT_SOLAR_DISTANCE = 2.48276e+08
TARGET_NAME = MARS
/* CAMERA DATA ELEMENTS */
DETECTOR_TEMPERATURE = 17.9627
FOCAL_PLANE_TEMPERATURE = 8.1755
INST_CMPRS_NAME = "DISCRETE COSINE TRANSFORMATION (DCT)"
INST_CMPRS_RATIO = 11.3706
INST_CMPRS_QUALITY = 0
INST_CMPRS_QUANTZ_TBL_ID = 0
INSTRUMENT_TEMPERATURE = 11.0301
LENS_TEMPERATURE = 7.156
MACROPIXEL_SIZE = 8
MISSING_FRAMES = 0
PIXEL_SUBSAMPLING_FLAG = N
SIGNAL_CHAIN_ID = 2
/* RADIOMETRIC DATA ELEMENTS */
BANDWIDTH = 76.0
CENTER_FILTER_WAVELENGTH = 444.0
RADIANCE_OFFSET = 0.416984
RADIANCE_SCALING_FACTOR = 0.00151259
REFLECTANCE_SCALING_FACTOR = 9.57961e-05
MEX:REFLECTANCE_OFFSET = 0.0264086
/* IMAGE OBJECT DEFINITIONS */
OBJECT = IMAGE
  INTERCHANGE_FORMAT = BINARY
  LINES = 3667
  LINE_SAMPLES = 656
  SAMPLE_TYPE = UNSIGNED_INTEGER
  SAMPLE_BITS = 8
  BANDS = 1
  BAND_STORAGE_TYPE = BAND_SEQUENTIAL
  MAXIMUM = 255
  MEAN = 119.25
  MINIMUM = 1
  STANDARD_DEVIATION = 32.0449
END_OBJECT = IMAGE
/* MAP OBJECT DEFINITIONS */
OBJECT = IMAGE_MAP_PROJECTION
  ^DATA_SET_MAP_PROJECTION_CATALOG= "DSMAP.CAT"
  A_AXIS_RADIUS = 3396.0
  B_AXIS_RADIUS = 3396.0
  C_AXIS_RADIUS = 3396.0
  CENTER_LATITUDE = 0.0
  CENTER_LONGITUDE = 304.0
  COORDINATE_SYSTEM_NAME = PLANETOGRAPHIC
  COORDINATE_SYSTEM_TYPE = "BODY-FIXED ROTATING"
  EASTERNMOST_LONGITUDE = 304.756
  FIRST_STANDARD_PARALLEL = "N/A"
  LINE_FIRST_PIXEL = 1
  LINE_LAST_PIXEL = 3667
  LINE_PROJECTION_OFFSET = 2505.6875
  MAP_PROJECTION_ROTATION = 0.0
  MAP_PROJECTION_TYPE = SINUSOIDAL
  MAP_RESOLUTION = 592.713803866667
  MAP_SCALE = 0.1
  MAXIMUM_LATITUDE = 4.22605
  MINIMUM_LATITUDE = -1.96379
  POSITIVE_LONGITUDE_DIRECTION = EAST
  REFERENCE_LATITUDE = "N/A"
  REFERENCE_LONGITUDE = "N/A"
  SAMPLE_FIRST_PIXEL = 1
  SAMPLE_LAST_PIXEL = 656
  SAMPLE_PROJECTION_OFFSET = 207.0625
  SECOND_STANDARD_PARALLEL = "N/A"
  WESTERNMOST_LONGITUDE = 303.665
END_OBJECT = IMAGE_MAP_PROJECTION
END
