PDS_VERSION_ID = PDS3
/* FILE DATA ELEMENTS */
RECORD_TYPE = UNDEFINED
/* POINTERS TO DATA OBJECTS */
^IMAGE = ("H3030_0000_IR4.TIF")
/* IDENTIFICATION DATA ELEMENTS */
DATA_SET_ID = "MEX-M-HRSC-4-REFDR-MAPPROJECT-EXT1-V4.0"
DATA_SET_NAME = "MARS EXPRESS HRSC MAP PROJECTED REFDR EXTENSION1 V4.0"
DETECTOR_ID = MEX_HRSC_IR
EVENT_TYPE = "MARS-REGIONAL-MAPPING-Im-Fl-Lc"
INSTRUMENT_HOST_ID = MEX
INSTRUMENT_HOST_NAME = "MARS EXPRESS"
INSTRUMENT_ID = HRSC
INSTRUMENT_NAME = "HIGH RESOLUTION STEREO CAMERA"
MISSION_NAME = "MARS EXPRESS"
MISSION_PHASE_NAME = ME_Phase_3
PROCESSING_LEVEL_ID = 4
PRODUCT_CREATION_TIME = 2023-02-09T11:24:25.000Z
PRODUCT_ID = "H3030_0000_IR4.TIF"
RELEASE_ID = 0003
REVISION_ID = 0000
/* QUALITY DATA ELEMENTS */
DATA_QUALITY_ID = 1
DATA_QUALITY_DESC = "Data calculated based on original SPICE kernels"
/* TIME DATA ELEMENTS */
SPACECRAFT_CLOCK_START_COUNT = "1/0096259037.07305"
SPACECRAFT_CLOCK_STOP_COUNT = "1/0096259187.49173"
START_TIME = 2006-05-21T02:37:27.405Z
STOP_TIME = 2006-05-21T02:39:03.263Z
/* ORBITAL DATA ELEMENTS */
ASCENDING_NODE_LONGITUDE = 164.67
MAXIMUM_RESOLUTION = 0.1006
FOOTPRINT_POINT_LATITUDE = (4.21655,4.21487,4.21363,4.21219, 4.21055,4.20874,4.20673,4.2066,4.20988, 4.08149,3.95546,3.83075,3.64056,3.51392 ,3.38799,3.26566,3.14345,2.96059, 2.83789,2.7146,2.52992,2.40688,2.28354, 2.16081,1.97768,1.85346,1.73115,1.60656 ,1.42038,1.29711,1.17391,1.05058, 0.927238,0.803804,0.680451,0.439788, 0.261566,0.0239061,-0.215113,-0.393796, -0.571252,-0.747181,-0.867301,-0.988517 ,-1.10879,-1.28932,-1.41041,-1.53056, -1.65072,-1.77085,-1.89106,-1.95118, -1.97223,-1.96912,-1.96668,-1.96461, -1.96241,-1.96217,-1.96062,-1.78031, -1.59995,-1.41911,-1.23821,-0.944085, -0.764341,-0.64405,-0.403091,-0.223367, 0.0152329,0.194181,0.372121,0.609478, 0.731862,0.855289,0.978457,1.16322, 1.28643,1.40965,1.53285,1.65596,1.84071 ,1.96422,2.0906,2.21517,2.39964,2.52067 ,2.64355,2.76685,2.951,3.07446,3.25685, 3.37824,3.50279,3.62895,3.75528,3.88162 ,4.00779,4.13405,4.19715,4.21655)
FOOTPRINT_POINT_LONGITUDE = (304.771,304.508,304.339,304.17,304.0, 303.83,303.659,303.648,303.645,303.645, 303.646,303.647,303.648,303.649,303.649 ,303.65,303.651,303.652,303.653,303.653 ,303.653,303.654,303.654,303.654, 303.656,303.656,303.657,303.656,303.656 ,303.657,303.657,303.658,303.658, 303.658,303.659,303.66,303.661,303.662, 303.663,303.663,303.665,303.667,303.667 ,303.667,303.666,303.666,303.666, 303.666,303.666,303.666,303.666,303.667 ,303.667,303.932,304.188,304.452, 304.696,304.706,304.712,304.713,304.714 ,304.715,304.717,304.72,304.721,304.722 ,304.724,304.725,304.727,304.729,304.73 ,304.733,304.734,304.735,304.736, 304.738,304.739,304.741,304.742,304.743 ,304.745,304.746,304.746,304.747, 304.749,304.751,304.752,304.753,304.755 ,304.756,304.759,304.76,304.762,304.763 ,304.765,304.766,304.768,304.769,304.77 ,304.771)
ORBIT_NUMBER = 3030
ORBITAL_ECCENTRICITY = 0.572
ORBITAL_INCLINATION = 86.63
ORBITAL_SEMIMAJOR_AXIS = 8623.04
PERIAPSIS_ALTITUDE = 296.1
PERIAPSIS_ARGUMENT_ANGLE = 185.87
PERIAPSIS_TIME = 2006-05-21T02:40:24.000Z
SPACECRAFT_ORIENTATION = (0.0,-1.0,0.0)
^MEX_ORIENTATION_DESC = "MEX_ORIENTATION_DESC.TXT"
SPACECRAFT_POINTING_MODE = ACROSSTRACK
^MEX_POINTING_DESC = "MEX_POINTING_DESC.TXT"
RIGHT_ASCENSION = -1e+32
DECLINATION = -1e+32
OFFSET_ANGLE = -0.21
SPACECRAFT_SOLAR_DISTANCE = 2.48276e+08
TARGET_NAME = MARS
/* CAMERA DATA ELEMENTS */
DETECTOR_TEMPERATURE = 17.1471
FOCAL_PLANE_TEMPERATURE = 8.1755
INST_CMPRS_NAME = "DISCRETE COSINE TRANSFORMATION (DCT)"
INST_CMPRS_RATIO = 12.7672
INST_CMPRS_QUALITY = 0
INST_CMPRS_QUANTZ_TBL_ID = 0
INSTRUMENT_TEMPERATURE = 11.0301
LENS_TEMPERATURE = 7.156
MACROPIXEL_SIZE = 8
MISSING_FRAMES = 0
PIXEL_SUBSAMPLING_FLAG = N
SIGNAL_CHAIN_ID = 2
/* RADIOMETRIC DATA ELEMENTS */
BANDWIDTH = 81.0
CENTER_FILTER_WAVELENGTH = 955.5
RADIANCE_OFFSET = 0.312822
RADIANCE_SCALING_FACTOR = 0.00490702
REFLECTANCE_SCALING_FACTOR = 0.000652551
MEX:REFLECTANCE_OFFSET = 0.0416001
/* IMAGE OBJECT DEFINITIONS */
OBJECT = IMAGE
  INTERCHANGE_FORMAT = BINARY
  LINES = 3667
  LINE_SAMPLES = 656
  SAMPLE_TYPE = UNSIGNED_INTEGER
  SAMPLE_BITS = 8
  BANDS = 1
  BAND_STORAGE_TYPE = BAND_SEQUENTIAL
  MAXIMUM = 255
  MEAN = 86.4529
  MINIMUM = 1
  STANDARD_DEVIATION = 40.5692
END_OBJECT = IMAGE
/* MAP OBJECT DEFINITIONS */
OBJECT = IMAGE_MAP_PROJECTION
  ^DATA_SET_MAP_PROJECTION_CATALOG= "DSMAP.CAT"
  A_AXIS_RADIUS = 3396.0
  B_AXIS_RADIUS = 3396.0
  C_AXIS_RADIUS = 3396.0
  CENTER_LATITUDE = 0.0
  CENTER_LONGITUDE = 304.0
  COORDINATE_SYSTEM_NAME = PLANETOGRAPHIC
  COORDINATE_SYSTEM_TYPE = "BODY-FIXED ROTATING"
  EASTERNMOST_LONGITUDE = 304.771
  FIRST_STANDARD_PARALLEL = "N/A"
  LINE_FIRST_PIXEL = 1
  LINE_LAST_PIXEL = 3667
  LINE_PROJECTION_OFFSET = 2505.6875
  MAP_PROJECTION_ROTATION = 0.0
  MAP_PROJECTION_TYPE = SINUSOIDAL
  MAP_RESOLUTION = 592.713803866667
  MAP_SCALE = 0.1
  MAXIMUM_LATITUDE = 4.21655
  MINIMUM_LATITUDE = -1.97223
  POSITIVE_LONGITUDE_DIRECTION = EAST
  REFERENCE_LATITUDE = "N/A"
  REFERENCE_LONGITUDE = "N/A"
  SAMPLE_FIRST_PIXEL = 1
  SAMPLE_LAST_PIXEL = 656
  SAMPLE_PROJECTION_OFFSET = 207.0625
  SECOND_STANDARD_PARALLEL = "N/A"
  WESTERNMOST_LONGITUDE = 303.645
END_OBJECT = IMAGE_MAP_PROJECTION
END
