PDS_VERSION_ID = PDS3
/* FILE DATA ELEMENTS */
RECORD_TYPE = UNDEFINED
/* POINTERS TO DATA OBJECTS */
^IMAGE = ("H3032_0000_ND4.TIF")
/* IDENTIFICATION DATA ELEMENTS */
DATA_SET_ID = "MEX-M-HRSC-4-REFDR-MAPPROJECT-EXT1-V4.0"
DATA_SET_NAME = "MARS EXPRESS HRSC MAP PROJECTED REFDR EXTENSION1 V4.0"
DETECTOR_ID = MEX_HRSC_NADIR
EVENT_TYPE = "MARS-REGIONAL-STEREO-Te-Pf"
INSTRUMENT_HOST_ID = MEX
INSTRUMENT_HOST_NAME = "MARS EXPRESS"
INSTRUMENT_ID = HRSC
INSTRUMENT_NAME = "HIGH RESOLUTION STEREO CAMERA"
MISSION_NAME = "MARS EXPRESS"
MISSION_PHASE_NAME = ME_Phase_3
PROCESSING_LEVEL_ID = 4
PRODUCT_CREATION_TIME = 2023-02-09T11:24:25.000Z
PRODUCT_ID = "H3032_0000_ND4.TIF"
RELEASE_ID = 0003
REVISION_ID = 0000
/* QUALITY DATA ELEMENTS */
DATA_QUALITY_ID = 1
DATA_QUALITY_DESC = "Data calculated based on original SPICE kernels"
/* TIME DATA ELEMENTS */
SPACECRAFT_CLOCK_START_COUNT = "1/0096307154.09073"
SPACECRAFT_CLOCK_STOP_COUNT = "1/0096307476.64579"
START_TIME = 2006-05-21T16:00:02.907Z
STOP_TIME = 2006-05-21T16:04:12.896Z
/* ORBITAL DATA ELEMENTS */
ASCENDING_NODE_LONGITUDE = 164.64
MAXIMUM_RESOLUTION = 0.0127
FOOTPRINT_POINT_LATITUDE = (20.2042,20.203,20.2003,20.1953,20.1952 ,20.1949,19.8296,19.4635,18.9226, 18.5641,18.2071,17.8567,17.5056,17.1539 ,16.8016,16.4486,16.095,15.7408,15.386, 15.0266,14.6706,14.3141,13.9569,13.6114 ,13.3113,13.0108,12.7099,12.4087, 12.1071,11.8052,11.5028,11.2002,10.8971 ,10.5938,10.2901,9.9861,9.68181,9.37715 ,9.07277,8.77739,8.48172,8.18575, 7.74126,7.44467,7.00315,6.42822,5.70679 ,5.13,4.41703,4.27746,4.26846,4.26715, 4.26553,4.26549,4.26567,4.97383,5.83943 ,6.41692,6.99208,7.58199,7.87857, 8.17504,8.47115,8.76694,9.06252,9.36673 ,9.67153,9.97604,10.2802,10.5841, 10.8877,11.1909,11.4938,11.7964,12.0985 ,12.4004,12.7018,13.0029,13.3037,13.604 ,13.948,14.3055,14.6624,15.0187,15.3784 ,15.7336,16.0882,16.4422,16.7955, 17.1483,17.5004,17.8519,18.2028,18.5599 ,18.9189,19.2772,19.6437,20.01,20.1928, 20.2042)
FOOTPRINT_POINT_LONGITUDE = (107.759,107.252,106.735,106.141, 106.124,106.09,106.102,106.114,106.131, 106.142,106.153,106.163,106.173,106.184 ,106.193,106.202,106.211,106.221, 106.229,106.238,106.246,106.254,106.262 ,106.269,106.275,106.281,106.288, 106.292,106.298,106.304,106.31,106.317, 106.322,106.326,106.331,106.338,106.339 ,106.345,106.351,106.353,106.356,106.36 ,106.37,106.371,106.369,106.378,106.382 ,106.385,106.39,106.391,106.391,106.979 ,107.521,107.532,107.537,107.544, 107.552,107.56,107.566,107.572,107.576, 107.578,107.582,107.586,107.589,107.593 ,107.597,107.601,107.604,107.608, 107.612,107.615,107.619,107.623,107.627 ,107.631,107.636,107.64,107.644,107.648 ,107.653,107.659,107.664,107.67,107.675 ,107.681,107.686,107.692,107.698, 107.704,107.709,107.715,107.721,107.728 ,107.734,107.74,107.747,107.754,107.757 ,107.759)
ORBIT_NUMBER = 3032
ORBITAL_ECCENTRICITY = 0.572
ORBITAL_INCLINATION = 86.63
ORBITAL_SEMIMAJOR_AXIS = 8628.36
PERIAPSIS_ALTITUDE = 296.1
PERIAPSIS_ARGUMENT_ANGLE = 185.48
PERIAPSIS_TIME = 2006-05-21T16:06:40.000Z
SPACECRAFT_ORIENTATION = (0.0,-1.0,0.0)
^MEX_ORIENTATION_DESC = "MEX_ORIENTATION_DESC.TXT"
SPACECRAFT_POINTING_MODE = ACROSSTRACK
^MEX_POINTING_DESC = "MEX_POINTING_DESC.TXT"
RIGHT_ASCENSION = -1e+32
DECLINATION = -1e+32
OFFSET_ANGLE = -0.9
SPACECRAFT_SOLAR_DISTANCE = 2.48306e+08
TARGET_NAME = MARS
/* CAMERA DATA ELEMENTS */
DETECTOR_TEMPERATURE = 18.1666
FOCAL_PLANE_TEMPERATURE = 8.7872
INST_CMPRS_NAME = "DISCRETE COSINE TRANSFORMATION (DCT)"
INST_CMPRS_RATIO = 7.03431
INST_CMPRS_QUALITY = 0
INST_CMPRS_QUANTZ_TBL_ID = 0
INSTRUMENT_TEMPERATURE = 11.234
LENS_TEMPERATURE = 9.195
MACROPIXEL_SIZE = 1
PIXEL_SUBSAMPLING_FLAG = N
SIGNAL_CHAIN_ID = 0
/* RADIOMETRIC DATA ELEMENTS */
BANDWIDTH = 177.0
CENTER_FILTER_WAVELENGTH = 677.5
RADIANCE_OFFSET = 1.82301
RADIANCE_SCALING_FACTOR = 0.0155691
REFLECTANCE_SCALING_FACTOR = 0.000509942
MEX:REFLECTANCE_OFFSET = 0.05971
/* IMAGE OBJECT DEFINITIONS */
OBJECT = IMAGE
  INTERCHANGE_FORMAT = BINARY
  LINES = 75579
  LINE_SAMPLES = 7420
  SAMPLE_TYPE = UNSIGNED_INTEGER
  SAMPLE_BITS = 8
  BANDS = 1
  BAND_STORAGE_TYPE = BAND_SEQUENTIAL
  MAXIMUM = 255
  MEAN = 121.239
  MINIMUM = 1
  STANDARD_DEVIATION = 21.5969
END_OBJECT = IMAGE
/* MAP OBJECT DEFINITIONS */
OBJECT = IMAGE_MAP_PROJECTION
  ^DATA_SET_MAP_PROJECTION_CATALOG= "DSMAP.CAT"
  A_AXIS_RADIUS = 3396.0
  B_AXIS_RADIUS = 3396.0
  C_AXIS_RADIUS = 3396.0
  CENTER_LATITUDE = 0.0
  CENTER_LONGITUDE = 107.0
  COORDINATE_SYSTEM_NAME = PLANETOGRAPHIC
  COORDINATE_SYSTEM_TYPE = "BODY-FIXED ROTATING"
  EASTERNMOST_LONGITUDE = 107.759
  FIRST_STANDARD_PARALLEL = "N/A"
  LINE_FIRST_PIXEL = 1
  LINE_LAST_PIXEL = 75579
  LINE_PROJECTION_OFFSET = 95807.0
  MAP_PROJECTION_ROTATION = 0.0
  MAP_PROJECTION_TYPE = SINUSOIDAL
  MAP_RESOLUTION = 4741.71043093333
  MAP_SCALE = 0.0125
  MAXIMUM_LATITUDE = 20.2042
  MINIMUM_LATITUDE = 4.26549
  POSITIVE_LONGITUDE_DIRECTION = EAST
  REFERENCE_LATITUDE = "N/A"
  REFERENCE_LONGITUDE = "N/A"
  SAMPLE_FIRST_PIXEL = 1
  SAMPLE_LAST_PIXEL = 7420
  SAMPLE_PROJECTION_OFFSET = 4048.0
  SECOND_STANDARD_PARALLEL = "N/A"
  WESTERNMOST_LONGITUDE = 106.09
END_OBJECT = IMAGE_MAP_PROJECTION
END
