PDS_VERSION_ID = PDS3
/* FILE DATA ELEMENTS */
RECORD_TYPE = UNDEFINED
/* POINTERS TO DATA OBJECTS */
^IMAGE = ("H3032_0000_RE4.TIF")
/* IDENTIFICATION DATA ELEMENTS */
DATA_SET_ID = "MEX-M-HRSC-4-REFDR-MAPPROJECT-EXT1-V4.0"
DATA_SET_NAME = "MARS EXPRESS HRSC MAP PROJECTED REFDR EXTENSION1 V4.0"
DETECTOR_ID = MEX_HRSC_RED
EVENT_TYPE = "MARS-REGIONAL-STEREO-Te-Pf"
INSTRUMENT_HOST_ID = MEX
INSTRUMENT_HOST_NAME = "MARS EXPRESS"
INSTRUMENT_ID = HRSC
INSTRUMENT_NAME = "HIGH RESOLUTION STEREO CAMERA"
MISSION_NAME = "MARS EXPRESS"
MISSION_PHASE_NAME = ME_Phase_3
PROCESSING_LEVEL_ID = 4
PRODUCT_CREATION_TIME = 2023-02-09T11:24:25.000Z
PRODUCT_ID = "H3032_0000_RE4.TIF"
RELEASE_ID = 0003
REVISION_ID = 0000
/* QUALITY DATA ELEMENTS */
DATA_QUALITY_ID = 1
DATA_QUALITY_DESC = "Data calculated based on original SPICE kernels"
/* TIME DATA ELEMENTS */
SPACECRAFT_CLOCK_START_COUNT = "1/0096307154.09073"
SPACECRAFT_CLOCK_STOP_COUNT = "1/0096307476.64579"
START_TIME = 2006-05-21T16:00:34.731Z
STOP_TIME = 2006-05-21T16:04:35.732Z
/* ORBITAL DATA ELEMENTS */
ASCENDING_NODE_LONGITUDE = 164.64
MAXIMUM_RESOLUTION = 0.1043
FOOTPRINT_POINT_LATITUDE = (20.2207,20.2368,20.253,20.2741,20.2746 ,20.304,19.754,19.3865,18.8343,18.466, 18.097,17.7281,17.358,16.9872,16.6171, 16.061,15.6895,15.3542,15.0431,14.7316, 14.4198,14.1077,13.7955,13.4828,13.1712 ,12.8583,12.5454,12.2328,11.9193, 11.4486,11.1332,10.6675,10.3628,10.0568 ,9.75615,9.29768,8.99407,8.69388, 8.25392,7.95941,7.65944,7.22614,6.93557 ,6.63952,6.34509,6.059,5.77492,5.20824, 4.4988,4.35693,4.32824,4.28872,4.26477, 4.26422,4.26545,4.83276,5.11812,5.68991 ,6.25272,6.54387,6.83875,7.27977, 7.57331,7.86371,8.16555,8.45934,8.75252 ,9.05653,9.36064,9.66282,9.96651, 10.2709,10.7278,11.0441,11.3594,11.6735 ,11.9864,12.2994,12.6102,12.9244, 13.2384,13.5506,13.8627,14.3308,14.7983 ,15.11,15.4212,15.9669,16.338,16.8944, 17.2651,17.635,18.0043,18.3741,18.7428, 19.111,19.6629,20.0304,20.2137,20.2207)
FOOTPRINT_POINT_LONGITUDE = (107.719,107.261,106.793,106.181, 106.166,106.131,106.147,106.158,106.174 ,106.184,106.194,106.204,106.214, 106.224,106.232,106.245,106.254,106.262 ,106.268,106.275,106.281,106.288, 106.294,106.3,106.305,106.311,106.316, 106.321,106.327,106.335,106.341,106.348 ,106.353,106.359,106.361,106.369, 106.372,106.374,106.378,106.382,106.39, 106.387,106.386,106.391,106.393,106.395 ,106.397,106.4,106.403,106.404,106.404, 107.077,107.508,107.518,107.525,107.53, 107.532,107.536,107.543,107.546,107.549 ,107.553,107.556,107.559,107.561, 107.564,107.567,107.571,107.574,107.577 ,107.581,107.584,107.589,107.592, 107.595,107.598,107.602,107.606,107.61, 107.614,107.617,107.621,107.625,107.631 ,107.638,107.642,107.646,107.653, 107.658,107.666,107.671,107.677,107.682 ,107.688,107.693,107.699,107.707, 107.713,107.716,107.719)
ORBIT_NUMBER = 3032
ORBITAL_ECCENTRICITY = 0.572
ORBITAL_INCLINATION = 86.63
ORBITAL_SEMIMAJOR_AXIS = 8628.36
PERIAPSIS_ALTITUDE = 296.1
PERIAPSIS_ARGUMENT_ANGLE = 185.48
PERIAPSIS_TIME = 2006-05-21T16:06:40.000Z
SPACECRAFT_ORIENTATION = (0.0,-1.0,0.0)
^MEX_ORIENTATION_DESC = "MEX_ORIENTATION_DESC.TXT"
SPACECRAFT_POINTING_MODE = ACROSSTRACK
^MEX_POINTING_DESC = "MEX_POINTING_DESC.TXT"
RIGHT_ASCENSION = -1e+32
DECLINATION = -1e+32
OFFSET_ANGLE = -0.9
SPACECRAFT_SOLAR_DISTANCE = 2.48306e+08
TARGET_NAME = MARS
/* CAMERA DATA ELEMENTS */
DETECTOR_TEMPERATURE = 18.7783
FOCAL_PLANE_TEMPERATURE = 8.7872
INST_CMPRS_NAME = "DISCRETE COSINE TRANSFORMATION (DCT)"
INST_CMPRS_RATIO = 8.4449
INST_CMPRS_QUALITY = 0
INST_CMPRS_QUANTZ_TBL_ID = 0
INSTRUMENT_TEMPERATURE = 11.234
LENS_TEMPERATURE = 9.195
MACROPIXEL_SIZE = 8
MISSING_FRAMES = 0
PIXEL_SUBSAMPLING_FLAG = N
SIGNAL_CHAIN_ID = 2
/* RADIOMETRIC DATA ELEMENTS */
BANDWIDTH = 48.0
CENTER_FILTER_WAVELENGTH = 748.0
RADIANCE_OFFSET = 0.610899
RADIANCE_SCALING_FACTOR = 0.00456536
REFLECTANCE_SCALING_FACTOR = 0.000642352
MEX:REFLECTANCE_OFFSET = 0.0859543
/* IMAGE OBJECT DEFINITIONS */
OBJECT = IMAGE
  INTERCHANGE_FORMAT = BINARY
  LINES = 9448
  LINE_SAMPLES = 928
  SAMPLE_TYPE = UNSIGNED_INTEGER
  SAMPLE_BITS = 8
  BANDS = 1
  BAND_STORAGE_TYPE = BAND_SEQUENTIAL
  MAXIMUM = 255
  MEAN = 118.116
  MINIMUM = 1
  STANDARD_DEVIATION = 20.7438
END_OBJECT = IMAGE
/* MAP OBJECT DEFINITIONS */
OBJECT = IMAGE_MAP_PROJECTION
  ^DATA_SET_MAP_PROJECTION_CATALOG= "DSMAP.CAT"
  A_AXIS_RADIUS = 3396.0
  B_AXIS_RADIUS = 3396.0
  C_AXIS_RADIUS = 3396.0
  CENTER_LATITUDE = 0.0
  CENTER_LONGITUDE = 107.0
  COORDINATE_SYSTEM_NAME = PLANETOGRAPHIC
  COORDINATE_SYSTEM_TYPE = "BODY-FIXED ROTATING"
  EASTERNMOST_LONGITUDE = 107.719
  FIRST_STANDARD_PARALLEL = "N/A"
  LINE_FIRST_PIXEL = 1
  LINE_LAST_PIXEL = 9448
  LINE_PROJECTION_OFFSET = 11975.4375
  MAP_PROJECTION_ROTATION = 0.0
  MAP_PROJECTION_TYPE = SINUSOIDAL
  MAP_RESOLUTION = 592.713803866667
  MAP_SCALE = 0.1
  MAXIMUM_LATITUDE = 20.304
  MINIMUM_LATITUDE = 4.26422
  POSITIVE_LONGITUDE_DIRECTION = EAST
  REFERENCE_LATITUDE = "N/A"
  REFERENCE_LONGITUDE = "N/A"
  SAMPLE_FIRST_PIXEL = 1
  SAMPLE_LAST_PIXEL = 928
  SAMPLE_PROJECTION_OFFSET = 505.5625
  SECOND_STANDARD_PARALLEL = "N/A"
  WESTERNMOST_LONGITUDE = 106.131
END_OBJECT = IMAGE_MAP_PROJECTION
END
