PDS_VERSION_ID = PDS3
/* FILE DATA ELEMENTS */
RECORD_TYPE = UNDEFINED
/* POINTERS TO DATA OBJECTS */
^IMAGE = ("H3032_0000_S14.TIF")
/* IDENTIFICATION DATA ELEMENTS */
DATA_SET_ID = "MEX-M-HRSC-4-REFDR-MAPPROJECT-EXT1-V4.0"
DATA_SET_NAME = "MARS EXPRESS HRSC MAP PROJECTED REFDR EXTENSION1 V4.0"
DETECTOR_ID = MEX_HRSC_S1
EVENT_TYPE = "MARS-REGIONAL-STEREO-Te-Pf"
INSTRUMENT_HOST_ID = MEX
INSTRUMENT_HOST_NAME = "MARS EXPRESS"
INSTRUMENT_ID = HRSC
INSTRUMENT_NAME = "HIGH RESOLUTION STEREO CAMERA"
MISSION_NAME = "MARS EXPRESS"
MISSION_PHASE_NAME = ME_Phase_3
PROCESSING_LEVEL_ID = 4
PRODUCT_CREATION_TIME = 2023-02-09T11:24:25.000Z
PRODUCT_ID = "H3032_0000_S14.TIF"
RELEASE_ID = 0003
REVISION_ID = 0000
/* QUALITY DATA ELEMENTS */
DATA_QUALITY_ID = 1
DATA_QUALITY_DESC = "Data calculated based on original SPICE kernels"
/* TIME DATA ELEMENTS */
SPACECRAFT_CLOCK_START_COUNT = "1/0096307154.09073"
SPACECRAFT_CLOCK_STOP_COUNT = "1/0096307476.64579"
START_TIME = 2006-05-21T15:59:19.545Z
STOP_TIME = 2006-05-21T16:03:44.429Z
/* ORBITAL DATA ELEMENTS */
ASCENDING_NODE_LONGITUDE = 164.64
MAXIMUM_RESOLUTION = 0.0277
FOOTPRINT_POINT_LATITUDE = (20.1604,20.1374,20.1108,20.0741,20.073 ,20.0346,19.6726,19.13,18.7735,18.4162, 17.8901,17.5399,17.1965,16.8519,16.3416 ,16.0028,15.6663,15.3343,15.0009, 14.4993,14.1643,13.8284,13.321,12.9825, 12.4726,12.1312,11.7912,11.3023,11.0165 ,10.7259,10.4369,10.1499,9.85698, 9.56434,9.27692,8.98259,8.54113,8.10076 ,7.66538,7.21247,6.91651,6.34134, 6.05334,5.76478,5.4751,5.04129,4.3379, 4.19704,4.17296,4.19703,4.2164,4.24318, 4.2438,4.24428,4.66798,5.2278,5.51532, 5.80574,6.09895,6.39605,6.82606,7.11371 ,7.40999,7.70843,8.14494,8.43956, 8.73679,9.03046,9.32276,9.61676,9.90874 ,10.1995,10.4881,10.7771,11.2071,11.494 ,12.0055,12.3481,12.6906,13.1987,13.538 ,13.8763,14.2132,14.5496,14.8849,15.219 ,15.5528,15.8844,16.225,16.5634,16.9041 ,17.25,17.5952,18.1213,18.472,18.8294, 19.3658,19.9115,20.093,20.1604)
FOOTPRINT_POINT_LONGITUDE = (107.816,107.28,106.734,106.074,106.056 ,106.026,106.039,106.059,106.072, 106.084,106.102,106.113,106.125,106.136 ,106.151,106.161,106.171,106.18,106.189 ,106.202,106.211,106.22,106.231,106.239 ,106.251,106.258,106.266,106.276, 106.284,106.288,106.294,106.301,106.304 ,106.308,106.316,106.32,106.325,106.332 ,106.343,106.342,106.343,106.35,106.353 ,106.357,106.359,106.362,106.368, 106.369,106.37,106.745,107.077,107.534, 107.545,107.549,107.554,107.559,107.562 ,107.566,107.57,107.575,107.58,107.584, 107.588,107.592,107.597,107.601,107.605 ,107.61,107.614,107.618,107.622,107.627 ,107.631,107.635,107.641,107.646, 107.654,107.66,107.666,107.674,107.68, 107.686,107.692,107.698,107.705,107.711 ,107.717,107.724,107.73,107.737,107.744 ,107.751,107.758,107.769,107.777, 107.785,107.797,107.809,107.814, 107.816)
ORBIT_NUMBER = 3032
ORBITAL_ECCENTRICITY = 0.572
ORBITAL_INCLINATION = 86.63
ORBITAL_SEMIMAJOR_AXIS = 8628.36
PERIAPSIS_ALTITUDE = 296.1
PERIAPSIS_ARGUMENT_ANGLE = 185.48
PERIAPSIS_TIME = 2006-05-21T16:06:40.000Z
SPACECRAFT_ORIENTATION = (0.0,-1.0,0.0)
^MEX_ORIENTATION_DESC = "MEX_ORIENTATION_DESC.TXT"
SPACECRAFT_POINTING_MODE = ACROSSTRACK
^MEX_POINTING_DESC = "MEX_POINTING_DESC.TXT"
RIGHT_ASCENSION = -1e+32
DECLINATION = -1e+32
OFFSET_ANGLE = -0.9
SPACECRAFT_SOLAR_DISTANCE = 2.48306e+08
TARGET_NAME = MARS
/* CAMERA DATA ELEMENTS */
DETECTOR_TEMPERATURE = 17.7588
FOCAL_PLANE_TEMPERATURE = 8.7872
INST_CMPRS_NAME = "DISCRETE COSINE TRANSFORMATION (DCT)"
INST_CMPRS_RATIO = 7.47792
INST_CMPRS_QUALITY = 0
INST_CMPRS_QUANTZ_TBL_ID = 0
INSTRUMENT_TEMPERATURE = 11.234
LENS_TEMPERATURE = 9.195
MACROPIXEL_SIZE = 2
MISSING_FRAMES = 0
PIXEL_SUBSAMPLING_FLAG = N
SIGNAL_CHAIN_ID = 1
/* RADIOMETRIC DATA ELEMENTS */
BANDWIDTH = 180.0
CENTER_FILTER_WAVELENGTH = 677.0
RADIANCE_OFFSET = 2.40846
RADIANCE_SCALING_FACTOR = 0.0164125
REFLECTANCE_SCALING_FACTOR = 0.000527947
MEX:REFLECTANCE_OFFSET = 0.0774737
/* IMAGE OBJECT DEFINITIONS */
OBJECT = IMAGE
  INTERCHANGE_FORMAT = BINARY
  LINES = 37790
  LINE_SAMPLES = 3710
  SAMPLE_TYPE = UNSIGNED_INTEGER
  SAMPLE_BITS = 8
  BANDS = 1
  BAND_STORAGE_TYPE = BAND_SEQUENTIAL
  MAXIMUM = 255
  MEAN = 128.637
  MINIMUM = 1
  STANDARD_DEVIATION = 21.4868
END_OBJECT = IMAGE
/* MAP OBJECT DEFINITIONS */
OBJECT = IMAGE_MAP_PROJECTION
  ^DATA_SET_MAP_PROJECTION_CATALOG= "DSMAP.CAT"
  A_AXIS_RADIUS = 3396.0
  B_AXIS_RADIUS = 3396.0
  C_AXIS_RADIUS = 3396.0
  CENTER_LATITUDE = 0.0
  CENTER_LONGITUDE = 107.0
  COORDINATE_SYSTEM_NAME = PLANETOGRAPHIC
  COORDINATE_SYSTEM_TYPE = "BODY-FIXED ROTATING"
  EASTERNMOST_LONGITUDE = 107.816
  FIRST_STANDARD_PARALLEL = "N/A"
  LINE_FIRST_PIXEL = 1
  LINE_LAST_PIXEL = 37790
  LINE_PROJECTION_OFFSET = 47903.25
  MAP_PROJECTION_ROTATION = 0.0
  MAP_PROJECTION_TYPE = SINUSOIDAL
  MAP_RESOLUTION = 2370.85521546667
  MAP_SCALE = 0.025
  MAXIMUM_LATITUDE = 20.1604
  MINIMUM_LATITUDE = 4.17296
  POSITIVE_LONGITUDE_DIRECTION = EAST
  REFERENCE_LATITUDE = "N/A"
  REFERENCE_LONGITUDE = "N/A"
  SAMPLE_FIRST_PIXEL = 1
  SAMPLE_LAST_PIXEL = 3710
  SAMPLE_PROJECTION_OFFSET = 2023.75
  SECOND_STANDARD_PARALLEL = "N/A"
  WESTERNMOST_LONGITUDE = 106.026
END_OBJECT = IMAGE_MAP_PROJECTION
END
