PDS_VERSION_ID = PDS3
/* FILE DATA ELEMENTS */
RECORD_TYPE = UNDEFINED
/* POINTERS TO DATA OBJECTS */
^IMAGE = ("H3035_0000_P14.TIF")
/* IDENTIFICATION DATA ELEMENTS */
DATA_SET_ID = "MEX-M-HRSC-4-REFDR-MAPPROJECT-EXT1-V4.0"
DATA_SET_NAME = "MARS EXPRESS HRSC MAP PROJECTED REFDR EXTENSION1 V4.0"
DETECTOR_ID = MEX_HRSC_P1
EVENT_TYPE = "MARS-REGIONAL-MAPPING-Vo-Gl-Eo"
INSTRUMENT_HOST_ID = MEX
INSTRUMENT_HOST_NAME = "MARS EXPRESS"
INSTRUMENT_ID = HRSC
INSTRUMENT_NAME = "HIGH RESOLUTION STEREO CAMERA"
MISSION_NAME = "MARS EXPRESS"
MISSION_PHASE_NAME = ME_Phase_3
PROCESSING_LEVEL_ID = 4
PRODUCT_CREATION_TIME = 2023-02-09T11:24:25.000Z
PRODUCT_ID = "H3035_0000_P14.TIF"
RELEASE_ID = 0003
REVISION_ID = 0000
/* QUALITY DATA ELEMENTS */
DATA_QUALITY_ID = 1
DATA_QUALITY_DESC = "Data calculated based on original SPICE kernels"
/* TIME DATA ELEMENTS */
SPACECRAFT_CLOCK_START_COUNT = "1/0096379782.09056"
SPACECRAFT_CLOCK_STOP_COUNT = "1/0096380106.25591"
START_TIME = 2006-05-22T12:10:01.109Z
STOP_TIME = 2006-05-22T12:14:26.146Z
/* ORBITAL DATA ELEMENTS */
ASCENDING_NODE_LONGITUDE = 164.57
MAXIMUM_RESOLUTION = 0.0511
FOOTPRINT_POINT_LATITUDE = (17.3081,17.3106,17.3103,17.3084, 17.3083,17.2844,16.9055,16.5259,15.9548 ,15.3804,14.9964,14.6119,14.2254, 13.8382,13.4599,13.1341,12.8067,12.4793 ,12.1513,11.8227,11.4935,11.1637, 10.6678,10.3367,10.0043,9.67165,9.17387 ,8.85053,8.52754,8.20223,7.87742, 7.38993,7.07451,6.7586,6.44227,6.12546, 5.80827,5.49061,5.0215,4.40569,4.09695, 3.63341,3.16912,2.85897,2.24277,1.64243 ,0.890325,0.739686,0.68421,0.683205, 0.680701,0.680642,0.681376,1.13313, 1.73447,2.33457,2.64382,2.9541,3.26404, 3.57362,3.88282,4.19161,4.50006,5.11576 ,5.42918,5.74697,6.06429,6.38114, 6.69764,7.01366,7.32917,7.81472,8.13983 ,8.46443,8.78845,9.11195,9.44136, 9.77448,10.107,10.4389,10.7701,11.1008, 11.4309,11.7604,12.0891,12.4172,12.7447 ,13.0715,13.3976,13.961,14.3457,14.7329 ,15.1167,15.5008,15.8841,16.2652, 16.6458,17.0256,17.215,17.3081)
FOOTPRINT_POINT_LONGITUDE = (173.856,173.176,172.78,172.355,172.341 ,172.327,172.335,172.344,172.356, 172.368,172.376,172.383,172.39,172.397, 172.403,172.409,172.413,172.419,172.423 ,172.428,172.433,172.437,172.444, 172.448,172.452,172.456,172.462,172.465 ,172.469,172.472,172.475,172.479, 172.482,172.484,172.487,172.489,172.492 ,172.494,172.497,172.5,172.502,172.504, 172.507,172.508,172.51,172.512,172.514, 172.514,172.514,172.988,173.584,173.594 ,173.598,173.601,173.607,173.612, 173.615,173.618,173.622,173.625,173.628 ,173.632,173.636,173.643,173.647, 173.651,173.655,173.66,173.664,173.668, 173.673,173.68,173.685,173.69,173.695, 173.7,173.706,173.711,173.717,173.723, 173.729,173.735,173.741,173.747,173.753 ,173.759,173.766,173.772,173.779,173.79 ,173.799,173.807,173.816,173.824, 173.833,173.842,173.851,173.861,173.865 ,173.856)
ORBIT_NUMBER = 3035
ORBITAL_ECCENTRICITY = 0.572
ORBITAL_INCLINATION = 86.64
ORBITAL_SEMIMAJOR_AXIS = 8619.67
PERIAPSIS_ALTITUDE = 297.0
PERIAPSIS_ARGUMENT_ANGLE = 184.96
PERIAPSIS_TIME = 2006-05-22T12:16:09.000Z
SPACECRAFT_ORIENTATION = (0.0,-1.0,0.0)
^MEX_ORIENTATION_DESC = "MEX_ORIENTATION_DESC.TXT"
SPACECRAFT_POINTING_MODE = NADIR
^MEX_POINTING_DESC = "MEX_POINTING_DESC.TXT"
RIGHT_ASCENSION = -1e+32
DECLINATION = -1e+32
OFFSET_ANGLE = -1e+32
SPACECRAFT_SOLAR_DISTANCE = 2.48349e+08
TARGET_NAME = MARS
/* CAMERA DATA ELEMENTS */
DETECTOR_TEMPERATURE = 17.351
FOCAL_PLANE_TEMPERATURE = 8.3794
INST_CMPRS_NAME = "DISCRETE COSINE TRANSFORMATION (DCT)"
INST_CMPRS_RATIO = 8.52991
INST_CMPRS_QUALITY = 0
INST_CMPRS_QUANTZ_TBL_ID = 0
INSTRUMENT_TEMPERATURE = 11.8457
LENS_TEMPERATURE = 8.5833
MACROPIXEL_SIZE = 4
MISSING_FRAMES = 0
PIXEL_SUBSAMPLING_FLAG = N
SIGNAL_CHAIN_ID = 3
/* RADIOMETRIC DATA ELEMENTS */
BANDWIDTH = 174.0
CENTER_FILTER_WAVELENGTH = 675.0
RADIANCE_OFFSET = 2.25531
RADIANCE_SCALING_FACTOR = 0.0175936
REFLECTANCE_SCALING_FACTOR = 0.000583666
MEX:REFLECTANCE_OFFSET = 0.0748197
/* IMAGE OBJECT DEFINITIONS */
OBJECT = IMAGE
  INTERCHANGE_FORMAT = BINARY
  LINES = 19743
  LINE_SAMPLES = 1685
  SAMPLE_TYPE = UNSIGNED_INTEGER
  SAMPLE_BITS = 8
  BANDS = 1
  BAND_STORAGE_TYPE = BAND_SEQUENTIAL
  MAXIMUM = 255
  MEAN = 119.577
  MINIMUM = 1
  STANDARD_DEVIATION = 22.8712
END_OBJECT = IMAGE
/* MAP OBJECT DEFINITIONS */
OBJECT = IMAGE_MAP_PROJECTION
  ^DATA_SET_MAP_PROJECTION_CATALOG= "DSMAP.CAT"
  A_AXIS_RADIUS = 3396.0
  B_AXIS_RADIUS = 3396.0
  C_AXIS_RADIUS = 3396.0
  CENTER_LATITUDE = 0.0
  CENTER_LONGITUDE = 173.0
  COORDINATE_SYSTEM_NAME = PLANETOGRAPHIC
  COORDINATE_SYSTEM_TYPE = "BODY-FIXED ROTATING"
  EASTERNMOST_LONGITUDE = 173.865
  FIRST_STANDARD_PARALLEL = "N/A"
  LINE_FIRST_PIXEL = 1
  LINE_LAST_PIXEL = 19743
  LINE_PROJECTION_OFFSET = 20602.375
  MAP_PROJECTION_ROTATION = 0.0
  MAP_PROJECTION_TYPE = SINUSOIDAL
  MAP_RESOLUTION = 1185.42760773333
  MAP_SCALE = 0.05
  MAXIMUM_LATITUDE = 17.3106
  MINIMUM_LATITUDE = 0.680642
  POSITIVE_LONGITUDE_DIRECTION = EAST
  REFERENCE_LATITUDE = "N/A"
  REFERENCE_LONGITUDE = "N/A"
  SAMPLE_FIRST_PIXEL = 1
  SAMPLE_LAST_PIXEL = 1685
  SAMPLE_PROJECTION_OFFSET = 735.125
  SECOND_STANDARD_PARALLEL = "N/A"
  WESTERNMOST_LONGITUDE = 172.327
END_OBJECT = IMAGE_MAP_PROJECTION
END
