PDS_VERSION_ID = PDS3
/* FILE DATA ELEMENTS */
RECORD_TYPE = UNDEFINED
/* POINTERS TO DATA OBJECTS */
^IMAGE = ("H3038_0000_P24.TIF")
/* IDENTIFICATION DATA ELEMENTS */
DATA_SET_ID = "MEX-M-HRSC-4-REFDR-MAPPROJECT-EXT1-V4.0"
DATA_SET_NAME = "MARS EXPRESS HRSC MAP PROJECTED REFDR EXTENSION1 V4.0"
DETECTOR_ID = MEX_HRSC_P2
EVENT_TYPE = "MARS-REGIONAL-MAPPING-Vo-Te"
INSTRUMENT_HOST_ID = MEX
INSTRUMENT_HOST_NAME = "MARS EXPRESS"
INSTRUMENT_ID = HRSC
INSTRUMENT_NAME = "HIGH RESOLUTION STEREO CAMERA"
MISSION_NAME = "MARS EXPRESS"
MISSION_PHASE_NAME = ME_Phase_3
PROCESSING_LEVEL_ID = 4
PRODUCT_CREATION_TIME = 2023-02-09T11:24:25.000Z
PRODUCT_ID = "H3038_0000_P24.TIF"
RELEASE_ID = 0003
REVISION_ID = 0000
/* QUALITY DATA ELEMENTS */
DATA_QUALITY_ID = 1
DATA_QUALITY_DESC = "Data calculated based on original SPICE kernels"
/* TIME DATA ELEMENTS */
SPACECRAFT_CLOCK_START_COUNT = "1/0096452351.08413"
SPACECRAFT_CLOCK_STOP_COUNT = "1/0096452548.39803"
START_TIME = 2006-05-23T08:20:19.321Z
STOP_TIME = 2006-05-23T08:22:22.284Z
/* ORBITAL DATA ELEMENTS */
ASCENDING_NODE_LONGITUDE = 164.51
MAXIMUM_RESOLUTION = 0.0531
FOOTPRINT_POINT_LATITUDE = (17.1037,17.1039,17.104,17.1041,17.1042 ,17.1042,17.1042,17.1042,17.1023, 16.9414,16.6993,16.5379,16.2958,16.1341 ,15.9727,15.8109,15.5685,15.4069, 15.2452,15.0835,14.9219,14.7603,14.5983 ,14.4364,14.2745,14.0314,13.8692, 13.7071,13.5452,13.3829,13.2205,13.0581 ,12.8956,12.6519,12.4893,12.3269, 12.0833,11.8392,11.6761,11.5132,11.3503 ,11.1876,10.9433,10.7804,10.6184, 10.3029,9.98762,9.51117,9.11416,9.03468 ,8.98485,8.98441,8.9834,8.9821,8.98181, 8.98187,8.98186,8.9827,9.30078,9.6195, 9.93744,10.2531,10.5685,10.8106,10.9736 ,11.1365,11.3808,11.6248,11.7875, 12.0316,12.1942,12.3568,12.6006,12.7632 ,12.9257,13.0881,13.2503,13.4125, 13.5746,13.8178,13.9798,14.1418,14.3038 ,14.4658,14.6277,14.7894,15.032,15.1938 ,15.3554,15.517,15.6789,15.8403,16.1624 ,16.3238,16.4849,16.6467,16.8086,16.97, 17.0506,17.1037)
FOOTPRINT_POINT_LONGITUDE = (239.02,238.632,238.451,238.231,238.037 ,237.817,237.649,237.636,237.633, 237.636,237.641,237.644,237.649,237.652 ,237.654,237.657,237.662,237.664, 237.667,237.67,237.672,237.675,237.677, 237.68,237.682,237.686,237.688,237.69, 237.692,237.695,237.697,237.699,237.701 ,237.704,237.706,237.708,237.711, 237.714,237.716,237.718,237.72,237.722, 237.724,237.726,237.727,237.73,237.733, 237.739,237.743,237.744,237.745,237.967 ,238.179,238.507,238.697,238.867, 238.878,238.881,238.886,238.892,238.897 ,238.902,238.906,238.91,238.912,238.915 ,238.918,238.922,238.924,238.928, 238.931,238.933,238.937,238.94,238.943, 238.945,238.948,238.951,238.953,238.957 ,238.96,238.963,238.966,238.969,238.971 ,238.974,238.979,238.982,238.985, 238.988,238.991,238.994,239.0,239.003, 239.006,239.009,239.013,239.016,239.018 ,239.02)
ORBIT_NUMBER = 3038
ORBITAL_ECCENTRICITY = 0.572
ORBITAL_INCLINATION = 86.63
ORBITAL_SEMIMAJOR_AXIS = 8637.15
PERIAPSIS_ALTITUDE = 296.53
PERIAPSIS_ARGUMENT_ANGLE = 184.43
PERIAPSIS_TIME = 2006-05-23T08:25:27.000Z
SPACECRAFT_ORIENTATION = (0.0,-1.0,0.0)
^MEX_ORIENTATION_DESC = "MEX_ORIENTATION_DESC.TXT"
SPACECRAFT_POINTING_MODE = NADIR
^MEX_POINTING_DESC = "MEX_POINTING_DESC.TXT"
RIGHT_ASCENSION = -1e+32
DECLINATION = -1e+32
OFFSET_ANGLE = -1e+32
SPACECRAFT_SOLAR_DISTANCE = 2.48392e+08
TARGET_NAME = MARS
/* CAMERA DATA ELEMENTS */
DETECTOR_TEMPERATURE = 18.5744
FOCAL_PLANE_TEMPERATURE = 7.9716
INST_CMPRS_NAME = "DISCRETE COSINE TRANSFORMATION (DCT)"
INST_CMPRS_RATIO = 9.34118
INST_CMPRS_QUALITY = 0
INST_CMPRS_QUANTZ_TBL_ID = 0
INSTRUMENT_TEMPERATURE = 11.234
LENS_TEMPERATURE = 8.3794
MACROPIXEL_SIZE = 4
MISSING_FRAMES = 0
PIXEL_SUBSAMPLING_FLAG = N
SIGNAL_CHAIN_ID = 3
/* RADIOMETRIC DATA ELEMENTS */
BANDWIDTH = 177.0
CENTER_FILTER_WAVELENGTH = 676.5
RADIANCE_OFFSET = 2.57618
RADIANCE_SCALING_FACTOR = 0.0217768
REFLECTANCE_SCALING_FACTOR = 0.000712402
MEX:REFLECTANCE_OFFSET = 0.0842764
/* IMAGE OBJECT DEFINITIONS */
OBJECT = IMAGE
  INTERCHANGE_FORMAT = BINARY
  LINES = 9623
  LINE_SAMPLES = 1626
  SAMPLE_TYPE = UNSIGNED_INTEGER
  SAMPLE_BITS = 8
  BANDS = 1
  BAND_STORAGE_TYPE = BAND_SEQUENTIAL
  MAXIMUM = 255
  MEAN = 114.598
  MINIMUM = 1
  STANDARD_DEVIATION = 16.7204
END_OBJECT = IMAGE
/* MAP OBJECT DEFINITIONS */
OBJECT = IMAGE_MAP_PROJECTION
  ^DATA_SET_MAP_PROJECTION_CATALOG= "DSMAP.CAT"
  A_AXIS_RADIUS = 3396.0
  B_AXIS_RADIUS = 3396.0
  C_AXIS_RADIUS = 3396.0
  CENTER_LATITUDE = 0.0
  CENTER_LONGITUDE = 238.0
  COORDINATE_SYSTEM_NAME = PLANETOGRAPHIC
  COORDINATE_SYSTEM_TYPE = "BODY-FIXED ROTATING"
  EASTERNMOST_LONGITUDE = 239.02
  FIRST_STANDARD_PARALLEL = "N/A"
  LINE_FIRST_PIXEL = 1
  LINE_LAST_PIXEL = 9623
  LINE_PROJECTION_OFFSET = 20314.125
  MAP_PROJECTION_ROTATION = 0.0
  MAP_PROJECTION_TYPE = SINUSOIDAL
  MAP_RESOLUTION = 1185.42760773333
  MAP_SCALE = 0.05
  MAXIMUM_LATITUDE = 17.1042
  MINIMUM_LATITUDE = 8.981809999999999
  POSITIVE_LONGITUDE_DIRECTION = EAST
  REFERENCE_LATITUDE = "N/A"
  REFERENCE_LONGITUDE = "N/A"
  SAMPLE_FIRST_PIXEL = 1
  SAMPLE_LAST_PIXEL = 1626
  SAMPLE_PROJECTION_OFFSET = 444.125
  SECOND_STANDARD_PARALLEL = "N/A"
  WESTERNMOST_LONGITUDE = 237.633
END_OBJECT = IMAGE_MAP_PROJECTION
END
