PDS_VERSION_ID = PDS3
/* FILE DATA ELEMENTS */
RECORD_TYPE = UNDEFINED
/* POINTERS TO DATA OBJECTS */
^IMAGE = ("H3047_0001_BL4.TIF")
/* IDENTIFICATION DATA ELEMENTS */
DATA_SET_ID = "MEX-M-HRSC-4-REFDR-MAPPROJECT-EXT1-V4.0"
DATA_SET_NAME = "MARS EXPRESS HRSC MAP PROJECTED REFDR EXTENSION1 V4.0"
DETECTOR_ID = MEX_HRSC_BLUE
EVENT_TYPE = "MARS-REGIONAL-MAPPING-Vo"
INSTRUMENT_HOST_ID = MEX
INSTRUMENT_HOST_NAME = "MARS EXPRESS"
INSTRUMENT_ID = HRSC
INSTRUMENT_NAME = "HIGH RESOLUTION STEREO CAMERA"
MISSION_NAME = "MARS EXPRESS"
MISSION_PHASE_NAME = ME_Phase_3
PROCESSING_LEVEL_ID = 4
PRODUCT_CREATION_TIME = 2023-02-09T11:24:25.000Z
PRODUCT_ID = "H3047_0001_BL4.TIF"
RELEASE_ID = 0003
REVISION_ID = 0000
/* QUALITY DATA ELEMENTS */
DATA_QUALITY_ID = 1
DATA_QUALITY_DESC = "Data calculated based on original SPICE kernels"
/* TIME DATA ELEMENTS */
SPACECRAFT_CLOCK_START_COUNT = "1/0096670302.09053"
SPACECRAFT_CLOCK_STOP_COUNT = "1/0096670460.49315"
START_TIME = 2006-05-25T20:52:19.534Z
STOP_TIME = 2006-05-25T20:54:02.554Z
/* ORBITAL DATA ELEMENTS */
ASCENDING_NODE_LONGITUDE = 164.32
MAXIMUM_RESOLUTION = 0.0944
FOOTPRINT_POINT_LATITUDE = (3.41837,3.41879,3.41898,3.41918, 3.41937,3.41964,3.41965,3.41653,3.01484 ,2.74699,2.47906,2.34503,2.21104, 2.07703,1.94303,1.809,1.6749,1.54085, 1.4068,1.27269,1.1386,0.937493,0.803414 ,0.669254,0.535144,0.400999,0.199836, 0.0657169,-0.0684051,-0.202541, -0.336618,-0.47075,-0.604897,-0.806102, -0.940253,-1.07442,-1.20852,-1.34272, -1.47688,-1.61105,-1.81236,-1.9466, -2.0807,-2.21477,-2.41587,-2.55009, -2.68414,-2.81834,-2.95266,-3.08672, -3.28768,-3.3547,-3.39434,-3.39443, -3.39422,-3.39436,-3.39443,-3.39443, -3.39443,-3.3929,-3.25887,-3.05783, -2.8566,-2.72241,-2.45451,-2.25331, -2.11922,-1.98519,-1.85089,-1.7167, -1.44883,-1.3146,-1.11337,-0.979258, -0.845125,-0.643968,-0.44277,-0.308615, -0.1074,0.0266844,0.16065,0.361884, 0.496079,0.630193,0.764325,0.898415, 1.03248,1.23356,1.36763,1.56873,1.70277 ,1.90384,2.10486,2.23888,2.43983, 2.57381,2.90872,3.31034,3.37728, 3.41837)
FOOTPRINT_POINT_LONGITUDE = (74.5479,74.26,74.1016,73.9435,73.7859, 73.5105,73.5007,73.4979,73.4985,73.4988 ,73.4991,73.4993,73.4994,73.4995, 73.4995,73.4996,73.4997,73.4997,73.4997 ,73.4998,73.4998,73.4997,73.4996, 73.4996,73.4996,73.4995,73.4993,73.4992 ,73.499,73.4989,73.4987,73.4985,73.4983 ,73.498,73.4978,73.4976,73.4973,73.4971 ,73.4968,73.4966,73.4963,73.4961, 73.4958,73.4954,73.4947,73.4945,73.4941 ,73.4938,73.4937,73.4933,73.4924, 73.4922,73.4921,73.6331,73.8141,74.0723 ,74.2547,74.4954,74.505,74.5114,74.5117 ,74.5119,74.5127,74.5133,74.5133, 74.5139,74.5143,74.5145,74.5154,74.516, 74.516,74.5167,74.5175,74.518,74.5186, 74.5193,74.5202,74.5209,74.5219,74.5224 ,74.5227,74.5239,74.5248,74.5255, 74.5264,74.5271,74.5278,74.5289,74.5297 ,74.531,74.5319,74.5332,74.5346,74.5355 ,74.5369,74.5378,74.5404,74.5433, 74.5438,74.5479)
ORBIT_NUMBER = 3047
ORBITAL_ECCENTRICITY = 0.572
ORBITAL_INCLINATION = 86.65
ORBITAL_SEMIMAJOR_AXIS = 8629.49
PERIAPSIS_ALTITUDE = 296.98
PERIAPSIS_ARGUMENT_ANGLE = 182.82
PERIAPSIS_TIME = 2006-05-25T20:53:50.000Z
SPACECRAFT_ORIENTATION = (0.0,-1.0,0.0)
^MEX_ORIENTATION_DESC = "MEX_ORIENTATION_DESC.TXT"
SPACECRAFT_POINTING_MODE = ACROSSTRACK
^MEX_POINTING_DESC = "MEX_POINTING_DESC.TXT"
RIGHT_ASCENSION = -1e+32
DECLINATION = -1e+32
OFFSET_ANGLE = 0.15
SPACECRAFT_SOLAR_DISTANCE = 2.48512e+08
TARGET_NAME = MARS
/* CAMERA DATA ELEMENTS */
DETECTOR_TEMPERATURE = 19.39
FOCAL_PLANE_TEMPERATURE = 8.1755
INST_CMPRS_NAME = "DISCRETE COSINE TRANSFORMATION (DCT)"
INST_CMPRS_RATIO = 18.2599
INST_CMPRS_QUALITY = 0
INST_CMPRS_QUANTZ_TBL_ID = 0
INSTRUMENT_TEMPERATURE = 12.8652
LENS_TEMPERATURE = 8.7872
MACROPIXEL_SIZE = 8
MISSING_FRAMES = 0
PIXEL_SUBSAMPLING_FLAG = N
SIGNAL_CHAIN_ID = 2
/* RADIOMETRIC DATA ELEMENTS */
BANDWIDTH = 76.0
CENTER_FILTER_WAVELENGTH = 444.0
RADIANCE_OFFSET = 0.245996
RADIANCE_SCALING_FACTOR = 0.00144704
REFLECTANCE_SCALING_FACTOR = 9.18189e-05
MEX:REFLECTANCE_OFFSET = 0.0156092
/* IMAGE OBJECT DEFINITIONS */
OBJECT = IMAGE
  INTERCHANGE_FORMAT = BINARY
  LINES = 4033
  LINE_SAMPLES = 632
  SAMPLE_TYPE = UNSIGNED_INTEGER
  SAMPLE_BITS = 8
  BANDS = 1
  BAND_STORAGE_TYPE = BAND_SEQUENTIAL
  MAXIMUM = 255
  MEAN = 138.216
  MINIMUM = 1
  STANDARD_DEVIATION = 22.285
END_OBJECT = IMAGE
/* MAP OBJECT DEFINITIONS */
OBJECT = IMAGE_MAP_PROJECTION
  ^DATA_SET_MAP_PROJECTION_CATALOG= "DSMAP.CAT"
  A_AXIS_RADIUS = 3396.0
  B_AXIS_RADIUS = 3396.0
  C_AXIS_RADIUS = 3396.0
  CENTER_LATITUDE = 0.0
  CENTER_LONGITUDE = 74.0
  COORDINATE_SYSTEM_NAME = PLANETOGRAPHIC
  COORDINATE_SYSTEM_TYPE = "BODY-FIXED ROTATING"
  EASTERNMOST_LONGITUDE = 74.5479
  FIRST_STANDARD_PARALLEL = "N/A"
  LINE_FIRST_PIXEL = 1
  LINE_LAST_PIXEL = 4033
  LINE_PROJECTION_OFFSET = 2025.6875
  MAP_PROJECTION_ROTATION = 0.0
  MAP_PROJECTION_TYPE = SINUSOIDAL
  MAP_RESOLUTION = 592.713803866667
  MAP_SCALE = 0.1
  MAXIMUM_LATITUDE = 3.41965
  MINIMUM_LATITUDE = -3.39443
  POSITIVE_LONGITUDE_DIRECTION = EAST
  REFERENCE_LATITUDE = "N/A"
  REFERENCE_LONGITUDE = "N/A"
  SAMPLE_FIRST_PIXEL = 1
  SAMPLE_LAST_PIXEL = 632
  SAMPLE_PROJECTION_OFFSET = 305.9375
  SECOND_STANDARD_PARALLEL = "N/A"
  WESTERNMOST_LONGITUDE = 73.49209999999999
END_OBJECT = IMAGE_MAP_PROJECTION
END
