PDS_VERSION_ID = PDS3
/* FILE DATA ELEMENTS */
RECORD_TYPE = UNDEFINED
/* POINTERS TO DATA OBJECTS */
^IMAGE = ("H3052_0000_GR4.TIF")
/* IDENTIFICATION DATA ELEMENTS */
DATA_SET_ID = "MEX-M-HRSC-4-REFDR-MAPPROJECT-EXT1-V4.0"
DATA_SET_NAME = "MARS EXPRESS HRSC MAP PROJECTED REFDR EXTENSION1 V4.0"
DETECTOR_ID = MEX_HRSC_GREEN
EVENT_TYPE = "MARS-REGIONAL-MAPPING-Im-Fl-Lc"
INSTRUMENT_HOST_ID = MEX
INSTRUMENT_HOST_NAME = "MARS EXPRESS"
INSTRUMENT_ID = HRSC
INSTRUMENT_NAME = "HIGH RESOLUTION STEREO CAMERA"
MISSION_NAME = "MARS EXPRESS"
MISSION_PHASE_NAME = ME_Phase_3
PROCESSING_LEVEL_ID = 4
PRODUCT_CREATION_TIME = 2023-02-09T11:24:25.000Z
PRODUCT_ID = "H3052_0000_GR4.TIF"
RELEASE_ID = 0003
REVISION_ID = 0000
/* QUALITY DATA ELEMENTS */
DATA_QUALITY_ID = 1
DATA_QUALITY_DESC = "Data calculated based on original SPICE kernels"
/* TIME DATA ELEMENTS */
SPACECRAFT_CLOCK_START_COUNT = "1/0096791193.07284"
SPACECRAFT_CLOCK_STOP_COUNT = "1/0096791349.23528"
START_TIME = 2006-05-27T06:27:02.788Z
STOP_TIME = 2006-05-27T06:28:41.985Z
/* ORBITAL DATA ELEMENTS */
ASCENDING_NODE_LONGITUDE = 164.21
MAXIMUM_RESOLUTION = 0.0959
FOOTPRINT_POINT_LATITUDE = (7.71329,7.71372,7.71419,7.71458, 7.71488,7.71509,7.71524,7.71524,7.71262 ,7.57726,7.44179,7.30617,7.10283, 6.96722,6.83612,6.70514,6.57416,6.44311 ,6.31199,6.1809,5.98408,5.85284,5.72156 ,5.59029,5.45894,5.32758,5.19617,4.9989 ,4.86736,4.66988,4.53828,4.40682, 4.27506,4.14339,4.0118,3.88222,3.62795, 3.43709,3.11928,2.9284,2.73676,2.60904, 2.48149,2.35408,2.10046,1.97297,1.78175 ,1.65421,1.46277,1.33506,1.27125, 1.21045,1.21008,1.2096,1.20917,1.20884, 1.20839,1.20768,1.20765,1.20915,1.33672 ,1.46431,1.59201,1.71959,1.91086, 2.10201,2.29339,2.61165,2.99367,3.24827 ,3.37573,3.62999,3.88429,4.01424, 4.14593,4.2776,4.40927,4.54083,4.73817, 4.86977,5.00135,5.13297,5.26427,5.46115 ,5.59277,5.78988,5.92126,6.05249, 6.24935,6.38053,6.57728,6.77402,6.90515 ,7.03839,7.17384,7.3094,7.44495,7.58042 ,7.64813,7.71329)
FOOTPRINT_POINT_LONGITUDE = (302.98,302.845,302.679,302.502,302.336 ,302.169,301.887,301.877,301.869,301.87 ,301.871,301.871,301.873,301.874, 301.874,301.875,301.876,301.877,301.878 ,301.878,301.88,301.88,301.881,301.882, 301.882,301.883,301.884,301.885,301.885 ,301.886,301.886,301.887,301.887, 301.888,301.889,301.889,301.89,301.89, 301.892,301.892,301.891,301.89,301.89, 301.89,301.893,301.893,301.894,301.894, 301.893,301.893,301.893,301.893,302.067 ,302.232,302.387,302.523,302.688, 302.911,302.92,302.927,302.928,302.928, 302.929,302.93,302.931,302.932,302.933, 302.935,302.938,302.94,302.94,302.942, 302.944,302.945,302.946,302.947,302.949 ,302.95,302.952,302.953,302.954,302.955 ,302.956,302.959,302.96,302.961,302.962 ,302.964,302.966,302.967,302.969,302.97 ,302.972,302.973,302.975,302.977, 302.978,302.979,302.98,302.98)
ORBIT_NUMBER = 3052
ORBITAL_ECCENTRICITY = 0.572
ORBITAL_INCLINATION = 86.63
ORBITAL_SEMIMAJOR_AXIS = 8624.49
PERIAPSIS_ALTITUDE = 297.75
PERIAPSIS_ARGUMENT_ANGLE = 181.95
PERIAPSIS_TIME = 2006-05-27T06:29:34.000Z
SPACECRAFT_ORIENTATION = (0.0,-1.0,0.0)
^MEX_ORIENTATION_DESC = "MEX_ORIENTATION_DESC.TXT"
SPACECRAFT_POINTING_MODE = ACROSSTRACK
^MEX_POINTING_DESC = "MEX_POINTING_DESC.TXT"
RIGHT_ASCENSION = -1e+32
DECLINATION = -1e+32
OFFSET_ANGLE = -0.1
SPACECRAFT_SOLAR_DISTANCE = 2.48576e+08
TARGET_NAME = MARS
/* CAMERA DATA ELEMENTS */
DETECTOR_TEMPERATURE = 18.1666
FOCAL_PLANE_TEMPERATURE = 7.7677
INST_CMPRS_NAME = "DISCRETE COSINE TRANSFORMATION (DCT)"
INST_CMPRS_RATIO = 21.4314
INST_CMPRS_QUALITY = 0
INST_CMPRS_QUANTZ_TBL_ID = 0
INSTRUMENT_TEMPERATURE = 11.0301
LENS_TEMPERATURE = 8.1755
MACROPIXEL_SIZE = 8
MISSING_FRAMES = 0
PIXEL_SUBSAMPLING_FLAG = N
SIGNAL_CHAIN_ID = 2
/* RADIOMETRIC DATA ELEMENTS */
BANDWIDTH = 88.0
CENTER_FILTER_WAVELENGTH = 538.0
RADIANCE_OFFSET = 0.893928
RADIANCE_SCALING_FACTOR = 0.004382
REFLECTANCE_SCALING_FACTOR = 0.00023312
MEX:REFLECTANCE_OFFSET = 0.0475564
/* IMAGE OBJECT DEFINITIONS */
OBJECT = IMAGE
  INTERCHANGE_FORMAT = BINARY
  LINES = 3863
  LINE_SAMPLES = 659
  SAMPLE_TYPE = UNSIGNED_INTEGER
  SAMPLE_BITS = 8
  BANDS = 1
  BAND_STORAGE_TYPE = BAND_SEQUENTIAL
  MAXIMUM = 255
  MEAN = 117.226
  MINIMUM = 1
  STANDARD_DEVIATION = 20.7536
END_OBJECT = IMAGE
/* MAP OBJECT DEFINITIONS */
OBJECT = IMAGE_MAP_PROJECTION
  ^DATA_SET_MAP_PROJECTION_CATALOG= "DSMAP.CAT"
  A_AXIS_RADIUS = 3396.0
  B_AXIS_RADIUS = 3396.0
  C_AXIS_RADIUS = 3396.0
  CENTER_LATITUDE = 0.0
  CENTER_LONGITUDE = 302.0
  COORDINATE_SYSTEM_NAME = PLANETOGRAPHIC
  COORDINATE_SYSTEM_TYPE = "BODY-FIXED ROTATING"
  EASTERNMOST_LONGITUDE = 302.98
  FIRST_STANDARD_PARALLEL = "N/A"
  LINE_FIRST_PIXEL = 1
  LINE_LAST_PIXEL = 3863
  LINE_PROJECTION_OFFSET = 4577.8125
  MAP_PROJECTION_ROTATION = 0.0
  MAP_PROJECTION_TYPE = SINUSOIDAL
  MAP_RESOLUTION = 592.713803866667
  MAP_SCALE = 0.1
  MAXIMUM_LATITUDE = 7.71524
  MINIMUM_LATITUDE = 1.20765
  POSITIVE_LONGITUDE_DIRECTION = EAST
  REFERENCE_LATITUDE = "N/A"
  REFERENCE_LONGITUDE = "N/A"
  SAMPLE_FIRST_PIXEL = 1
  SAMPLE_LAST_PIXEL = 659
  SAMPLE_PROJECTION_OFFSET = 82.5625
  SECOND_STANDARD_PARALLEL = "N/A"
  WESTERNMOST_LONGITUDE = 301.869
END_OBJECT = IMAGE_MAP_PROJECTION
END
