PDS_VERSION_ID = PDS3
/* FILE DATA ELEMENTS */
RECORD_TYPE = UNDEFINED
/* POINTERS TO DATA OBJECTS */
^IMAGE = ("H3052_0000_P14.TIF")
/* IDENTIFICATION DATA ELEMENTS */
DATA_SET_ID = "MEX-M-HRSC-4-REFDR-MAPPROJECT-EXT1-V4.0"
DATA_SET_NAME = "MARS EXPRESS HRSC MAP PROJECTED REFDR EXTENSION1 V4.0"
DETECTOR_ID = MEX_HRSC_P1
EVENT_TYPE = "MARS-REGIONAL-MAPPING-Im-Fl-Lc"
INSTRUMENT_HOST_ID = MEX
INSTRUMENT_HOST_NAME = "MARS EXPRESS"
INSTRUMENT_ID = HRSC
INSTRUMENT_NAME = "HIGH RESOLUTION STEREO CAMERA"
MISSION_NAME = "MARS EXPRESS"
MISSION_PHASE_NAME = ME_Phase_3
PROCESSING_LEVEL_ID = 4
PRODUCT_CREATION_TIME = 2023-02-09T11:24:25.000Z
PRODUCT_ID = "H3052_0000_P14.TIF"
RELEASE_ID = 0003
REVISION_ID = 0000
/* QUALITY DATA ELEMENTS */
DATA_QUALITY_ID = 1
DATA_QUALITY_DESC = "Data calculated based on original SPICE kernels"
/* TIME DATA ELEMENTS */
SPACECRAFT_CLOCK_START_COUNT = "1/0096791193.07284"
SPACECRAFT_CLOCK_STOP_COUNT = "1/0096791349.23528"
START_TIME = 2006-05-27T06:26:48.539Z
STOP_TIME = 2006-05-27T06:28:29.099Z
/* ORBITAL DATA ELEMENTS */
ASCENDING_NODE_LONGITUDE = 164.21
MAXIMUM_RESOLUTION = 0.0495
FOOTPRINT_POINT_LATITUDE = (7.72831,7.72828,7.72808,7.72776, 7.72698,7.72625,7.72545,7.72539,7.72029 ,7.58705,7.45356,7.31994,7.18577, 7.05219,6.91853,6.71814,6.58444,6.38446 ,6.25063,6.11716,5.98589,5.8565,5.727, 5.59777,5.46812,5.33871,5.20898,5.07915 ,4.94907,4.81925,4.68956,4.55964, 4.42928,4.23376,4.10395,3.90959,3.77936 ,3.64815,3.51748,3.38698,3.25682, 3.06192,2.80666,2.48819,2.23665,2.05132 ,1.7982,1.48068,1.29012,1.22649,1.20384 ,1.20445,1.20463,1.20489,1.20507, 1.20517,1.20517,1.20615,1.45907,1.58599 ,1.71301,1.9663,2.21878,2.47219,2.72434 ,2.91379,3.16969,3.30129,3.43209, 3.56248,3.693,3.82359,3.95433,4.08476, 4.21489,4.41003,4.53976,4.73454,4.92961 ,5.05977,5.18951,5.38387,5.51414, 5.70843,5.90276,6.03231,6.16493,6.29904 ,6.43303,6.56715,6.70109,6.83549, 6.96949,7.10156,7.23467,7.36805,7.50162 ,7.63508,7.70177,7.72831)
FOOTPRINT_POINT_LONGITUDE = (302.988,302.736,302.556,302.408, 302.176,302.017,301.869,301.858,301.853 ,301.854,301.855,301.856,301.856, 301.857,301.858,301.86,301.861,301.862, 301.863,301.864,301.865,301.866,301.867 ,301.868,301.868,301.869,301.87,301.871 ,301.871,301.872,301.873,301.873, 301.874,301.874,301.875,301.877,301.877 ,301.877,301.878,301.878,301.879,301.88 ,301.879,301.878,301.879,301.882, 301.882,301.882,301.882,301.882,301.882 ,302.058,302.312,302.478,302.654, 302.917,302.927,302.93,302.932,302.933, 302.933,302.935,302.937,302.939,302.941 ,302.942,302.944,302.945,302.946, 302.947,302.948,302.949,302.95,302.951, 302.952,302.954,302.956,302.958,302.959 ,302.961,302.962,302.964,302.965, 302.967,302.969,302.97,302.972,302.973, 302.975,302.976,302.977,302.979,302.98, 302.982,302.984,302.985,302.987,302.988 ,302.989,302.988)
ORBIT_NUMBER = 3052
ORBITAL_ECCENTRICITY = 0.572
ORBITAL_INCLINATION = 86.63
ORBITAL_SEMIMAJOR_AXIS = 8624.49
PERIAPSIS_ALTITUDE = 297.75
PERIAPSIS_ARGUMENT_ANGLE = 181.95
PERIAPSIS_TIME = 2006-05-27T06:29:34.000Z
SPACECRAFT_ORIENTATION = (0.0,-1.0,0.0)
^MEX_ORIENTATION_DESC = "MEX_ORIENTATION_DESC.TXT"
SPACECRAFT_POINTING_MODE = ACROSSTRACK
^MEX_POINTING_DESC = "MEX_POINTING_DESC.TXT"
RIGHT_ASCENSION = -1e+32
DECLINATION = -1e+32
OFFSET_ANGLE = -0.1
SPACECRAFT_SOLAR_DISTANCE = 2.48576e+08
TARGET_NAME = MARS
/* CAMERA DATA ELEMENTS */
DETECTOR_TEMPERATURE = 17.351
FOCAL_PLANE_TEMPERATURE = 7.7677
INST_CMPRS_NAME = "DISCRETE COSINE TRANSFORMATION (DCT)"
INST_CMPRS_RATIO = 21.3312
INST_CMPRS_QUALITY = 0
INST_CMPRS_QUANTZ_TBL_ID = 0
INSTRUMENT_TEMPERATURE = 11.0301
LENS_TEMPERATURE = 8.1755
MACROPIXEL_SIZE = 4
MISSING_FRAMES = 0
PIXEL_SUBSAMPLING_FLAG = N
SIGNAL_CHAIN_ID = 3
/* RADIOMETRIC DATA ELEMENTS */
BANDWIDTH = 174.0
CENTER_FILTER_WAVELENGTH = 675.0
RADIANCE_OFFSET = 2.61987
RADIANCE_SCALING_FACTOR = 0.0141879
REFLECTANCE_SCALING_FACTOR = 0.000471542
MEX:REFLECTANCE_OFFSET = 0.0870727
/* IMAGE OBJECT DEFINITIONS */
OBJECT = IMAGE
  INTERCHANGE_FORMAT = BINARY
  LINES = 7726
  LINE_SAMPLES = 1318
  SAMPLE_TYPE = UNSIGNED_INTEGER
  SAMPLE_BITS = 8
  BANDS = 1
  BAND_STORAGE_TYPE = BAND_SEQUENTIAL
  MAXIMUM = 255
  MEAN = 118.141
  MINIMUM = 1
  STANDARD_DEVIATION = 20.0191
END_OBJECT = IMAGE
/* MAP OBJECT DEFINITIONS */
OBJECT = IMAGE_MAP_PROJECTION
  ^DATA_SET_MAP_PROJECTION_CATALOG= "DSMAP.CAT"
  A_AXIS_RADIUS = 3396.0
  B_AXIS_RADIUS = 3396.0
  C_AXIS_RADIUS = 3396.0
  CENTER_LATITUDE = 0.0
  CENTER_LONGITUDE = 302.0
  COORDINATE_SYSTEM_NAME = PLANETOGRAPHIC
  COORDINATE_SYSTEM_TYPE = "BODY-FIXED ROTATING"
  EASTERNMOST_LONGITUDE = 302.989
  FIRST_STANDARD_PARALLEL = "N/A"
  LINE_FIRST_PIXEL = 1
  LINE_LAST_PIXEL = 7726
  LINE_PROJECTION_OFFSET = 9156.125
  MAP_PROJECTION_ROTATION = 0.0
  MAP_PROJECTION_TYPE = SINUSOIDAL
  MAP_RESOLUTION = 1185.42760773333
  MAP_SCALE = 0.05
  MAXIMUM_LATITUDE = 7.72831
  MINIMUM_LATITUDE = 1.20384
  POSITIVE_LONGITUDE_DIRECTION = EAST
  REFERENCE_LATITUDE = "N/A"
  REFERENCE_LONGITUDE = "N/A"
  SAMPLE_FIRST_PIXEL = 1
  SAMPLE_LAST_PIXEL = 1318
  SAMPLE_PROJECTION_OFFSET = 165.625
  SECOND_STANDARD_PARALLEL = "N/A"
  WESTERNMOST_LONGITUDE = 301.853
END_OBJECT = IMAGE_MAP_PROJECTION
END
