PDS_VERSION_ID = PDS3
/* FILE DATA ELEMENTS */
RECORD_TYPE = UNDEFINED
/* POINTERS TO DATA OBJECTS */
^IMAGE = ("H3069_0000_P14.TIF")
/* IDENTIFICATION DATA ELEMENTS */
DATA_SET_ID = "MEX-M-HRSC-4-REFDR-MAPPROJECT-EXT1-V4.0"
DATA_SET_NAME = "MARS EXPRESS HRSC MAP PROJECTED REFDR EXTENSION1 V4.0"
DETECTOR_ID = MEX_HRSC_P1
EVENT_TYPE = "MARS-REGIONAL-COLOR-Vo-Fl-Ts"
INSTRUMENT_HOST_ID = MEX
INSTRUMENT_HOST_NAME = "MARS EXPRESS"
INSTRUMENT_ID = HRSC
INSTRUMENT_NAME = "HIGH RESOLUTION STEREO CAMERA"
MISSION_NAME = "MARS EXPRESS"
MISSION_PHASE_NAME = ME_Phase_3
PROCESSING_LEVEL_ID = 4
PRODUCT_CREATION_TIME = 2023-02-09T11:24:25.000Z
PRODUCT_ID = "H3069_0000_P14.TIF"
RELEASE_ID = 0003
REVISION_ID = 0000
/* QUALITY DATA ELEMENTS */
DATA_QUALITY_ID = 1
DATA_QUALITY_DESC = "Data calculated based on original SPICE kernels"
/* TIME DATA ELEMENTS */
SPACECRAFT_CLOCK_START_COUNT = "1/0097202166.09064"
SPACECRAFT_CLOCK_STOP_COUNT = "1/0097202405.39973"
START_TIME = 2006-06-01T00:36:26.604Z
STOP_TIME = 2006-06-01T00:39:19.303Z
/* ORBITAL DATA ELEMENTS */
ASCENDING_NODE_LONGITUDE = 163.85
MAXIMUM_RESOLUTION = 0.0564
FOOTPRINT_POINT_LATITUDE = (25.0419,25.0365,25.0304,25.0237, 25.0164,25.0083,24.9937,24.9932,24.9814 ,24.6386,24.4084,24.1792,23.9544, 23.7293,23.3897,23.1687,22.9484,22.7274 ,22.5059,22.1765,21.851,21.5253,21.1987 ,20.9801,20.7613,20.542,20.3227,19.9942 ,19.6642,19.4437,19.2234,19.0035, 18.7824,18.5615,18.3397,18.1178,17.7924 ,17.4189,17.1382,16.6699,16.3879, 16.0116,15.8228,15.6346,15.4461,15.2572 ,15.0682,14.8789,14.5947,14.4999, 14.4484,14.4546,14.4652,14.4728,14.4817 ,14.4819,14.4828,14.6726,14.8626, 15.0515,15.3352,15.5253,15.7148,16.091, 16.3733,16.5623,16.9328,17.3135,17.6861 ,18.0949,18.317,18.5391,18.7612,18.9815 ,19.2027,19.4232,19.7538,20.0842,20.304 ,20.523,20.7423,20.9616,21.2897,21.5061 ,21.7233,21.9404,22.1573,22.3752, 22.5984,22.8211,23.1534,23.3764,23.6025 ,23.8284,24.0537,24.2801,24.5103, 24.8546,24.9694,25.0419)
FOOTPRINT_POINT_LONGITUDE = (72.1073,71.86,71.6114,71.3612,71.1097, 70.8568,70.4417,70.4257,70.412,70.4267, 70.4353,70.4451,70.4537,70.4621,70.4735 ,70.484,70.4922,70.4999,70.5074,70.5182 ,70.5281,70.5384,70.5483,70.5544, 70.5604,70.5661,70.5721,70.582,70.5908, 70.5964,70.6024,70.6091,70.6147,70.6208 ,70.6262,70.6317,70.6395,70.6481, 70.6542,70.6648,70.6705,70.6783,70.6817 ,70.6859,70.6899,70.6936,70.6973, 70.7009,70.7064,70.7081,70.7091,70.9103 ,71.2746,71.5646,71.9425,71.9539, 71.9577,71.9598,71.9619,71.9641,71.9674 ,71.9696,71.9719,71.9764,71.9799, 71.9822,71.9869,71.9916,71.9965,72.0019 ,72.0049,72.0079,72.0109,72.0139,72.017 ,72.0201,72.0248,72.0295,72.0327, 72.0359,72.0392,72.0424,72.0473,72.0507 ,72.0541,72.0575,72.0609,72.0642, 72.0677,72.0711,72.0765,72.0801,72.0839 ,72.0876,72.0914,72.0953,72.0993, 72.1053,72.1073,72.1073)
ORBIT_NUMBER = 3069
ORBITAL_ECCENTRICITY = 0.572
ORBITAL_INCLINATION = 86.65
ORBITAL_SEMIMAJOR_AXIS = 8629.83
PERIAPSIS_ALTITUDE = 298.93
PERIAPSIS_ARGUMENT_ANGLE = 178.9
PERIAPSIS_TIME = 2006-06-01T00:43:02.000Z
SPACECRAFT_ORIENTATION = (0.0,-1.0,0.0)
^MEX_ORIENTATION_DESC = "MEX_ORIENTATION_DESC.TXT"
SPACECRAFT_POINTING_MODE = ACROSSTRACK
^MEX_POINTING_DESC = "MEX_POINTING_DESC.TXT"
RIGHT_ASCENSION = -1e+32
DECLINATION = -1e+32
OFFSET_ANGLE = -0.6
SPACECRAFT_SOLAR_DISTANCE = 2.48769e+08
TARGET_NAME = MARS
/* CAMERA DATA ELEMENTS */
DETECTOR_TEMPERATURE = 18.5744
FOCAL_PLANE_TEMPERATURE = 8.3794
INST_CMPRS_NAME = "DISCRETE COSINE TRANSFORMATION (DCT)"
INST_CMPRS_RATIO = 12.8604
INST_CMPRS_QUALITY = 0
INST_CMPRS_QUANTZ_TBL_ID = 0
INSTRUMENT_TEMPERATURE = 11.0301
LENS_TEMPERATURE = 8.7872
MACROPIXEL_SIZE = 4
MISSING_FRAMES = 0
PIXEL_SUBSAMPLING_FLAG = N
SIGNAL_CHAIN_ID = 3
/* RADIOMETRIC DATA ELEMENTS */
BANDWIDTH = 174.0
CENTER_FILTER_WAVELENGTH = 675.0
RADIANCE_OFFSET = 1.37998
RADIANCE_SCALING_FACTOR = 0.0193468
REFLECTANCE_SCALING_FACTOR = 0.000644005
MEX:REFLECTANCE_OFFSET = 0.045936
/* IMAGE OBJECT DEFINITIONS */
OBJECT = IMAGE
  INTERCHANGE_FORMAT = BINARY
  LINES = 12517
  LINE_SAMPLES = 1758
  SAMPLE_TYPE = UNSIGNED_INTEGER
  SAMPLE_BITS = 8
  BANDS = 1
  BAND_STORAGE_TYPE = BAND_SEQUENTIAL
  MAXIMUM = 255
  MEAN = 105.014
  MINIMUM = 1
  STANDARD_DEVIATION = 41.5455
END_OBJECT = IMAGE
/* MAP OBJECT DEFINITIONS */
OBJECT = IMAGE_MAP_PROJECTION
  ^DATA_SET_MAP_PROJECTION_CATALOG= "DSMAP.CAT"
  A_AXIS_RADIUS = 3396.0
  B_AXIS_RADIUS = 3396.0
  C_AXIS_RADIUS = 3396.0
  CENTER_LATITUDE = 0.0
  CENTER_LONGITUDE = 71.0
  COORDINATE_SYSTEM_NAME = PLANETOGRAPHIC
  COORDINATE_SYSTEM_TYPE = "BODY-FIXED ROTATING"
  EASTERNMOST_LONGITUDE = 72.1073
  FIRST_STANDARD_PARALLEL = "N/A"
  LINE_FIRST_PIXEL = 1
  LINE_LAST_PIXEL = 12517
  LINE_PROJECTION_OFFSET = 29667.625
  MAP_PROJECTION_ROTATION = 0.0
  MAP_PROJECTION_TYPE = SINUSOIDAL
  MAP_RESOLUTION = 1185.42760773333
  MAP_SCALE = 0.05
  MAXIMUM_LATITUDE = 25.0419
  MINIMUM_LATITUDE = 14.4484
  POSITIVE_LONGITUDE_DIRECTION = EAST
  REFERENCE_LATITUDE = "N/A"
  REFERENCE_LONGITUDE = "N/A"
  SAMPLE_FIRST_PIXEL = 1
  SAMPLE_LAST_PIXEL = 1758
  SAMPLE_PROJECTION_OFFSET = 603.375
  SECOND_STANDARD_PARALLEL = "N/A"
  WESTERNMOST_LONGITUDE = 70.41200000000001
END_OBJECT = IMAGE_MAP_PROJECTION
END
