PDS_VERSION_ID = PDS3
/* FILE DATA ELEMENTS */
RECORD_TYPE = UNDEFINED
/* POINTERS TO DATA OBJECTS */
^IMAGE = ("H3079_0000_RE4.TIF")
/* IDENTIFICATION DATA ELEMENTS */
DATA_SET_ID = "MEX-M-HRSC-4-REFDR-MAPPROJECT-EXT1-V4.0"
DATA_SET_NAME = "MARS EXPRESS HRSC MAP PROJECTED REFDR EXTENSION1 V4.0"
DETECTOR_ID = MEX_HRSC_RED
EVENT_TYPE = "MARS-REGIONAL-MAPPING-Vo-Gl-Eo"
INSTRUMENT_HOST_ID = MEX
INSTRUMENT_HOST_NAME = "MARS EXPRESS"
INSTRUMENT_ID = HRSC
INSTRUMENT_NAME = "HIGH RESOLUTION STEREO CAMERA"
MISSION_NAME = "MARS EXPRESS"
MISSION_PHASE_NAME = ME_Phase_3
PROCESSING_LEVEL_ID = 4
PRODUCT_CREATION_TIME = 2023-02-09T11:24:25.000Z
PRODUCT_ID = "H3079_0000_RE4.TIF"
RELEASE_ID = 0003
REVISION_ID = 0000
/* QUALITY DATA ELEMENTS */
DATA_QUALITY_ID = 1
DATA_QUALITY_DESC = "Data calculated based on original SPICE kernels"
/* TIME DATA ELEMENTS */
SPACECRAFT_CLOCK_START_COUNT = "1/0097444431.08412"
SPACECRAFT_CLOCK_STOP_COUNT = "1/0097444673.58394"
START_TIME = 2006-06-03T19:54:45.789Z
STOP_TIME = 2006-06-03T19:57:51.732Z
/* ORBITAL DATA ELEMENTS */
ASCENDING_NODE_LONGITUDE = 163.63
MAXIMUM_RESOLUTION = 0.102
FOOTPRINT_POINT_LATITUDE = (3.63583,3.64788,3.66057,3.67786,3.6783 ,3.69734,3.35123,3.12065,2.89021, 2.65994,2.19971,1.74004,1.28094, 0.822397,0.586333,0.34899,0.111928, -0.243525,-0.480297,-0.716866,-0.953242 ,-1.18945,-1.42546,-1.66128,-1.89696, -2.13241,-2.36776,-2.60275,-2.8376, -3.18968,-3.42749,-3.66975,-3.91221, -4.15441,-4.39649,-4.63824,-4.87978, -5.24209,-5.60214,-5.84398,-6.21272, -6.46044,-6.70828,-6.95557,-7.202, -7.44741,-7.69385,-7.94002,-8.19422, -8.32116,-8.3245,-8.34096,-8.35221, -8.36899,-8.36936,-8.36794,-7.98653, -7.7404,-7.37045,-7.12364,-6.87667, -6.50617,-6.25843,-5.88949,-5.64927, -5.40838,-5.16733,-4.92614,-4.68468, -4.44287,-4.0795,-3.83715,-3.59502, -3.35347,-3.00139,-2.64902,-2.41392, -2.17861,-1.94311,-1.70745,-1.47161, -1.23549,-0.999233,-0.762789,-0.526181, -0.289394,-0.0524277,0.184735,0.422059, 0.776868,1.23552,1.69475,2.1545,2.61481 ,2.84522,3.07573,3.30638,3.53718, 3.65262,3.63583)
FOOTPRINT_POINT_LONGITUDE = (169.155,168.841,168.522,168.105, 168.095,168.074,168.074,168.073,168.073 ,168.072,168.07,168.069,168.067,168.064 ,168.063,168.062,168.06,168.058,168.057 ,168.055,168.054,168.052,168.05,168.048 ,168.046,168.044,168.042,168.04,168.038 ,168.035,168.033,168.03,168.028,168.025 ,168.023,168.021,168.018,168.015,168.01 ,168.008,168.003,167.999,167.996, 167.993,167.989,167.985,167.981,167.978 ,167.974,167.972,167.972,168.385, 168.691,169.161,169.172,169.179,169.176 ,169.175,169.172,169.171,169.169, 169.167,169.166,169.164,169.163,169.162 ,169.161,169.16,169.159,169.158,169.157 ,169.156,169.156,169.155,169.154, 169.153,169.153,169.152,169.152,169.151 ,169.151,169.151,169.151,169.15,169.15, 169.15,169.15,169.15,169.15,169.15, 169.15,169.151,169.151,169.152,169.152, 169.152,169.153,169.153,169.153, 169.155)
ORBIT_NUMBER = 3079
ORBITAL_ECCENTRICITY = 0.571
ORBITAL_INCLINATION = 86.64
ORBITAL_SEMIMAJOR_AXIS = 8619.94
PERIAPSIS_ALTITUDE = 300.69
PERIAPSIS_ARGUMENT_ANGLE = 177.11
PERIAPSIS_TIME = 2006-06-03T19:54:35.000Z
SPACECRAFT_ORIENTATION = (0.0,-1.0,0.0)
^MEX_ORIENTATION_DESC = "MEX_ORIENTATION_DESC.TXT"
SPACECRAFT_POINTING_MODE = ACROSSTRACK
^MEX_POINTING_DESC = "MEX_POINTING_DESC.TXT"
RIGHT_ASCENSION = -1e+32
DECLINATION = -1e+32
OFFSET_ANGLE = -0.6
SPACECRAFT_SOLAR_DISTANCE = 2.48867e+08
TARGET_NAME = MARS
/* CAMERA DATA ELEMENTS */
DETECTOR_TEMPERATURE = 18.3705
FOCAL_PLANE_TEMPERATURE = 9.3989
INST_CMPRS_NAME = "DISCRETE COSINE TRANSFORMATION (DCT)"
INST_CMPRS_RATIO = 8.95668
INST_CMPRS_QUALITY = 0
INST_CMPRS_QUANTZ_TBL_ID = 0
INSTRUMENT_TEMPERATURE = 11.234
LENS_TEMPERATURE = 8.3794
MACROPIXEL_SIZE = 8
MISSING_FRAMES = 0
PIXEL_SUBSAMPLING_FLAG = N
SIGNAL_CHAIN_ID = 2
/* RADIOMETRIC DATA ELEMENTS */
BANDWIDTH = 48.0
CENTER_FILTER_WAVELENGTH = 748.0
RADIANCE_OFFSET = 0.605308
RADIANCE_SCALING_FACTOR = 0.00490936
REFLECTANCE_SCALING_FACTOR = 0.00069388
MEX:REFLECTANCE_OFFSET = 0.0855532
/* IMAGE OBJECT DEFINITIONS */
OBJECT = IMAGE
  INTERCHANGE_FORMAT = BINARY
  LINES = 7129
  LINE_SAMPLES = 695
  SAMPLE_TYPE = UNSIGNED_INTEGER
  SAMPLE_BITS = 8
  BANDS = 1
  BAND_STORAGE_TYPE = BAND_SEQUENTIAL
  MAXIMUM = 255
  MEAN = 146.397
  MINIMUM = 1
  STANDARD_DEVIATION = 15.5769
END_OBJECT = IMAGE
/* MAP OBJECT DEFINITIONS */
OBJECT = IMAGE_MAP_PROJECTION
  ^DATA_SET_MAP_PROJECTION_CATALOG= "DSMAP.CAT"
  A_AXIS_RADIUS = 3396.0
  B_AXIS_RADIUS = 3396.0
  C_AXIS_RADIUS = 3396.0
  CENTER_LATITUDE = 0.0
  CENTER_LONGITUDE = 169.0
  COORDINATE_SYSTEM_NAME = PLANETOGRAPHIC
  COORDINATE_SYSTEM_TYPE = "BODY-FIXED ROTATING"
  EASTERNMOST_LONGITUDE = 169.179
  FIRST_STANDARD_PARALLEL = "N/A"
  LINE_FIRST_PIXEL = 1
  LINE_LAST_PIXEL = 7129
  LINE_PROJECTION_OFFSET = 2177.6875
  MAP_PROJECTION_ROTATION = 0.0
  MAP_PROJECTION_TYPE = SINUSOIDAL
  MAP_RESOLUTION = 592.713803866667
  MAP_SCALE = 0.1
  MAXIMUM_LATITUDE = 3.69734
  MINIMUM_LATITUDE = -8.36936
  POSITIVE_LONGITUDE_DIRECTION = EAST
  REFERENCE_LATITUDE = "N/A"
  REFERENCE_LONGITUDE = "N/A"
  SAMPLE_FIRST_PIXEL = 1
  SAMPLE_LAST_PIXEL = 695
  SAMPLE_PROJECTION_OFFSET = 595.8125
  SECOND_STANDARD_PARALLEL = "N/A"
  WESTERNMOST_LONGITUDE = 167.972
END_OBJECT = IMAGE_MAP_PROJECTION
END
