PDS_VERSION_ID = PDS3
/* FILE DATA ELEMENTS */
RECORD_TYPE = UNDEFINED
/* POINTERS TO DATA OBJECTS */
^IMAGE = ("H3081_0000_ND4.TIF")
/* IDENTIFICATION DATA ELEMENTS */
DATA_SET_ID = "MEX-M-HRSC-4-REFDR-MAPPROJECT-EXT1-V4.0"
DATA_SET_NAME = "MARS EXPRESS HRSC MAP PROJECTED REFDR EXTENSION1 V4.0"
DETECTOR_ID = MEX_HRSC_NADIR
EVENT_TYPE = "MARS-REGIONAL-MAPPING-Fl-Lc"
INSTRUMENT_HOST_ID = MEX
INSTRUMENT_HOST_NAME = "MARS EXPRESS"
INSTRUMENT_ID = HRSC
INSTRUMENT_NAME = "HIGH RESOLUTION STEREO CAMERA"
MISSION_NAME = "MARS EXPRESS"
MISSION_PHASE_NAME = ME_Phase_3
PROCESSING_LEVEL_ID = 4
PRODUCT_CREATION_TIME = 2023-02-09T11:24:25.000Z
PRODUCT_ID = "H3081_0000_ND4.TIF"
RELEASE_ID = 0003
REVISION_ID = 0000
/* QUALITY DATA ELEMENTS */
DATA_QUALITY_ID = 1
DATA_QUALITY_DESC = "Data calculated based on original SPICE kernels"
/* TIME DATA ELEMENTS */
SPACECRAFT_CLOCK_START_COUNT = "1/0097492568.08243"
SPACECRAFT_CLOCK_STOP_COUNT = "1/0097492749.57424"
START_TIME = 2006-06-04T09:16:46.732Z
STOP_TIME = 2006-06-04T09:18:45.745Z
/* ORBITAL DATA ELEMENTS */
ASCENDING_NODE_LONGITUDE = 163.6
MAXIMUM_RESOLUTION = 0.0127
FOOTPRINT_POINT_LATITUDE = (18.9064,18.9063,18.906,18.9052,18.9045 ,18.9026,18.9025,18.9029,18.7436, 18.5841,18.4246,18.265,18.1053,17.9455, 17.7857,17.6257,17.4657,17.3056,17.1454 ,16.9851,16.8247,16.5855,16.4302, 16.2748,16.1192,15.9637,15.808,15.6523, 15.4965,15.3407,15.1848,15.0288,14.8728 ,14.7167,14.5626,14.2605,13.9582, 13.6557,13.353,13.2016,13.0501,12.8985, 12.7469,12.5953,12.4436,12.2919,12.0655 ,11.7723,11.4788,11.2586,11.1852, 11.1723,11.1725,11.1725,11.1722,11.1717 ,11.1717,11.1719,11.4656,11.7591, 12.0525,12.3544,12.5062,12.6579,12.8855 ,13.0371,13.1886,13.3401,13.643,13.9457 ,14.2482,14.5505,14.7825,14.9387, 15.0948,15.2508,15.4067,15.6404,15.7962 ,15.952,16.1077,16.2633,16.4188,16.5743 ,16.733,16.8935,17.0539,17.2143,17.3745 ,17.5347,17.6948,17.8549,18.0148, 18.1747,18.3344,18.4941,18.6538,18.8133 ,18.893,18.9064)
FOOTPRINT_POINT_LONGITUDE = (333.177,332.897,332.693,332.424, 332.244,331.897,331.884,331.863,331.866 ,331.869,331.872,331.875,331.878, 331.881,331.884,331.887,331.889,331.892 ,331.895,331.898,331.901,331.905, 331.907,331.909,331.912,331.914,331.917 ,331.919,331.921,331.924,331.926, 331.928,331.93,331.932,331.934,331.938, 331.941,331.943,331.946,331.947,331.949 ,331.951,331.952,331.953,331.954, 331.956,331.958,331.961,331.964,331.966 ,331.966,331.967,332.327,332.506, 332.831,333.087,333.098,333.103,333.106 ,333.108,333.11,333.113,333.114,333.115 ,333.117,333.119,333.12,333.121,333.124 ,333.127,333.13,333.133,333.137,333.139 ,333.141,333.143,333.144,333.144, 333.147,333.148,333.15,333.152,333.154, 333.156,333.157,333.159,333.161,333.163 ,333.165,333.167,333.169,333.171, 333.173,333.175,333.177,333.179,333.181 ,333.183,333.184,333.177)
ORBIT_NUMBER = 3081
ORBITAL_ECCENTRICITY = 0.571
ORBITAL_INCLINATION = 86.64
ORBITAL_SEMIMAJOR_AXIS = 8619.93
PERIAPSIS_ALTITUDE = 300.82
PERIAPSIS_ARGUMENT_ANGLE = 176.74
PERIAPSIS_TIME = 2006-06-04T09:20:46.000Z
SPACECRAFT_ORIENTATION = (0.0,-1.0,0.0)
^MEX_ORIENTATION_DESC = "MEX_ORIENTATION_DESC.TXT"
SPACECRAFT_POINTING_MODE = ACROSSTRACK
^MEX_POINTING_DESC = "MEX_POINTING_DESC.TXT"
RIGHT_ASCENSION = -1e+32
DECLINATION = -1e+32
OFFSET_ANGLE = -0.2
SPACECRAFT_SOLAR_DISTANCE = 2.48885e+08
TARGET_NAME = MARS
/* CAMERA DATA ELEMENTS */
DETECTOR_TEMPERATURE = 18.1666
FOCAL_PLANE_TEMPERATURE = 8.3794
INST_CMPRS_NAME = "DISCRETE COSINE TRANSFORMATION (DCT)"
INST_CMPRS_RATIO = 7.6749
INST_CMPRS_QUALITY = 0
INST_CMPRS_QUANTZ_TBL_ID = 0
INSTRUMENT_TEMPERATURE = 11.234
LENS_TEMPERATURE = 8.7872
MACROPIXEL_SIZE = 1
MISSING_FRAMES = 0
PIXEL_SUBSAMPLING_FLAG = N
SIGNAL_CHAIN_ID = 0
/* RADIOMETRIC DATA ELEMENTS */
BANDWIDTH = 177.0
CENTER_FILTER_WAVELENGTH = 677.5
RADIANCE_OFFSET = 2.80084
RADIANCE_SCALING_FACTOR = 0.014828
REFLECTANCE_SCALING_FACTOR = 0.000487938
MEX:REFLECTANCE_OFFSET = 0.092166
/* IMAGE OBJECT DEFINITIONS */
OBJECT = IMAGE
  INTERCHANGE_FORMAT = BINARY
  LINES = 36681
  LINE_SAMPLES = 5929
  SAMPLE_TYPE = UNSIGNED_INTEGER
  SAMPLE_BITS = 8
  BANDS = 1
  BAND_STORAGE_TYPE = BAND_SEQUENTIAL
  MAXIMUM = 255
  MEAN = 130.125
  MINIMUM = 1
  STANDARD_DEVIATION = 24.1706
END_OBJECT = IMAGE
/* MAP OBJECT DEFINITIONS */
OBJECT = IMAGE_MAP_PROJECTION
  ^DATA_SET_MAP_PROJECTION_CATALOG= "DSMAP.CAT"
  A_AXIS_RADIUS = 3396.0
  B_AXIS_RADIUS = 3396.0
  C_AXIS_RADIUS = 3396.0
  CENTER_LATITUDE = 0.0
  CENTER_LONGITUDE = 333.0
  COORDINATE_SYSTEM_NAME = PLANETOGRAPHIC
  COORDINATE_SYSTEM_TYPE = "BODY-FIXED ROTATING"
  EASTERNMOST_LONGITUDE = 333.184
  FIRST_STANDARD_PARALLEL = "N/A"
  LINE_FIRST_PIXEL = 1
  LINE_LAST_PIXEL = 36681
  LINE_PROJECTION_OFFSET = 89662.0
  MAP_PROJECTION_ROTATION = 0.0
  MAP_PROJECTION_TYPE = SINUSOIDAL
  MAP_RESOLUTION = 4741.71043093333
  MAP_SCALE = 0.0125
  MAXIMUM_LATITUDE = 18.9064
  MINIMUM_LATITUDE = 11.1717
  POSITIVE_LONGITUDE_DIRECTION = EAST
  REFERENCE_LATITUDE = "N/A"
  REFERENCE_LONGITUDE = "N/A"
  SAMPLE_FIRST_PIXEL = 1
  SAMPLE_LAST_PIXEL = 5929
  SAMPLE_PROJECTION_OFFSET = 5095.0
  SECOND_STANDARD_PARALLEL = "N/A"
  WESTERNMOST_LONGITUDE = 331.863
END_OBJECT = IMAGE_MAP_PROJECTION
END
