PDS_VERSION_ID = PDS3
/* FILE DATA ELEMENTS */
RECORD_TYPE = UNDEFINED
/* POINTERS TO DATA OBJECTS */
^IMAGE = ("H3081_0000_S14.TIF")
/* IDENTIFICATION DATA ELEMENTS */
DATA_SET_ID = "MEX-M-HRSC-4-REFDR-MAPPROJECT-EXT1-V4.0"
DATA_SET_NAME = "MARS EXPRESS HRSC MAP PROJECTED REFDR EXTENSION1 V4.0"
DETECTOR_ID = MEX_HRSC_S1
EVENT_TYPE = "MARS-REGIONAL-MAPPING-Fl-Lc"
INSTRUMENT_HOST_ID = MEX
INSTRUMENT_HOST_NAME = "MARS EXPRESS"
INSTRUMENT_ID = HRSC
INSTRUMENT_NAME = "HIGH RESOLUTION STEREO CAMERA"
MISSION_NAME = "MARS EXPRESS"
MISSION_PHASE_NAME = ME_Phase_3
PROCESSING_LEVEL_ID = 4
PRODUCT_CREATION_TIME = 2023-02-09T11:24:25.000Z
PRODUCT_ID = "H3081_0000_S14.TIF"
RELEASE_ID = 0003
REVISION_ID = 0000
/* QUALITY DATA ELEMENTS */
DATA_QUALITY_ID = 1
DATA_QUALITY_DESC = "Data calculated based on original SPICE kernels"
/* TIME DATA ELEMENTS */
SPACECRAFT_CLOCK_START_COUNT = "1/0097492568.08243"
SPACECRAFT_CLOCK_STOP_COUNT = "1/0097492749.57424"
START_TIME = 2006-06-04T09:16:13.477Z
STOP_TIME = 2006-06-04T09:18:17.466Z
/* ORBITAL DATA ELEMENTS */
ASCENDING_NODE_LONGITUDE = 163.6
MAXIMUM_RESOLUTION = 0.0276
FOOTPRINT_POINT_LATITUDE = (18.9132,18.9111,18.9087,18.9048, 18.9012,18.8972,18.8924,18.8921,18.8565 ,18.7024,18.4717,18.3174,18.1621, 18.0079,17.7751,17.5434,17.3886,17.1559 ,17.0008,16.8451,16.6891,16.5325, 16.3762,16.2199,16.064,15.8292,15.6722, 15.4367,15.2006,15.043,14.8853,14.7275, 14.4947,14.3418,14.1877,13.9568,13.7246 ,13.5708,13.4162,13.2615,13.1063, 12.9526,12.7975,12.4932,12.1939,11.7452 ,11.5214,11.2215,11.1468,11.1239, 11.1277,11.131,11.1338,11.1356,11.1357, 11.1361,11.4387,11.5897,11.8921,12.1921 ,12.4172,12.7179,12.8733,13.0281, 13.2605,13.4147,13.5689,13.723,13.8768, 14.0312,14.1844,14.3391,14.4921,14.7198 ,15.0277,15.1853,15.3433,15.5022, 15.6692,15.8246,15.9809,16.1374,16.2941 ,16.4508,16.6073,16.7634,16.9975, 17.1526,17.3081,17.541,17.6965,17.8515, 18.0065,18.1611,18.3158,18.4703,18.6245 ,18.7785,18.8554,18.9132)
FOOTPRINT_POINT_LONGITUDE = (333.207,332.998,332.789,332.513, 332.303,332.091,331.866,331.853,331.834 ,331.838,331.843,331.846,331.849, 331.852,331.857,331.862,331.865,331.87, 331.873,331.876,331.879,331.882,331.884 ,331.887,331.89,331.894,331.897,331.901 ,331.905,331.907,331.91,331.912,331.915 ,331.918,331.919,331.922,331.924, 331.926,331.928,331.93,331.931,331.933, 331.935,331.938,331.941,331.946,331.949 ,331.953,331.954,331.954,332.259, 332.619,332.945,333.102,333.113,333.117 ,333.12,333.121,333.124,333.127,333.13, 333.133,333.134,333.136,333.138,333.14, 333.142,333.144,333.145,333.147,333.149 ,333.151,333.153,333.156,333.162, 333.164,333.166,333.168,333.168,333.17, 333.172,333.174,333.177,333.179,333.181 ,333.183,333.186,333.189,333.191, 333.194,333.197,333.199,333.201,333.203 ,333.206,333.208,333.211,333.213, 333.214,333.207)
ORBIT_NUMBER = 3081
ORBITAL_ECCENTRICITY = 0.571
ORBITAL_INCLINATION = 86.64
ORBITAL_SEMIMAJOR_AXIS = 8619.93
PERIAPSIS_ALTITUDE = 300.82
PERIAPSIS_ARGUMENT_ANGLE = 176.74
PERIAPSIS_TIME = 2006-06-04T09:20:46.000Z
SPACECRAFT_ORIENTATION = (0.0,-1.0,0.0)
^MEX_ORIENTATION_DESC = "MEX_ORIENTATION_DESC.TXT"
SPACECRAFT_POINTING_MODE = ACROSSTRACK
^MEX_POINTING_DESC = "MEX_POINTING_DESC.TXT"
RIGHT_ASCENSION = -1e+32
DECLINATION = -1e+32
OFFSET_ANGLE = -0.2
SPACECRAFT_SOLAR_DISTANCE = 2.48885e+08
TARGET_NAME = MARS
/* CAMERA DATA ELEMENTS */
DETECTOR_TEMPERATURE = 17.351
FOCAL_PLANE_TEMPERATURE = 8.3794
INST_CMPRS_NAME = "DISCRETE COSINE TRANSFORMATION (DCT)"
INST_CMPRS_RATIO = 9.02663
INST_CMPRS_QUALITY = 0
INST_CMPRS_QUANTZ_TBL_ID = 0
INSTRUMENT_TEMPERATURE = 11.234
LENS_TEMPERATURE = 8.7872
MACROPIXEL_SIZE = 2
MISSING_FRAMES = 0
PIXEL_SUBSAMPLING_FLAG = N
SIGNAL_CHAIN_ID = 1
/* RADIOMETRIC DATA ELEMENTS */
BANDWIDTH = 180.0
CENTER_FILTER_WAVELENGTH = 677.0
RADIANCE_OFFSET = 3.66915
RADIANCE_SCALING_FACTOR = 0.0149121
REFLECTANCE_SCALING_FACTOR = 0.000481923
MEX:REFLECTANCE_OFFSET = 0.118578
/* IMAGE OBJECT DEFINITIONS */
OBJECT = IMAGE
  INTERCHANGE_FORMAT = BINARY
  LINES = 18341
  LINE_SAMPLES = 2965
  SAMPLE_TYPE = UNSIGNED_INTEGER
  SAMPLE_BITS = 8
  BANDS = 1
  BAND_STORAGE_TYPE = BAND_SEQUENTIAL
  MAXIMUM = 255
  MEAN = 134.382
  MINIMUM = 1
  STANDARD_DEVIATION = 26.2443
END_OBJECT = IMAGE
/* MAP OBJECT DEFINITIONS */
OBJECT = IMAGE_MAP_PROJECTION
  ^DATA_SET_MAP_PROJECTION_CATALOG= "DSMAP.CAT"
  A_AXIS_RADIUS = 3396.0
  B_AXIS_RADIUS = 3396.0
  C_AXIS_RADIUS = 3396.0
  CENTER_LATITUDE = 0.0
  CENTER_LONGITUDE = 333.0
  COORDINATE_SYSTEM_NAME = PLANETOGRAPHIC
  COORDINATE_SYSTEM_TYPE = "BODY-FIXED ROTATING"
  EASTERNMOST_LONGITUDE = 333.214
  FIRST_STANDARD_PARALLEL = "N/A"
  LINE_FIRST_PIXEL = 1
  LINE_LAST_PIXEL = 18341
  LINE_PROJECTION_OFFSET = 44830.75
  MAP_PROJECTION_ROTATION = 0.0
  MAP_PROJECTION_TYPE = SINUSOIDAL
  MAP_RESOLUTION = 2370.85521546667
  MAP_SCALE = 0.025
  MAXIMUM_LATITUDE = 18.9132
  MINIMUM_LATITUDE = 11.1239
  POSITIVE_LONGITUDE_DIRECTION = EAST
  REFERENCE_LATITUDE = "N/A"
  REFERENCE_LONGITUDE = "N/A"
  SAMPLE_FIRST_PIXEL = 1
  SAMPLE_LAST_PIXEL = 2965
  SAMPLE_PROJECTION_OFFSET = 2547.25
  SECOND_STANDARD_PARALLEL = "N/A"
  WESTERNMOST_LONGITUDE = 331.834
END_OBJECT = IMAGE_MAP_PROJECTION
END
