PDS_VERSION_ID = PDS3
/* FILE DATA ELEMENTS */
RECORD_TYPE = UNDEFINED
/* POINTERS TO DATA OBJECTS */
^IMAGE = ("H3095_0000_IR4.TIF")
/* IDENTIFICATION DATA ELEMENTS */
DATA_SET_ID = "MEX-M-HRSC-4-REFDR-MAPPROJECT-EXT1-V4.0"
DATA_SET_NAME = "MARS EXPRESS HRSC MAP PROJECTED REFDR EXTENSION1 V4.0"
DETECTOR_ID = MEX_HRSC_IR
EVENT_TYPE = "MARS-REGIONAL-MAPPING-Im-Fl-La"
INSTRUMENT_HOST_ID = MEX
INSTRUMENT_HOST_NAME = "MARS EXPRESS"
INSTRUMENT_ID = HRSC
INSTRUMENT_NAME = "HIGH RESOLUTION STEREO CAMERA"
MISSION_NAME = "MARS EXPRESS"
MISSION_PHASE_NAME = ME_Phase_3
PROCESSING_LEVEL_ID = 4
PRODUCT_CREATION_TIME = 2023-02-09T11:24:25.000Z
PRODUCT_ID = "H3095_0000_IR4.TIF"
RELEASE_ID = 0003
REVISION_ID = 0000
/* QUALITY DATA ELEMENTS */
DATA_QUALITY_ID = 1
DATA_QUALITY_DESC = "Data calculated based on original SPICE kernels"
/* TIME DATA ELEMENTS */
SPACECRAFT_CLOCK_START_COUNT = "1/0097831162.09070"
SPACECRAFT_CLOCK_STOP_COUNT = "1/0097831330.08253"
START_TIME = 2006-06-08T07:19:34.154Z
STOP_TIME = 2006-06-08T07:21:19.101Z
/* ORBITAL DATA ELEMENTS */
ASCENDING_NODE_LONGITUDE = 163.3
MAXIMUM_RESOLUTION = 0.1139
FOOTPRINT_POINT_LATITUDE = (24.0017,24.0018,24.0016,24.0008, 23.9995,23.9977,23.9954,23.993,23.9928, 23.975,23.7877,23.4761,23.2882,23.0376, 22.85,22.6593,22.4725,22.2211,22.0295, 21.9021,21.7755,21.6488,21.4589,21.3324 ,21.2053,21.0159,20.8251,20.6336,20.506 ,20.3782,20.2505,20.1226,19.9927, 19.8637,19.7373,19.6087,19.416,19.2879, 19.1582,19.0292,18.8993,18.7057,18.5779 ,18.3879,18.2585,18.0644,17.9352, 17.8043,17.6092,17.5446,17.4997,17.5011 ,17.5022,17.5032,17.5056,17.5062, 17.5061,17.5062,17.5079,17.6376,17.7665 ,17.896,18.0258,18.22,18.3488,18.5422, 18.6713,18.8,18.9285,19.0573,19.185, 19.314,19.5068,19.6355,19.8287,20.0208, 20.213,20.3412,20.5331,20.6607,20.7873, 20.9748,21.1009,21.228,21.3552,21.5456, 21.6738,21.8679,22.1193,22.3087,22.435, 22.561,22.687,22.8755,23.0637,23.3138, 23.6258,23.8752,23.9377,24.0017)
FOOTPRINT_POINT_LONGITUDE = (37.7072,37.5697,37.3636,37.1024, 36.8826,36.6766,36.4567,36.2641,36.2503 ,36.2373,36.2427,36.2518,36.257,36.2639 ,36.2693,36.2734,36.2791,36.2858, 36.2897,36.2924,36.2955,36.2985,36.3031 ,36.3062,36.3091,36.3139,36.3182, 36.3223,36.325,36.3277,36.3304,36.3331, 36.335,36.3372,36.3405,36.3429,36.3466, 36.3492,36.3512,36.3535,36.3555,36.3589 ,36.3617,36.3665,36.3687,36.372,36.3742 ,36.3759,36.3788,36.38,36.3807,36.6118, 36.7516,36.9261,37.1122,37.3911,37.6001 ,37.6117,37.6194,37.6211,37.623,37.6246 ,37.6262,37.6286,37.6304,37.6331, 37.6348,37.6366,37.6384,37.6401,37.6423 ,37.6439,37.6464,37.648,37.6504,37.6531 ,37.6557,37.6574,37.66,37.6618,37.664, 37.6682,37.6705,37.6725,37.6743,37.6772 ,37.6785,37.6797,37.6843,37.6872, 37.6892,37.6912,37.6932,37.6963,37.6994 ,37.7039,37.7095,37.7139,37.715, 37.7072)
ORBIT_NUMBER = 3095
ORBITAL_ECCENTRICITY = 0.571
ORBITAL_INCLINATION = 86.63
ORBITAL_SEMIMAJOR_AXIS = 8628.4
PERIAPSIS_ALTITUDE = 301.93
PERIAPSIS_ARGUMENT_ANGLE = 174.27
PERIAPSIS_TIME = 2006-06-08T07:24:43.000Z
SPACECRAFT_ORIENTATION = (0.0,-1.0,0.0)
^MEX_ORIENTATION_DESC = "MEX_ORIENTATION_DESC.TXT"
SPACECRAFT_POINTING_MODE = NADIR
^MEX_POINTING_DESC = "MEX_POINTING_DESC.TXT"
RIGHT_ASCENSION = -1e+32
DECLINATION = -1e+32
OFFSET_ANGLE = -1e+32
SPACECRAFT_SOLAR_DISTANCE = 2.49e+08
TARGET_NAME = MARS
/* CAMERA DATA ELEMENTS */
DETECTOR_TEMPERATURE = 17.351
FOCAL_PLANE_TEMPERATURE = 7.9716
INST_CMPRS_NAME = "DISCRETE COSINE TRANSFORMATION (DCT)"
INST_CMPRS_RATIO = 12.5568
INST_CMPRS_QUALITY = 0
INST_CMPRS_QUANTZ_TBL_ID = 0
INSTRUMENT_TEMPERATURE = 11.0301
LENS_TEMPERATURE = 8.3794
MACROPIXEL_SIZE = 8
MISSING_FRAMES = 0
PIXEL_SUBSAMPLING_FLAG = N
SIGNAL_CHAIN_ID = 2
/* RADIOMETRIC DATA ELEMENTS */
BANDWIDTH = 81.0
CENTER_FILTER_WAVELENGTH = 955.5
RADIANCE_OFFSET = 1.11478
RADIANCE_SCALING_FACTOR = 0.00521784
REFLECTANCE_SCALING_FACTOR = 0.000697939
MEX:REFLECTANCE_OFFSET = 0.149114
/* IMAGE OBJECT DEFINITIONS */
OBJECT = IMAGE
  INTERCHANGE_FORMAT = BINARY
  LINES = 3856
  LINE_SAMPLES = 776
  SAMPLE_TYPE = UNSIGNED_INTEGER
  SAMPLE_BITS = 8
  BANDS = 1
  BAND_STORAGE_TYPE = BAND_SEQUENTIAL
  MAXIMUM = 255
  MEAN = 125.209
  MINIMUM = 1
  STANDARD_DEVIATION = 16.0777
END_OBJECT = IMAGE
/* MAP OBJECT DEFINITIONS */
OBJECT = IMAGE_MAP_PROJECTION
  ^DATA_SET_MAP_PROJECTION_CATALOG= "DSMAP.CAT"
  A_AXIS_RADIUS = 3396.0
  B_AXIS_RADIUS = 3396.0
  C_AXIS_RADIUS = 3396.0
  CENTER_LATITUDE = 0.0
  CENTER_LONGITUDE = 37.0
  COORDINATE_SYSTEM_NAME = PLANETOGRAPHIC
  COORDINATE_SYSTEM_TYPE = "BODY-FIXED ROTATING"
  EASTERNMOST_LONGITUDE = 37.715
  FIRST_STANDARD_PARALLEL = "N/A"
  LINE_FIRST_PIXEL = 1
  LINE_LAST_PIXEL = 3856
  LINE_PROJECTION_OFFSET = 14227.5625
  MAP_PROJECTION_ROTATION = 0.0
  MAP_PROJECTION_TYPE = SINUSOIDAL
  MAP_RESOLUTION = 592.713803866667
  MAP_SCALE = 0.1
  MAXIMUM_LATITUDE = 24.0018
  MINIMUM_LATITUDE = 17.4997
  POSITIVE_LONGITUDE_DIRECTION = EAST
  REFERENCE_LATITUDE = "N/A"
  REFERENCE_LONGITUDE = "N/A"
  SAMPLE_FIRST_PIXEL = 1
  SAMPLE_LAST_PIXEL = 776
  SAMPLE_PROJECTION_OFFSET = 404.9375
  SECOND_STANDARD_PARALLEL = "N/A"
  WESTERNMOST_LONGITUDE = 36.2373
END_OBJECT = IMAGE_MAP_PROJECTION
END
