PDS_VERSION_ID = PDS3
/* FILE DATA ELEMENTS */
RECORD_TYPE = UNDEFINED
/* POINTERS TO DATA OBJECTS */
^IMAGE = ("H3105_0000_GR4.TIF")
/* IDENTIFICATION DATA ELEMENTS */
DATA_SET_ID = "MEX-M-HRSC-4-REFDR-MAPPROJECT-EXT1-V4.0"
DATA_SET_NAME = "MARS EXPRESS HRSC MAP PROJECTED REFDR EXTENSION1 V4.0"
DETECTOR_ID = MEX_HRSC_GREEN
EVENT_TYPE = "MARS-LOCAL-CARTOGRAPHY-Pf-Eb-Tc"
INSTRUMENT_HOST_ID = MEX
INSTRUMENT_HOST_NAME = "MARS EXPRESS"
INSTRUMENT_ID = HRSC
INSTRUMENT_NAME = "HIGH RESOLUTION STEREO CAMERA"
MISSION_NAME = "MARS EXPRESS"
MISSION_PHASE_NAME = ME_Phase_3
PROCESSING_LEVEL_ID = 4
PRODUCT_CREATION_TIME = 2023-02-09T11:24:25.000Z
PRODUCT_ID = "H3105_0000_GR4.TIF"
RELEASE_ID = 0003
REVISION_ID = 0000
/* QUALITY DATA ELEMENTS */
DATA_QUALITY_ID = 1
DATA_QUALITY_DESC = "Data calculated based on original SPICE kernels"
/* TIME DATA ELEMENTS */
SPACECRAFT_CLOCK_START_COUNT = "1/0098071959.08411"
SPACECRAFT_CLOCK_STOP_COUNT = "1/0098072505.45512"
START_TIME = 2006-06-11T02:16:32.039Z
STOP_TIME = 2006-06-11T02:19:32.654Z
/* ORBITAL DATA ELEMENTS */
ASCENDING_NODE_LONGITUDE = 163.08
MAXIMUM_RESOLUTION = 0.1732
FOOTPRINT_POINT_LATITUDE = (71.9759,71.961,71.9312,71.8967,71.8749 ,71.8516,71.8267,71.8003,71.7723, 71.7428,71.6956,71.6624,71.6276,71.5913 ,71.5534,71.5141,71.4732,71.4308, 71.3869,71.3416,71.2946,71.2461,71.196, 71.1445,71.0644,71.0507,71.0021,70.7412 ,70.4784,70.2136,69.947,69.6783,69.4082 ,69.136,68.8619,68.586,68.3083,68.0288, 67.7474,67.4644,67.1794,66.8928,66.6043 ,66.3141,66.0222,65.7284,65.433,65.1358 ,64.8369,64.5362,64.2338,64.0058, 63.9296,63.8959,63.9514,64.0109,64.0604 ,64.1068,64.1344,64.1758,64.2188, 64.2497,64.2899,64.3188,64.3446,64.3647 ,64.3802,64.3919,64.3941,64.3958, 64.6339,64.7922,64.9502,65.1078,65.2651 ,65.422,65.5787,65.8907,66.2015,66.5109 ,66.819,67.1256,67.4309,67.7349,68.0375 ,68.3387,68.6387,68.9372,69.2345, 69.5304,69.8251,70.1184,70.4104,70.7011 ,70.9905,71.2786,71.5655,71.8511, 71.9223,71.9759)
FOOTPRINT_POINT_LONGITUDE = (133.822,133.278,132.329,131.384, 130.845,130.307,129.77,129.235,128.7, 128.166,127.368,126.839,126.311,125.785 ,125.26,124.736,124.215,123.694,123.176 ,122.659,122.144,121.63,121.117,120.607 ,119.845,119.719,119.518,119.834, 120.142,120.443,120.736,121.021,121.301 ,121.573,121.838,122.097,122.35,122.596 ,122.837,123.072,123.302,123.526, 123.745,123.958,124.168,124.371,124.571 ,124.765,124.956,125.142,125.323, 125.457,125.501,125.52,126.155,126.878, 127.52,128.162,128.564,129.206,129.93, 130.493,131.3,131.945,132.59,133.154, 133.639,134.043,134.124,134.151,134.147 ,134.145,134.142,134.14,134.137,134.135 ,134.132,134.126,134.12,134.114,134.107 ,134.1,134.093,134.086,134.078,134.069, 134.061,134.052,134.042,134.033,134.022 ,134.012,134.001,133.989,133.977, 133.965,133.952,133.938,133.934, 133.822)
ORBIT_NUMBER = 3105
ORBITAL_ECCENTRICITY = 0.571
ORBITAL_INCLINATION = 86.63
ORBITAL_SEMIMAJOR_AXIS = 8624.4
PERIAPSIS_ALTITUDE = 303.26
PERIAPSIS_ARGUMENT_ANGLE = 172.47
PERIAPSIS_TIME = 2006-06-11T02:36:12.000Z
SPACECRAFT_ORIENTATION = (0.0,-1.0,0.0)
^MEX_ORIENTATION_DESC = "MEX_ORIENTATION_DESC.TXT"
SPACECRAFT_POINTING_MODE = ACROSSTRACK
^MEX_POINTING_DESC = "MEX_POINTING_DESC.TXT"
RIGHT_ASCENSION = -1e+32
DECLINATION = -1e+32
OFFSET_ANGLE = -0.8
SPACECRAFT_SOLAR_DISTANCE = 2.49068e+08
TARGET_NAME = MARS
/* CAMERA DATA ELEMENTS */
DETECTOR_TEMPERATURE = 18.3705
FOCAL_PLANE_TEMPERATURE = 8.1755
INST_CMPRS_NAME = "DISCRETE COSINE TRANSFORMATION (DCT)"
INST_CMPRS_RATIO = 13.5243
INST_CMPRS_QUALITY = 0
INST_CMPRS_QUANTZ_TBL_ID = 0
INSTRUMENT_TEMPERATURE = 11.234
LENS_TEMPERATURE = 8.3794
MACROPIXEL_SIZE = 4
MISSING_FRAMES = 0
PIXEL_SUBSAMPLING_FLAG = N
SIGNAL_CHAIN_ID = 2
/* RADIOMETRIC DATA ELEMENTS */
BANDWIDTH = 88.0
CENTER_FILTER_WAVELENGTH = 538.0
RADIANCE_OFFSET = 1.17179
RADIANCE_SCALING_FACTOR = 0.0072285
REFLECTANCE_SCALING_FACTOR = 0.000386075
MEX:REFLECTANCE_OFFSET = 0.0625856
/* IMAGE OBJECT DEFINITIONS */
OBJECT = IMAGE
  INTERCHANGE_FORMAT = BINARY
  LINES = 2378
  LINE_SAMPLES = 1577
  SAMPLE_TYPE = UNSIGNED_INTEGER
  SAMPLE_BITS = 8
  BANDS = 1
  BAND_STORAGE_TYPE = BAND_SEQUENTIAL
  MAXIMUM = 255
  MEAN = 56.3014
  MINIMUM = 1
  STANDARD_DEVIATION = 33.1597
END_OBJECT = IMAGE
/* MAP OBJECT DEFINITIONS */
OBJECT = IMAGE_MAP_PROJECTION
  ^DATA_SET_MAP_PROJECTION_CATALOG= "DSMAP.CAT"
  A_AXIS_RADIUS = 3396.0
  B_AXIS_RADIUS = 3396.0
  C_AXIS_RADIUS = 3396.0
  CENTER_LATITUDE = 0.0
  CENTER_LONGITUDE = 128.0
  COORDINATE_SYSTEM_NAME = PLANETOGRAPHIC
  COORDINATE_SYSTEM_TYPE = "BODY-FIXED ROTATING"
  EASTERNMOST_LONGITUDE = 134.151
  FIRST_STANDARD_PARALLEL = "N/A"
  LINE_FIRST_PIXEL = 1
  LINE_LAST_PIXEL = 2378
  LINE_PROJECTION_OFFSET = 21321.375
  MAP_PROJECTION_ROTATION = 0.0
  MAP_PROJECTION_TYPE = SINUSOIDAL
  MAP_RESOLUTION = 296.356901933333
  MAP_SCALE = 0.2
  MAXIMUM_LATITUDE = 71.9759
  MINIMUM_LATITUDE = 63.8959
  POSITIVE_LONGITUDE_DIRECTION = EAST
  REFERENCE_LATITUDE = "N/A"
  REFERENCE_LONGITUDE = "N/A"
  SAMPLE_FIRST_PIXEL = 1
  SAMPLE_LAST_PIXEL = 1577
  SAMPLE_PROJECTION_OFFSET = 803.875
  SECOND_STANDARD_PARALLEL = "N/A"
  WESTERNMOST_LONGITUDE = 119.518
END_OBJECT = IMAGE_MAP_PROJECTION
END
