PDS_VERSION_ID = PDS3
/* FILE DATA ELEMENTS */
RECORD_TYPE = UNDEFINED
/* POINTERS TO DATA OBJECTS */
^IMAGE = ("H3108_0000_P14.TIF")
/* IDENTIFICATION DATA ELEMENTS */
DATA_SET_ID = "MEX-M-HRSC-4-REFDR-MAPPROJECT-EXT1-V4.0"
DATA_SET_NAME = "MARS EXPRESS HRSC MAP PROJECTED REFDR EXTENSION1 V4.0"
DETECTOR_ID = MEX_HRSC_P1
EVENT_TYPE = "MARS-LOCAL-STEREO-Im-Ot"
INSTRUMENT_HOST_ID = MEX
INSTRUMENT_HOST_NAME = "MARS EXPRESS"
INSTRUMENT_ID = HRSC
INSTRUMENT_NAME = "HIGH RESOLUTION STEREO CAMERA"
MISSION_NAME = "MARS EXPRESS"
MISSION_PHASE_NAME = ME_Phase_3
PROCESSING_LEVEL_ID = 4
PRODUCT_CREATION_TIME = 2023-02-09T11:24:25.000Z
PRODUCT_ID = "H3108_0000_P14.TIF"
RELEASE_ID = 0003
REVISION_ID = 0000
/* QUALITY DATA ELEMENTS */
DATA_QUALITY_ID = 1
DATA_QUALITY_DESC = "Data calculated based on original SPICE kernels"
/* TIME DATA ELEMENTS */
SPACECRAFT_CLOCK_START_COUNT = "1/0098146431.08426"
SPACECRAFT_CLOCK_STOP_COUNT = "1/0098146679.63197"
START_TIME = 2006-06-11T22:54:13.208Z
STOP_TIME = 2006-06-11T22:55:55.722Z
/* ORBITAL DATA ELEMENTS */
ASCENDING_NODE_LONGITUDE = 163.02
MAXIMUM_RESOLUTION = 0.0437
FOOTPRINT_POINT_LATITUDE = (-26.5606,-26.5615,-26.5625,-26.563, -26.5634,-26.5638,-26.5639,-26.564, -26.564,-26.5639,-26.5637,-26.5632, -26.5632,-26.5726,-26.8034,-27.0369, -27.2697,-27.5638,-27.9187,-28.1567, -28.3973,-28.698,-28.8808,-29.0636, -29.3073,-29.4923,-29.7397,-29.864, -29.9884,-30.1143,-30.2402,-30.3662, -30.4919,-30.6192,-30.8104,-30.9382, -31.0658,-31.1943,-31.3236,-31.4532, -31.6472,-31.7775,-31.9087,-32.0397, -32.1703,-32.3017,-32.4343,-32.5672, -32.6993,-32.7652,-32.7908,-32.7912, -32.7911,-32.793,-32.7932,-32.7916, -32.7898,-32.7902,-32.7893,-32.7857, -32.7828,-32.7801,-32.7799,-32.779, -32.5809,-32.4487,-32.316,-32.1844, -32.0539,-31.858,-31.6619,-31.5326, -31.4041,-31.2748,-31.0808,-30.8895, -30.7616,-30.6349,-30.5076,-30.3191, -30.1307,-30.0047,-29.8793,-29.7556, -29.6317,-29.3856,-29.1407,-28.897, -28.7142,-28.414,-28.234,-28.0555, -27.8775,-27.7002,-27.4044,-27.1717, -26.9388,-26.6495,-26.5923,-26.5606)
FOOTPRINT_POINT_LONGITUDE = (200.459,200.259,200.018,199.858, 199.697,199.457,199.316,199.156,198.996 ,198.836,198.695,198.414,198.394, 198.383,198.375,198.367,198.359,198.349 ,198.337,198.329,198.32,198.309,198.303 ,198.297,198.288,198.281,198.273, 198.268,198.263,198.259,198.254,198.249 ,198.244,198.239,198.232,198.227, 198.222,198.217,198.212,198.207,198.199 ,198.194,198.189,198.184,198.179, 198.174,198.169,198.163,198.158,198.156 ,198.155,198.356,198.609,198.81,199.012 ,199.264,199.617,199.769,199.946, 200.198,200.5,200.728,200.753,200.762, 200.751,200.744,200.736,200.729,200.721 ,200.711,200.7,200.693,200.686,200.68, 200.669,200.659,200.652,200.646,200.639 ,200.63,200.62,200.614,200.608,200.602, 200.596,200.585,200.573,200.562,200.554 ,200.54,200.533,200.526,200.518,200.51, 200.498,200.488,200.479,200.468,200.465 ,200.459)
ORBIT_NUMBER = 3108
ORBITAL_ECCENTRICITY = 0.571
ORBITAL_INCLINATION = 86.64
ORBITAL_SEMIMAJOR_AXIS = 8620.36
PERIAPSIS_ALTITUDE = 303.58
PERIAPSIS_ARGUMENT_ANGLE = 171.91
PERIAPSIS_TIME = 2006-06-11T22:45:38.000Z
SPACECRAFT_ORIENTATION = (0.0,-1.0,0.0)
^MEX_ORIENTATION_DESC = "MEX_ORIENTATION_DESC.TXT"
SPACECRAFT_POINTING_MODE = NADIR
^MEX_POINTING_DESC = "MEX_POINTING_DESC.TXT"
RIGHT_ASCENSION = -1e+32
DECLINATION = -1e+32
OFFSET_ANGLE = -1e+32
SPACECRAFT_SOLAR_DISTANCE = 2.49086e+08
TARGET_NAME = MARS
/* CAMERA DATA ELEMENTS */
DETECTOR_TEMPERATURE = 17.1471
FOCAL_PLANE_TEMPERATURE = 6.7482
INST_CMPRS_NAME = "DISCRETE COSINE TRANSFORMATION (DCT)"
INST_CMPRS_RATIO = 3.40633
INST_CMPRS_QUALITY = 0
INST_CMPRS_QUANTZ_TBL_ID = 0
INSTRUMENT_TEMPERATURE = 11.234
LENS_TEMPERATURE = 8.7872
MACROPIXEL_SIZE = 2
MISSING_FRAMES = 0
PIXEL_SUBSAMPLING_FLAG = N
SIGNAL_CHAIN_ID = 3
/* RADIOMETRIC DATA ELEMENTS */
BANDWIDTH = 174.0
CENTER_FILTER_WAVELENGTH = 675.0
RADIANCE_OFFSET = 0.210958
RADIANCE_SCALING_FACTOR = 0.0158366
REFLECTANCE_SCALING_FACTOR = 0.000528501
MEX:REFLECTANCE_OFFSET = 0.00704011
/* IMAGE OBJECT DEFINITIONS */
OBJECT = IMAGE
  INTERCHANGE_FORMAT = BINARY
  LINES = 7390
  LINE_SAMPLES = 2771
  SAMPLE_TYPE = UNSIGNED_INTEGER
  SAMPLE_BITS = 8
  BANDS = 1
  BAND_STORAGE_TYPE = BAND_SEQUENTIAL
  MAXIMUM = 255
  MEAN = 66.4258
  MINIMUM = 1
  STANDARD_DEVIATION = 24.2757
END_OBJECT = IMAGE
/* MAP OBJECT DEFINITIONS */
OBJECT = IMAGE_MAP_PROJECTION
  ^DATA_SET_MAP_PROJECTION_CATALOG= "DSMAP.CAT"
  A_AXIS_RADIUS = 3396.0
  B_AXIS_RADIUS = 3396.0
  C_AXIS_RADIUS = 3396.0
  CENTER_LATITUDE = 0.0
  CENTER_LONGITUDE = 199.0
  COORDINATE_SYSTEM_NAME = PLANETOGRAPHIC
  COORDINATE_SYSTEM_TYPE = "BODY-FIXED ROTATING"
  EASTERNMOST_LONGITUDE = 200.762
  FIRST_STANDARD_PARALLEL = "N/A"
  LINE_FIRST_PIXEL = 1
  LINE_LAST_PIXEL = 7390
  LINE_PROJECTION_OFFSET = -31501.75
  MAP_PROJECTION_ROTATION = 0.0
  MAP_PROJECTION_TYPE = SINUSOIDAL
  MAP_RESOLUTION = 1185.42760773333
  MAP_SCALE = 0.05
  MAXIMUM_LATITUDE = -26.5606
  MINIMUM_LATITUDE = -32.7932
  POSITIVE_LONGITUDE_DIRECTION = EAST
  REFERENCE_LATITUDE = "N/A"
  REFERENCE_LONGITUDE = "N/A"
  SAMPLE_FIRST_PIXEL = 1
  SAMPLE_LAST_PIXEL = 2771
  SAMPLE_PROJECTION_OFFSET = 927.25
  SECOND_STANDARD_PARALLEL = "N/A"
  WESTERNMOST_LONGITUDE = 198.155
END_OBJECT = IMAGE_MAP_PROJECTION
END
