PDS_VERSION_ID = PDS3
/* FILE DATA ELEMENTS */
RECORD_TYPE = UNDEFINED
/* POINTERS TO DATA OBJECTS */
^IMAGE = ("H3124_0000_IR4.TIF")
/* IDENTIFICATION DATA ELEMENTS */
DATA_SET_ID = "MEX-M-HRSC-4-REFDR-MAPPROJECT-EXT1-V4.0"
DATA_SET_NAME = "MARS EXPRESS HRSC MAP PROJECTED REFDR EXTENSION1 V4.0"
DETECTOR_ID = MEX_HRSC_IR
EVENT_TYPE = "MARS-REGIONAL-MAPPING-Vo-La"
INSTRUMENT_HOST_ID = MEX
INSTRUMENT_HOST_NAME = "MARS EXPRESS"
INSTRUMENT_ID = HRSC
INSTRUMENT_NAME = "HIGH RESOLUTION STEREO CAMERA"
MISSION_NAME = "MARS EXPRESS"
MISSION_PHASE_NAME = ME_Phase_3
PROCESSING_LEVEL_ID = 4
PRODUCT_CREATION_TIME = 2023-02-09T11:24:25.000Z
PRODUCT_ID = "H3124_0000_IR4.TIF"
RELEASE_ID = 0003
REVISION_ID = 0000
/* QUALITY DATA ELEMENTS */
DATA_QUALITY_ID = 1
DATA_QUALITY_DESC = "Data calculated based on original SPICE kernels"
/* TIME DATA ELEMENTS */
SPACECRAFT_CLOCK_START_COUNT = "1/0098532718.09048"
SPACECRAFT_CLOCK_STOP_COUNT = "1/0098532945.41877"
START_TIME = 2006-06-16T10:12:09.077Z
STOP_TIME = 2006-06-16T10:14:59.083Z
/* ORBITAL DATA ELEMENTS */
ASCENDING_NODE_LONGITUDE = 162.68
MAXIMUM_RESOLUTION = 0.1029
FOOTPRINT_POINT_LATITUDE = (24.3136,24.3131,24.3108,24.3047, 24.3046,24.2907,24.0699,23.8475,23.6227 ,23.3995,23.1771,22.9559,22.7337, 22.5106,22.2884,21.9551,21.7342,21.5171 ,21.1831,20.8578,20.5303,20.3113, 20.0933,19.7663,19.5477,19.3291,19.003, 18.7913,18.5791,18.3669,18.1547,17.9418 ,17.729,17.5158,17.303,17.0898,16.7694, 16.5557,16.2372,15.9273,15.5136,15.0989 ,14.7877,14.5797,14.2675,14.0594, 13.8514,13.6431,13.5388,13.4487,13.4498 ,13.4502,13.4491,13.449,13.4506,13.6585 ,13.867,14.0753,14.2837,14.4917,14.6996 ,14.9072,15.1151,15.3227,15.6338, 16.0479,16.4668,16.6804,16.8941,17.1077 ,17.3213,17.5343,17.7475,17.9606, 18.2795,18.4921,18.7042,18.9167,19.132, 19.3526,19.6824,19.9009,20.2253,20.4425 ,20.6572,20.985,21.3166,21.54,21.7641, 22.1,22.3186,22.5407,22.7579,22.9803, 23.2056,23.5442,23.7652,24.097,24.2076, 24.3136)
FOOTPRINT_POINT_LONGITUDE = (67.8381,67.5237,67.0835,66.5175, 66.5049,66.4941,66.4995,66.5043,66.5081 ,66.5126,66.5174,66.5227,66.5276, 66.5321,66.537,66.5443,66.5496,66.5564, 66.5633,66.5694,66.5745,66.5778,66.5813 ,66.5867,66.59,66.5934,66.5982,66.6013, 66.6042,66.6071,66.6099,66.6125,66.6152 ,66.6177,66.6203,66.6227,66.6262, 66.6284,66.6316,66.6347,66.6386,66.642, 66.6445,66.646,66.6481,66.6495,66.6509, 66.6522,66.6528,66.6534,66.9707,67.2999 ,67.7319,67.7422,67.7491,67.7506, 67.7519,67.7532,67.7544,67.7558,67.7572 ,67.7587,67.76,67.7614,67.7635,67.7665, 67.7696,67.7714,67.773,67.7746,67.7763, 67.778,67.7797,67.7813,67.784,67.7858, 67.7876,67.7893,67.7905,67.7918,67.7941 ,67.796,67.8002,67.8025,67.8057,67.8081 ,67.8105,67.8129,67.815,67.8181,67.8222 ,67.8248,67.8293,67.8316,67.8327, 67.8339,67.8365,67.8401,67.8412, 67.8381)
ORBIT_NUMBER = 3124
ORBITAL_ECCENTRICITY = 0.571
ORBITAL_INCLINATION = 86.66
ORBITAL_SEMIMAJOR_AXIS = 8626.55
PERIAPSIS_ALTITUDE = 305.39
PERIAPSIS_ARGUMENT_ANGLE = 169.07
PERIAPSIS_TIME = 2006-06-16T10:16:00.000Z
SPACECRAFT_ORIENTATION = (0.0,-1.0,0.0)
^MEX_ORIENTATION_DESC = "MEX_ORIENTATION_DESC.TXT"
SPACECRAFT_POINTING_MODE = NADIR
^MEX_POINTING_DESC = "MEX_POINTING_DESC.TXT"
RIGHT_ASCENSION = -1e+32
DECLINATION = -1e+32
OFFSET_ANGLE = -1e+32
SPACECRAFT_SOLAR_DISTANCE = 2.49165e+08
TARGET_NAME = MARS
/* CAMERA DATA ELEMENTS */
DETECTOR_TEMPERATURE = 17.7588
FOCAL_PLANE_TEMPERATURE = 8.5833
INST_CMPRS_NAME = "DISCRETE COSINE TRANSFORMATION (DCT)"
INST_CMPRS_RATIO = 17.8237
INST_CMPRS_QUALITY = 0
INST_CMPRS_QUANTZ_TBL_ID = 0
INSTRUMENT_TEMPERATURE = 11.234
LENS_TEMPERATURE = 8.7872
MACROPIXEL_SIZE = 8
MISSING_FRAMES = 0
PIXEL_SUBSAMPLING_FLAG = N
SIGNAL_CHAIN_ID = 2
/* RADIOMETRIC DATA ELEMENTS */
BANDWIDTH = 81.0
CENTER_FILTER_WAVELENGTH = 955.5
RADIANCE_OFFSET = 0.395569
RADIANCE_SCALING_FACTOR = 0.00585244
REFLECTANCE_SCALING_FACTOR = 0.000783862
MEX:REFLECTANCE_OFFSET = 0.0529815
/* IMAGE OBJECT DEFINITIONS */
OBJECT = IMAGE
  INTERCHANGE_FORMAT = BINARY
  LINES = 6434
  LINE_SAMPLES = 713
  SAMPLE_TYPE = UNSIGNED_INTEGER
  SAMPLE_BITS = 8
  BANDS = 1
  BAND_STORAGE_TYPE = BAND_SEQUENTIAL
  MAXIMUM = 255
  MEAN = 102.229
  MINIMUM = 3
  STANDARD_DEVIATION = 65.0509
END_OBJECT = IMAGE
/* MAP OBJECT DEFINITIONS */
OBJECT = IMAGE_MAP_PROJECTION
  ^DATA_SET_MAP_PROJECTION_CATALOG= "DSMAP.CAT"
  A_AXIS_RADIUS = 3396.0
  B_AXIS_RADIUS = 3396.0
  C_AXIS_RADIUS = 3396.0
  CENTER_LATITUDE = 0.0
  CENTER_LONGITUDE = 67.0
  COORDINATE_SYSTEM_NAME = PLANETOGRAPHIC
  COORDINATE_SYSTEM_TYPE = "BODY-FIXED ROTATING"
  EASTERNMOST_LONGITUDE = 67.8412
  FIRST_STANDARD_PARALLEL = "N/A"
  LINE_FIRST_PIXEL = 1
  LINE_LAST_PIXEL = 6434
  LINE_PROJECTION_OFFSET = 14395.9375
  MAP_PROJECTION_ROTATION = 0.0
  MAP_PROJECTION_TYPE = SINUSOIDAL
  MAP_RESOLUTION = 592.713803866667
  MAP_SCALE = 0.1
  MAXIMUM_LATITUDE = 24.3136
  MINIMUM_LATITUDE = 13.4487
  POSITIVE_LONGITUDE_DIRECTION = EAST
  REFERENCE_LATITUDE = "N/A"
  REFERENCE_LONGITUDE = "N/A"
  SAMPLE_FIRST_PIXEL = 1
  SAMPLE_LAST_PIXEL = 713
  SAMPLE_PROJECTION_OFFSET = 268.6875
  SECOND_STANDARD_PARALLEL = "N/A"
  WESTERNMOST_LONGITUDE = 66.4941
END_OBJECT = IMAGE_MAP_PROJECTION
END
