PDS_VERSION_ID = PDS3
/* FILE DATA ELEMENTS */
RECORD_TYPE = UNDEFINED
/* POINTERS TO DATA OBJECTS */
^IMAGE = ("H3128_0000_GR4.TIF")
/* IDENTIFICATION DATA ELEMENTS */
DATA_SET_ID = "MEX-M-HRSC-4-REFDR-MAPPROJECT-EXT1-V4.0"
DATA_SET_NAME = "MARS EXPRESS HRSC MAP PROJECTED REFDR EXTENSION1 V4.0"
DETECTOR_ID = MEX_HRSC_GREEN
EVENT_TYPE = "MARS-REGIONAL-MAPPING-Im-Fl-La"
INSTRUMENT_HOST_ID = MEX
INSTRUMENT_HOST_NAME = "MARS EXPRESS"
INSTRUMENT_ID = HRSC
INSTRUMENT_NAME = "HIGH RESOLUTION STEREO CAMERA"
MISSION_NAME = "MARS EXPRESS"
MISSION_PHASE_NAME = ME_Phase_3
PROCESSING_LEVEL_ID = 4
PRODUCT_CREATION_TIME = 2023-02-09T11:24:25.000Z
PRODUCT_ID = "H3128_0000_GR4.TIF"
RELEASE_ID = 0003
REVISION_ID = 0000
/* QUALITY DATA ELEMENTS */
DATA_QUALITY_ID = 1
DATA_QUALITY_DESC = "Data calculated based on original SPICE kernels"
/* TIME DATA ELEMENTS */
SPACECRAFT_CLOCK_START_COUNT = "1/0098629427.08421"
SPACECRAFT_CLOCK_STOP_COUNT = "1/0098629657.24915"
START_TIME = 2006-06-17T13:04:22.058Z
STOP_TIME = 2006-06-17T13:07:08.159Z
/* ORBITAL DATA ELEMENTS */
ASCENDING_NODE_LONGITUDE = 162.59
MAXIMUM_RESOLUTION = 0.1009
FOOTPRINT_POINT_LATITUDE = (27.7416,27.7459,27.7476,27.7478, 27.7478,27.742,27.3649,27.0419,26.8262, 26.6103,26.3942,26.1766,25.9602,25.7444 ,25.5275,25.3107,25.0931,24.8759, 24.6585,24.441,24.2233,24.0055,23.7874, 23.5693,23.351,23.0233,22.6954,22.4766, 22.2578,22.0458,21.8336,21.5149,21.3025 ,21.0899,20.8771,20.6645,20.4525, 20.2393,20.026,19.8153,19.6081,19.1949, 18.6779,18.264,17.8499,17.6427,17.3318, 17.1245,17.0208,17.0111,17.0077,17.0051 ,17.0025,16.9991,16.999,17.0005,17.3115 ,17.6226,17.8299,18.0371,18.2445, 18.4516,18.6587,18.9684,19.3816,19.7954 ,20.1127,20.326,20.6458,20.859,21.0719, 21.2848,21.4976,21.7099,22.0284,22.2404 ,22.5683,22.7871,23.1154,23.4435, 23.6619,23.8803,24.0986,24.3163,24.6429 ,24.8605,25.1867,25.4036,25.6203, 25.8369,26.0535,26.2699,26.4853,26.7013 ,26.9171,27.1328,27.3483,27.5958, 27.7244,27.7416)
FOOTPRINT_POINT_LONGITUDE = (35.6346,35.0717,34.6416,34.2184, 34.2053,34.2006,34.2092,34.2162,34.2209 ,34.2254,34.2299,34.235,34.2393,34.2431 ,34.2473,34.2512,34.2554,34.2593,34.263 ,34.2667,34.2702,34.2737,34.2771, 34.2804,34.2836,34.2883,34.2927,34.2955 ,34.2982,34.3008,34.3034,34.3072, 34.3095,34.3118,34.3141,34.3161,34.3175 ,34.3196,34.3217,34.3236,34.3261, 34.3297,34.3339,34.3369,34.3396,34.3408 ,34.3426,34.3436,34.3442,34.3442, 34.7383,34.9994,35.2207,35.4892,35.5005 ,35.5081,35.512,35.5147,35.5167,35.5188 ,35.5198,35.5215,35.5228,35.5289, 35.5342,35.5355,35.5386,35.5411,35.5446 ,35.5466,35.5493,35.5513,35.5534, 35.5575,35.5621,35.5658,35.5728,35.5767 ,35.5809,35.5843,35.5874,35.5901, 35.5922,35.5966,35.6013,35.6047,35.6086 ,35.6132,35.6176,35.6223,35.6258, 35.6296,35.637,35.6415,35.6454,35.6492, 35.6532,35.657,35.6585,35.6346)
ORBIT_NUMBER = 3128
ORBITAL_ECCENTRICITY = 0.571
ORBITAL_INCLINATION = 86.64
ORBITAL_SEMIMAJOR_AXIS = 8625.03
PERIAPSIS_ALTITUDE = 306.2
PERIAPSIS_ARGUMENT_ANGLE = 168.37
PERIAPSIS_TIME = 2006-06-17T13:08:35.000Z
SPACECRAFT_ORIENTATION = (0.0,-1.0,0.0)
^MEX_ORIENTATION_DESC = "MEX_ORIENTATION_DESC.TXT"
SPACECRAFT_POINTING_MODE = ACROSSTRACK
^MEX_POINTING_DESC = "MEX_POINTING_DESC.TXT"
RIGHT_ASCENSION = -1e+32
DECLINATION = -1e+32
OFFSET_ANGLE = 0.75
SPACECRAFT_SOLAR_DISTANCE = 2.49181e+08
TARGET_NAME = MARS
/* CAMERA DATA ELEMENTS */
DETECTOR_TEMPERATURE = 17.9627
FOCAL_PLANE_TEMPERATURE = 8.3794
INST_CMPRS_NAME = "DISCRETE COSINE TRANSFORMATION (DCT)"
INST_CMPRS_RATIO = 19.7491
INST_CMPRS_QUALITY = 0
INST_CMPRS_QUANTZ_TBL_ID = 0
INSTRUMENT_TEMPERATURE = 11.4379
LENS_TEMPERATURE = 8.7872
MACROPIXEL_SIZE = 8
MISSING_FRAMES = 0
PIXEL_SUBSAMPLING_FLAG = N
SIGNAL_CHAIN_ID = 2
/* RADIOMETRIC DATA ELEMENTS */
BANDWIDTH = 88.0
CENTER_FILTER_WAVELENGTH = 538.0
RADIANCE_OFFSET = 1.50527
RADIANCE_SCALING_FACTOR = 0.00434527
REFLECTANCE_SCALING_FACTOR = 0.000232292
MEX:REFLECTANCE_OFFSET = 0.0804694
/* IMAGE OBJECT DEFINITIONS */
OBJECT = IMAGE
  INTERCHANGE_FORMAT = BINARY
  LINES = 6359
  LINE_SAMPLES = 770
  SAMPLE_TYPE = UNSIGNED_INTEGER
  SAMPLE_BITS = 8
  BANDS = 1
  BAND_STORAGE_TYPE = BAND_SEQUENTIAL
  MAXIMUM = 255
  MEAN = 125.34
  MINIMUM = 1
  STANDARD_DEVIATION = 19.4015
END_OBJECT = IMAGE
/* MAP OBJECT DEFINITIONS */
OBJECT = IMAGE_MAP_PROJECTION
  ^DATA_SET_MAP_PROJECTION_CATALOG= "DSMAP.CAT"
  A_AXIS_RADIUS = 3396.0
  B_AXIS_RADIUS = 3396.0
  C_AXIS_RADIUS = 3396.0
  CENTER_LATITUDE = 0.0
  CENTER_LONGITUDE = 35.0
  COORDINATE_SYSTEM_NAME = PLANETOGRAPHIC
  COORDINATE_SYSTEM_TYPE = "BODY-FIXED ROTATING"
  EASTERNMOST_LONGITUDE = 35.6585
  FIRST_STANDARD_PARALLEL = "N/A"
  LINE_FIRST_PIXEL = 1
  LINE_LAST_PIXEL = 6359
  LINE_PROJECTION_OFFSET = 16446.8125
  MAP_PROJECTION_ROTATION = 0.0
  MAP_PROJECTION_TYPE = SINUSOIDAL
  MAP_RESOLUTION = 592.713803866667
  MAP_SCALE = 0.1
  MAXIMUM_LATITUDE = 27.7478
  MINIMUM_LATITUDE = 16.999
  POSITIVE_LONGITUDE_DIRECTION = EAST
  REFERENCE_LATITUDE = "N/A"
  REFERENCE_LONGITUDE = "N/A"
  SAMPLE_FIRST_PIXEL = 1
  SAMPLE_LAST_PIXEL = 770
  SAMPLE_PROJECTION_OFFSET = 424.4375
  SECOND_STANDARD_PARALLEL = "N/A"
  WESTERNMOST_LONGITUDE = 34.2006
END_OBJECT = IMAGE_MAP_PROJECTION
END
