PDS_VERSION_ID = PDS3
/* FILE DATA ELEMENTS */
RECORD_TYPE = UNDEFINED
/* POINTERS TO DATA OBJECTS */
^IMAGE = ("H3132_0000_P14.TIF")
/* IDENTIFICATION DATA ELEMENTS */
DATA_SET_ID = "MEX-M-HRSC-4-REFDR-MAPPROJECT-EXT1-V4.0"
DATA_SET_NAME = "MARS EXPRESS HRSC MAP PROJECTED REFDR EXTENSION1 V4.0"
DETECTOR_ID = MEX_HRSC_P1
EVENT_TYPE = "MARS-REGIONAL-MAPPING-Im-La"
INSTRUMENT_HOST_ID = MEX
INSTRUMENT_HOST_NAME = "MARS EXPRESS"
INSTRUMENT_ID = HRSC
INSTRUMENT_NAME = "HIGH RESOLUTION STEREO CAMERA"
MISSION_NAME = "MARS EXPRESS"
MISSION_PHASE_NAME = ME_Phase_3
PROCESSING_LEVEL_ID = 4
PRODUCT_CREATION_TIME = 2023-02-09T11:24:25.000Z
PRODUCT_ID = "H3132_0000_P14.TIF"
RELEASE_ID = 0003
REVISION_ID = 0000
/* QUALITY DATA ELEMENTS */
DATA_QUALITY_ID = 1
DATA_QUALITY_DESC = "Data calculated based on original SPICE kernels"
/* TIME DATA ELEMENTS */
SPACECRAFT_CLOCK_START_COUNT = "1/0098726461.07295"
SPACECRAFT_CLOCK_STOP_COUNT = "1/0098726638.55248"
START_TIME = 2006-06-18T16:01:15.995Z
STOP_TIME = 2006-06-18T16:03:13.157Z
/* ORBITAL DATA ELEMENTS */
ASCENDING_NODE_LONGITUDE = 162.51
MAXIMUM_RESOLUTION = 0.0508
FOOTPRINT_POINT_LATITUDE = (10.8581,10.8524,10.8464,10.8401, 10.8336,10.8269,10.8153,10.8148,10.8033 ,10.4231,10.118,9.96527,9.81227,9.65886 ,9.27785,9.04788,8.81914,8.51324, 8.20764,8.05482,7.9013,7.59089,7.36603, 7.21265,7.05908,6.90598,6.75282,6.59964 ,6.44622,6.29302,6.13977,5.98675, 5.83354,5.60415,5.45121,5.29779,5.14026 ,4.98132,4.82229,4.58395,4.42512, 4.26652,4.10838,3.9489,3.78922,3.63119, 3.47256,3.31349,3.15481,3.07557,3.0675, 3.0737,3.07561,3.09339,3.10144,3.10655, 3.10693,3.10786,3.34611,3.50469,3.66382 ,3.9019,4.14031,4.29956,4.45724,4.61596 ,4.85505,5.01459,5.17325,5.40753,5.561, 5.71411,5.94354,6.09663,6.24997,6.40352 ,6.63377,6.78701,7.01675,7.24628, 7.39953,7.62959,7.78324,7.93644,8.24191 ,8.39495,8.5477,8.70077,8.85396,9.08321 ,9.23614,9.38957,9.6191,9.84729,10.0748 ,10.3801,10.5357,10.7641,10.8402, 10.8581)
FOOTPRINT_POINT_LONGITUDE = (360.771,360.61,360.446,360.281,360.114 ,359.946,359.667,359.657,359.642, 359.644,359.645,359.646,359.646,359.645 ,359.647,359.646,359.647,359.647, 359.647,359.648,359.647,359.642,359.647 ,359.646,359.646,359.645,359.645, 359.644,359.644,359.643,359.643,359.642 ,359.642,359.642,359.641,359.64,359.639 ,359.638,359.637,359.636,359.635, 359.634,359.634,359.632,359.63,359.63, 359.629,359.627,359.626,359.626,359.626 ,359.802,360.059,360.365,360.608, 360.764,360.775,360.778,360.777,360.777 ,360.777,360.776,360.776,360.776, 360.775,360.775,360.774,360.774,360.774 ,360.774,360.773,360.773,360.773, 360.772,360.772,360.772,360.772,360.772 ,360.771,360.771,360.771,360.771, 360.771,360.771,360.77,360.77,360.77, 360.77,360.77,360.77,360.769,360.77, 360.769,360.769,360.769,360.769,360.769 ,360.769,360.769,360.771)
ORBIT_NUMBER = 3132
ORBITAL_ECCENTRICITY = 0.57
ORBITAL_INCLINATION = 86.64
ORBITAL_SEMIMAJOR_AXIS = 8619.73
PERIAPSIS_ALTITUDE = 307.03
PERIAPSIS_ARGUMENT_ANGLE = 167.62
PERIAPSIS_TIME = 2006-06-18T16:01:11.000Z
SPACECRAFT_ORIENTATION = (0.0,-1.0,0.0)
^MEX_ORIENTATION_DESC = "MEX_ORIENTATION_DESC.TXT"
SPACECRAFT_POINTING_MODE = ACROSSTRACK
^MEX_POINTING_DESC = "MEX_POINTING_DESC.TXT"
RIGHT_ASCENSION = -1e+32
DECLINATION = -1e+32
OFFSET_ANGLE = -0.8
SPACECRAFT_SOLAR_DISTANCE = 2.49194e+08
TARGET_NAME = MARS
/* CAMERA DATA ELEMENTS */
DETECTOR_TEMPERATURE = 17.351
FOCAL_PLANE_TEMPERATURE = 8.3794
INST_CMPRS_NAME = "DISCRETE COSINE TRANSFORMATION (DCT)"
INST_CMPRS_RATIO = 16.9883
INST_CMPRS_QUALITY = 0
INST_CMPRS_QUANTZ_TBL_ID = 0
INSTRUMENT_TEMPERATURE = 11.0301
LENS_TEMPERATURE = 8.5833
MACROPIXEL_SIZE = 4
MISSING_FRAMES = 0
PIXEL_SUBSAMPLING_FLAG = N
SIGNAL_CHAIN_ID = 3
/* RADIOMETRIC DATA ELEMENTS */
BANDWIDTH = 174.0
CENTER_FILTER_WAVELENGTH = 675.0
RADIANCE_OFFSET = 2.807
RADIANCE_SCALING_FACTOR = 0.0198141
REFLECTANCE_SCALING_FACTOR = 0.000661811
MEX:REFLECTANCE_OFFSET = 0.0937566
/* IMAGE OBJECT DEFINITIONS */
OBJECT = IMAGE
  INTERCHANGE_FORMAT = BINARY
  LINES = 9172
  LINE_SAMPLES = 1385
  SAMPLE_TYPE = UNSIGNED_INTEGER
  SAMPLE_BITS = 8
  BANDS = 1
  BAND_STORAGE_TYPE = BAND_SEQUENTIAL
  MAXIMUM = 255
  MEAN = 118.347
  MINIMUM = 1
  STANDARD_DEVIATION = 28.7382
END_OBJECT = IMAGE
/* MAP OBJECT DEFINITIONS */
OBJECT = IMAGE_MAP_PROJECTION
  ^DATA_SET_MAP_PROJECTION_CATALOG= "DSMAP.CAT"
  A_AXIS_RADIUS = 3396.0
  B_AXIS_RADIUS = 3396.0
  C_AXIS_RADIUS = 3396.0
  CENTER_LATITUDE = 0.0
  CENTER_LONGITUDE = 0.0
  COORDINATE_SYSTEM_NAME = PLANETOGRAPHIC
  COORDINATE_SYSTEM_TYPE = "BODY-FIXED ROTATING"
  EASTERNMOST_LONGITUDE = 0.778
  FIRST_STANDARD_PARALLEL = "N/A"
  LINE_FIRST_PIXEL = 1
  LINE_LAST_PIXEL = 9172
  LINE_PROJECTION_OFFSET = 12847.875
  MAP_PROJECTION_ROTATION = 0.0
  MAP_PROJECTION_TYPE = SINUSOIDAL
  MAP_RESOLUTION = 1185.42760773333
  MAP_SCALE = 0.05
  MAXIMUM_LATITUDE = 10.8581
  MINIMUM_LATITUDE = 3.0675
  POSITIVE_LONGITUDE_DIRECTION = EAST
  REFERENCE_LATITUDE = "N/A"
  REFERENCE_LONGITUDE = "N/A"
  SAMPLE_FIRST_PIXEL = 1
  SAMPLE_LAST_PIXEL = 1385
  SAMPLE_PROJECTION_OFFSET = 451.125
  SECOND_STANDARD_PARALLEL = "N/A"
  WESTERNMOST_LONGITUDE = -0.374
END_OBJECT = IMAGE_MAP_PROJECTION
END
