PDS_VERSION_ID = PDS3
/* FILE DATA ELEMENTS */
RECORD_TYPE = UNDEFINED
/* POINTERS TO DATA OBJECTS */
^IMAGE = ("H3132_0000_S14.TIF")
/* IDENTIFICATION DATA ELEMENTS */
DATA_SET_ID = "MEX-M-HRSC-4-REFDR-MAPPROJECT-EXT1-V4.0"
DATA_SET_NAME = "MARS EXPRESS HRSC MAP PROJECTED REFDR EXTENSION1 V4.0"
DETECTOR_ID = MEX_HRSC_S1
EVENT_TYPE = "MARS-REGIONAL-MAPPING-Im-La"
INSTRUMENT_HOST_ID = MEX
INSTRUMENT_HOST_NAME = "MARS EXPRESS"
INSTRUMENT_ID = HRSC
INSTRUMENT_NAME = "HIGH RESOLUTION STEREO CAMERA"
MISSION_NAME = "MARS EXPRESS"
MISSION_PHASE_NAME = ME_Phase_3
PROCESSING_LEVEL_ID = 4
PRODUCT_CREATION_TIME = 2023-02-09T11:24:25.000Z
PRODUCT_ID = "H3132_0000_S14.TIF"
RELEASE_ID = 0003
REVISION_ID = 0000
/* QUALITY DATA ELEMENTS */
DATA_QUALITY_ID = 1
DATA_QUALITY_DESC = "Data calculated based on original SPICE kernels"
/* TIME DATA ELEMENTS */
SPACECRAFT_CLOCK_START_COUNT = "1/0098726461.07295"
SPACECRAFT_CLOCK_STOP_COUNT = "1/0098726638.55248"
START_TIME = 2006-06-18T16:01:06.440Z
STOP_TIME = 2006-06-18T16:03:03.563Z
/* ORBITAL DATA ELEMENTS */
ASCENDING_NODE_LONGITUDE = 162.51
MAXIMUM_RESOLUTION = 0.0246
FOOTPRINT_POINT_LATITUDE = (10.8802,10.8709,10.8614,10.8514, 10.8412,10.8305,10.8151,10.8144,10.7975 ,10.5703,10.266,10.0374,9.80786,9.65477 ,9.4259,9.19668,9.04368,8.7384,8.58512, 8.35606,8.12643,7.9731,7.81546,7.65891, 7.36014,7.20617,6.97572,6.82204,6.66848 ,6.51477,6.2842,6.13048,5.97686,5.82311 ,5.59312,5.36268,5.20862,5.05424, 4.89991,4.74596,4.59115,4.43171,4.27229 ,4.03361,3.79209,3.6339,3.47398,3.31405 ,3.1547,3.07492,3.0461,3.06079,3.07441, 3.08574,3.09463,3.1081,3.10873,3.10933, 3.26906,3.50834,3.66849,3.82783,3.98777 ,4.14737,4.30764,4.46545,4.62479, 4.78153,4.93672,5.09048,5.24448,5.39862 ,5.55274,5.70606,5.85916,6.08956, 6.24336,6.39753,6.55171,6.70551,6.93547 ,7.08903,7.24229,7.39597,7.54983, 7.70409,7.85752,8.23951,8.54548,8.69882 ,8.85216,9.15781,9.31151,9.54113, 9.76952,10.0705,10.4547,10.761,10.8371, 10.8802)
FOOTPRINT_POINT_LONGITUDE = (360.77,360.602,360.431,360.258,360.084 ,359.907,359.661,359.65,359.634,359.636 ,359.637,359.638,359.638,359.638, 359.639,359.639,359.639,359.64,359.64, 359.641,359.641,359.641,359.637,359.635 ,359.64,359.64,359.639,359.639,359.639, 359.638,359.637,359.637,359.637,359.636 ,359.636,359.635,359.634,359.633, 359.632,359.631,359.63,359.63,359.629, 359.628,359.625,359.625,359.624,359.622 ,359.622,359.621,359.621,359.884, 360.133,360.333,360.498,360.759,360.77, 360.773,360.773,360.773,360.772,360.772 ,360.772,360.772,360.771,360.771, 360.771,360.771,360.771,360.77,360.77, 360.77,360.77,360.77,360.77,360.769, 360.769,360.769,360.769,360.769,360.769 ,360.769,360.768,360.768,360.768, 360.768,360.768,360.768,360.768,360.768 ,360.768,360.768,360.768,360.768, 360.768,360.767,360.768,360.768,360.768 ,360.77)
ORBIT_NUMBER = 3132
ORBITAL_ECCENTRICITY = 0.57
ORBITAL_INCLINATION = 86.64
ORBITAL_SEMIMAJOR_AXIS = 8619.73
PERIAPSIS_ALTITUDE = 307.03
PERIAPSIS_ARGUMENT_ANGLE = 167.62
PERIAPSIS_TIME = 2006-06-18T16:01:11.000Z
SPACECRAFT_ORIENTATION = (0.0,-1.0,0.0)
^MEX_ORIENTATION_DESC = "MEX_ORIENTATION_DESC.TXT"
SPACECRAFT_POINTING_MODE = ACROSSTRACK
^MEX_POINTING_DESC = "MEX_POINTING_DESC.TXT"
RIGHT_ASCENSION = -1e+32
DECLINATION = -1e+32
OFFSET_ANGLE = -0.8
SPACECRAFT_SOLAR_DISTANCE = 2.49194e+08
TARGET_NAME = MARS
/* CAMERA DATA ELEMENTS */
DETECTOR_TEMPERATURE = 17.351
FOCAL_PLANE_TEMPERATURE = 8.3794
INST_CMPRS_NAME = "DISCRETE COSINE TRANSFORMATION (DCT)"
INST_CMPRS_RATIO = 9.52964
INST_CMPRS_QUALITY = 0
INST_CMPRS_QUANTZ_TBL_ID = 0
INSTRUMENT_TEMPERATURE = 11.0301
LENS_TEMPERATURE = 8.5833
MACROPIXEL_SIZE = 2
MISSING_FRAMES = 0
PIXEL_SUBSAMPLING_FLAG = N
SIGNAL_CHAIN_ID = 1
/* RADIOMETRIC DATA ELEMENTS */
BANDWIDTH = 180.0
CENTER_FILTER_WAVELENGTH = 677.0
RADIANCE_OFFSET = 2.99511
RADIANCE_SCALING_FACTOR = 0.0212538
REFLECTANCE_SCALING_FACTOR = 0.000688578
MEX:REFLECTANCE_OFFSET = 0.0970351
/* IMAGE OBJECT DEFINITIONS */
OBJECT = IMAGE
  INTERCHANGE_FORMAT = BINARY
  LINES = 18343
  LINE_SAMPLES = 2770
  SAMPLE_TYPE = UNSIGNED_INTEGER
  SAMPLE_BITS = 8
  BANDS = 1
  BAND_STORAGE_TYPE = BAND_SEQUENTIAL
  MAXIMUM = 255
  MEAN = 121.218
  MINIMUM = 1
  STANDARD_DEVIATION = 29.6464
END_OBJECT = IMAGE
/* MAP OBJECT DEFINITIONS */
OBJECT = IMAGE_MAP_PROJECTION
  ^DATA_SET_MAP_PROJECTION_CATALOG= "DSMAP.CAT"
  A_AXIS_RADIUS = 3396.0
  B_AXIS_RADIUS = 3396.0
  C_AXIS_RADIUS = 3396.0
  CENTER_LATITUDE = 0.0
  CENTER_LONGITUDE = 0.0
  COORDINATE_SYSTEM_NAME = PLANETOGRAPHIC
  COORDINATE_SYSTEM_TYPE = "BODY-FIXED ROTATING"
  EASTERNMOST_LONGITUDE = 0.773
  FIRST_STANDARD_PARALLEL = "N/A"
  LINE_FIRST_PIXEL = 1
  LINE_LAST_PIXEL = 18343
  LINE_PROJECTION_OFFSET = 25696.25
  MAP_PROJECTION_ROTATION = 0.0
  MAP_PROJECTION_TYPE = SINUSOIDAL
  MAP_RESOLUTION = 2370.85521546667
  MAP_SCALE = 0.025
  MAXIMUM_LATITUDE = 10.8802
  MINIMUM_LATITUDE = 3.0461
  POSITIVE_LONGITUDE_DIRECTION = EAST
  REFERENCE_LATITUDE = "N/A"
  REFERENCE_LONGITUDE = "N/A"
  SAMPLE_FIRST_PIXEL = 1
  SAMPLE_LAST_PIXEL = 2770
  SAMPLE_PROJECTION_OFFSET = 902.75
  SECOND_STANDARD_PARALLEL = "N/A"
  WESTERNMOST_LONGITUDE = -0.379
END_OBJECT = IMAGE_MAP_PROJECTION
END
