PDS_VERSION_ID = PDS3
/* FILE DATA ELEMENTS */
RECORD_TYPE = UNDEFINED
/* POINTERS TO DATA OBJECTS */
^IMAGE = ("H3135_0000_ND4.TIF")
/* IDENTIFICATION DATA ELEMENTS */
DATA_SET_ID = "MEX-M-HRSC-4-REFDR-MAPPROJECT-EXT1-V4.0"
DATA_SET_NAME = "MARS EXPRESS HRSC MAP PROJECTED REFDR EXTENSION1 V4.0"
DETECTOR_ID = MEX_HRSC_NADIR
EVENT_TYPE = "MARS-REGIONAL-MAPPING-Vo-La"
INSTRUMENT_HOST_ID = MEX
INSTRUMENT_HOST_NAME = "MARS EXPRESS"
INSTRUMENT_ID = HRSC
INSTRUMENT_NAME = "HIGH RESOLUTION STEREO CAMERA"
MISSION_NAME = "MARS EXPRESS"
MISSION_PHASE_NAME = ME_Phase_3
PROCESSING_LEVEL_ID = 4
PRODUCT_CREATION_TIME = 2023-02-09T11:24:25.000Z
PRODUCT_ID = "H3135_0000_ND4.TIF"
RELEASE_ID = 0003
REVISION_ID = 0000
/* QUALITY DATA ELEMENTS */
DATA_QUALITY_ID = 1
DATA_QUALITY_DESC = "Data calculated based on original SPICE kernels"
/* TIME DATA ELEMENTS */
SPACECRAFT_CLOCK_START_COUNT = "1/0098798825.07280"
SPACECRAFT_CLOCK_STOP_COUNT = "1/0098799044.48408"
START_TIME = 2006-06-19T12:07:41.801Z
STOP_TIME = 2006-06-19T12:10:20.781Z
/* ORBITAL DATA ELEMENTS */
ASCENDING_NODE_LONGITUDE = 162.44
MAXIMUM_RESOLUTION = 0.0122
FOOTPRINT_POINT_LATITUDE = (24.2924,24.291,24.2891,24.2846,24.2845 ,24.2843,23.9601,23.746,23.5319,23.3176 ,23.1032,22.8886,22.4883,22.2735,21.954 ,21.7461,21.5381,21.33,21.1219,20.9136, 20.7053,20.497,20.2885,20.08,19.8714, 19.6627,19.454,19.2452,19.0381,18.6346, 18.2308,17.8269,17.4228,17.0185,16.6141 ,16.4118,16.2095,16.0072,15.8048, 15.6025,15.4,15.1976,14.9951,14.7926, 14.5901,14.3876,14.1851,13.9825,13.8813 ,13.873,13.8737,13.8732,13.8732,13.8734 ,14.1774,14.38,14.5826,14.7853,14.9879, 15.1904,15.393,15.5955,15.798,16.0005, 16.203,16.4054,16.6078,16.8102,17.0125, 17.2148,17.4171,17.8214,18.2256,18.6296 ,19.0334,19.3449,19.5538,19.7627, 19.9715,20.1803,20.3889,20.5975,20.806, 21.0144,21.2228,21.4311,21.6393,21.8475 ,22.0559,22.271,22.486,22.8868,23.1015, 23.3161,23.5306,23.745,23.9593,24.1735, 24.2838,24.2924)
FOOTPRINT_POINT_LONGITUDE = (66.8423,66.4278,66.1013,65.5863, 65.5737,65.5639,65.5684,65.5721,65.576, 65.5798,65.5841,65.5883,65.5961,65.6001 ,65.605,65.6084,65.6126,65.618,65.6235, 65.6269,65.6297,65.6326,65.6353,65.6382 ,65.641,65.6439,65.6463,65.649,65.6517, 65.6563,65.6606,65.6646,65.6685,65.672, 65.6753,65.677,65.6783,65.6798,65.6811, 65.6824,65.6836,65.6849,65.6862,65.6873 ,65.6882,65.6892,65.6901,65.6909, 65.6913,65.6914,66.4055,66.7736,66.7844 ,66.7897,66.7909,66.7916,66.7924, 66.7931,66.7939,66.7948,66.7956,66.7965 ,66.7975,66.7984,66.7994,66.8003, 66.8011,66.8021,66.8032,66.8042,66.8052 ,66.8071,66.8091,66.8112,66.8135, 66.8153,66.8164,66.8175,66.8187,66.8204 ,66.8211,66.8217,66.8226,66.8236, 66.8253,66.827,66.8286,66.8315,66.835, 66.8356,66.837,66.8397,66.8409,66.8417, 66.8415,66.8422,66.8446,66.8457,66.8466 ,66.8423)
ORBIT_NUMBER = 3135
ORBITAL_ECCENTRICITY = 0.571
ORBITAL_INCLINATION = 86.67
ORBITAL_SEMIMAJOR_AXIS = 8624.98
PERIAPSIS_ALTITUDE = 306.55
PERIAPSIS_ARGUMENT_ANGLE = 167.11
PERIAPSIS_TIME = 2006-06-19T12:10:36.000Z
SPACECRAFT_ORIENTATION = (0.0,-1.0,0.0)
^MEX_ORIENTATION_DESC = "MEX_ORIENTATION_DESC.TXT"
SPACECRAFT_POINTING_MODE = NADIR
^MEX_POINTING_DESC = "MEX_POINTING_DESC.TXT"
RIGHT_ASCENSION = -1e+32
DECLINATION = -1e+32
OFFSET_ANGLE = -1e+32
SPACECRAFT_SOLAR_DISTANCE = 2.49203e+08
TARGET_NAME = MARS
/* CAMERA DATA ELEMENTS */
DETECTOR_TEMPERATURE = 18.1666
FOCAL_PLANE_TEMPERATURE = 8.1755
INST_CMPRS_NAME = "DISCRETE COSINE TRANSFORMATION (DCT)"
INST_CMPRS_RATIO = 8.17281
INST_CMPRS_QUALITY = 0
INST_CMPRS_QUANTZ_TBL_ID = 0
INSTRUMENT_TEMPERATURE = 10.8262
LENS_TEMPERATURE = 8.3794
MACROPIXEL_SIZE = 1
MISSING_FRAMES = 49
PIXEL_SUBSAMPLING_FLAG = N
SIGNAL_CHAIN_ID = 0
/* RADIOMETRIC DATA ELEMENTS */
BANDWIDTH = 177.0
CENTER_FILTER_WAVELENGTH = 677.5
RADIANCE_OFFSET = 2.02593
RADIANCE_SCALING_FACTOR = 0.0190108
REFLECTANCE_SCALING_FACTOR = 0.000627178
MEX:REFLECTANCE_OFFSET = 0.0668366
/* IMAGE OBJECT DEFINITIONS */
OBJECT = IMAGE
  INTERCHANGE_FORMAT = BINARY
  LINES = 49409
  LINE_SAMPLES = 5557
  SAMPLE_TYPE = UNSIGNED_INTEGER
  SAMPLE_BITS = 8
  BANDS = 1
  BAND_STORAGE_TYPE = BAND_SEQUENTIAL
  MAXIMUM = 255
  MEAN = 117.483
  MINIMUM = 1
  STANDARD_DEVIATION = 43.3088
END_OBJECT = IMAGE
/* MAP OBJECT DEFINITIONS */
OBJECT = IMAGE_MAP_PROJECTION
  ^DATA_SET_MAP_PROJECTION_CATALOG= "DSMAP.CAT"
  A_AXIS_RADIUS = 3396.0
  B_AXIS_RADIUS = 3396.0
  C_AXIS_RADIUS = 3396.0
  CENTER_LATITUDE = 0.0
  CENTER_LONGITUDE = 66.0
  COORDINATE_SYSTEM_NAME = PLANETOGRAPHIC
  COORDINATE_SYSTEM_TYPE = "BODY-FIXED ROTATING"
  EASTERNMOST_LONGITUDE = 66.8466
  FIRST_STANDARD_PARALLEL = "N/A"
  LINE_FIRST_PIXEL = 1
  LINE_LAST_PIXEL = 49409
  LINE_PROJECTION_OFFSET = 115192.0
  MAP_PROJECTION_ROTATION = 0.0
  MAP_PROJECTION_TYPE = SINUSOIDAL
  MAP_RESOLUTION = 4741.71043093333
  MAP_SCALE = 0.0125
  MAXIMUM_LATITUDE = 24.2924
  MINIMUM_LATITUDE = 13.873
  POSITIVE_LONGITUDE_DIRECTION = EAST
  REFERENCE_LATITUDE = "N/A"
  REFERENCE_LONGITUDE = "N/A"
  SAMPLE_FIRST_PIXEL = 1
  SAMPLE_LAST_PIXEL = 5557
  SAMPLE_PROJECTION_OFFSET = 1881.0
  SECOND_STANDARD_PARALLEL = "N/A"
  WESTERNMOST_LONGITUDE = 65.5639
END_OBJECT = IMAGE_MAP_PROJECTION
END
