PDS_VERSION_ID = PDS3
/* FILE DATA ELEMENTS */
RECORD_TYPE = UNDEFINED
/* POINTERS TO DATA OBJECTS */
^IMAGE = ("H3137_0000_S14.TIF")
/* IDENTIFICATION DATA ELEMENTS */
DATA_SET_ID = "MEX-M-HRSC-4-REFDR-MAPPROJECT-EXT1-V4.0"
DATA_SET_NAME = "MARS EXPRESS HRSC MAP PROJECTED REFDR EXTENSION1 V4.0"
DETECTOR_ID = MEX_HRSC_S1
EVENT_TYPE = "MARS-REGIONAL-MAPPING-Vo-Fl-Mw"
INSTRUMENT_HOST_ID = MEX
INSTRUMENT_HOST_NAME = "MARS EXPRESS"
INSTRUMENT_ID = HRSC
INSTRUMENT_NAME = "HIGH RESOLUTION STEREO CAMERA"
MISSION_NAME = "MARS EXPRESS"
MISSION_PHASE_NAME = ME_Phase_3
PROCESSING_LEVEL_ID = 4
PRODUCT_CREATION_TIME = 2023-02-09T11:24:25.000Z
PRODUCT_ID = "H3137_0000_S14.TIF"
RELEASE_ID = 0003
REVISION_ID = 0000
/* QUALITY DATA ELEMENTS */
DATA_QUALITY_ID = 1
DATA_QUALITY_DESC = "Data calculated based on original SPICE kernels"
/* TIME DATA ELEMENTS */
SPACECRAFT_CLOCK_START_COUNT = "1/0098847146.09065"
SPACECRAFT_CLOCK_STOP_COUNT = "1/0098847444.00573"
START_TIME = 2006-06-20T01:32:31.469Z
STOP_TIME = 2006-06-20T01:36:32.948Z
/* ORBITAL DATA ELEMENTS */
ASCENDING_NODE_LONGITUDE = 162.41
MAXIMUM_RESOLUTION = 0.0257
FOOTPRINT_POINT_LATITUDE = (27.7371,27.7448,27.7486,27.7501, 27.7501,27.7174,27.4067,27.0958,26.784, 26.4716,26.1585,25.845,25.5308,25.2159, 24.9002,24.5841,24.2675,23.793,23.4772, 23.0039,22.688,22.2222,21.7647,21.1682, 20.7064,20.3965,20.0931,19.7943,19.1917 ,18.7399,18.2843,17.979,17.6719,17.3622 ,17.0636,16.7607,16.459,16.1556,15.8533 ,15.5495,15.2475,14.7857,14.4715, 14.1606,13.8605,13.4096,12.9584,12.6575 ,12.507,12.3571,12.3484,12.334,12.3337, 12.334,12.786,13.0871,13.3879,13.6885, 13.9888,14.2887,14.7412,15.0403,15.3393 ,15.6413,15.9495,16.4137,16.7139, 17.0138,17.4688,17.7746,18.0792,18.3781 ,18.682,18.9848,19.4387,19.8915,20.1919 ,20.4987,20.808,21.1131,21.4225,21.8864 ,22.1943,22.5035,22.8214,23.1402,23.459 ,23.777,24.2534,24.5701,24.8867,25.2045 ,25.5186,25.8351,26.305,26.6183,26.9302 ,27.398,27.5531,27.7371)
FOOTPRINT_POINT_LONGITUDE = (230.737,230.201,229.754,229.31,229.296 ,229.287,229.296,229.305,229.313, 229.322,229.33,229.338,229.346,229.353, 229.36,229.367,229.374,229.384,229.391, 229.401,229.407,229.416,229.425,229.439 ,229.446,229.451,229.455,229.46,229.467 ,229.473,229.478,229.481,229.484, 229.486,229.488,229.489,229.491,229.492 ,229.493,229.494,229.495,229.496, 229.495,229.495,229.496,229.497,229.498 ,229.498,229.499,229.499,229.975, 230.586,230.597,230.601,230.603,230.605 ,230.606,230.608,230.609,230.611, 230.614,230.616,230.618,230.618,230.615 ,230.61,230.61,230.611,230.612,230.615, 230.618,230.624,230.628,230.632,230.637 ,230.643,230.648,230.652,230.657, 230.664,230.668,230.675,230.68,230.684, 230.688,230.692,230.696,230.7,230.706, 230.71,230.714,230.717,230.722,230.725, 230.732,230.736,230.741,230.747,230.75, 230.737)
ORBIT_NUMBER = 3137
ORBITAL_ECCENTRICITY = 0.571
ORBITAL_INCLINATION = 86.66
ORBITAL_SEMIMAJOR_AXIS = 8629.95
PERIAPSIS_ALTITUDE = 306.95
PERIAPSIS_ARGUMENT_ANGLE = 166.74
PERIAPSIS_TIME = 2006-06-20T01:36:46.000Z
SPACECRAFT_ORIENTATION = (0.0,-1.0,0.0)
^MEX_ORIENTATION_DESC = "MEX_ORIENTATION_DESC.TXT"
SPACECRAFT_POINTING_MODE = ACROSSTRACK
^MEX_POINTING_DESC = "MEX_POINTING_DESC.TXT"
RIGHT_ASCENSION = -1e+32
DECLINATION = -1e+32
OFFSET_ANGLE = 0.3
SPACECRAFT_SOLAR_DISTANCE = 2.49208e+08
TARGET_NAME = MARS
/* CAMERA DATA ELEMENTS */
DETECTOR_TEMPERATURE = 17.351
FOCAL_PLANE_TEMPERATURE = 8.1755
INST_CMPRS_NAME = "DISCRETE COSINE TRANSFORMATION (DCT)"
INST_CMPRS_RATIO = 8.4163
INST_CMPRS_QUALITY = 0
INST_CMPRS_QUANTZ_TBL_ID = 0
INSTRUMENT_TEMPERATURE = 11.0301
LENS_TEMPERATURE = 8.5833
MACROPIXEL_SIZE = 2
MISSING_FRAMES = 1
PIXEL_SUBSAMPLING_FLAG = N
SIGNAL_CHAIN_ID = 1
/* RADIOMETRIC DATA ELEMENTS */
BANDWIDTH = 180.0
CENTER_FILTER_WAVELENGTH = 677.0
RADIANCE_OFFSET = 2.64704
RADIANCE_SCALING_FACTOR = 0.0304002
REFLECTANCE_SCALING_FACTOR = 0.00098501
MEX:REFLECTANCE_OFFSET = 0.0857679
/* IMAGE OBJECT DEFINITIONS */
OBJECT = IMAGE
  INTERCHANGE_FORMAT = BINARY
  LINES = 36443
  LINE_SAMPLES = 2944
  SAMPLE_TYPE = UNSIGNED_INTEGER
  SAMPLE_BITS = 8
  BANDS = 1
  BAND_STORAGE_TYPE = BAND_SEQUENTIAL
  MAXIMUM = 255
  MEAN = 166.461
  MINIMUM = 1
  STANDARD_DEVIATION = 19.8151
END_OBJECT = IMAGE
/* MAP OBJECT DEFINITIONS */
OBJECT = IMAGE_MAP_PROJECTION
  ^DATA_SET_MAP_PROJECTION_CATALOG= "DSMAP.CAT"
  A_AXIS_RADIUS = 3396.0
  B_AXIS_RADIUS = 3396.0
  C_AXIS_RADIUS = 3396.0
  CENTER_LATITUDE = 0.0
  CENTER_LONGITUDE = 230.0
  COORDINATE_SYSTEM_NAME = PLANETOGRAPHIC
  COORDINATE_SYSTEM_TYPE = "BODY-FIXED ROTATING"
  EASTERNMOST_LONGITUDE = 230.75
  FIRST_STANDARD_PARALLEL = "N/A"
  LINE_FIRST_PIXEL = 1
  LINE_LAST_PIXEL = 36443
  LINE_PROJECTION_OFFSET = 65702.25
  MAP_PROJECTION_ROTATION = 0.0
  MAP_PROJECTION_TYPE = SINUSOIDAL
  MAP_RESOLUTION = 2370.85521546667
  MAP_SCALE = 0.025
  MAXIMUM_LATITUDE = 27.7501
  MINIMUM_LATITUDE = 12.3337
  POSITIVE_LONGITUDE_DIRECTION = EAST
  REFERENCE_LATITUDE = "N/A"
  REFERENCE_LONGITUDE = "N/A"
  SAMPLE_FIRST_PIXEL = 1
  SAMPLE_LAST_PIXEL = 2944
  SAMPLE_PROJECTION_OFFSET = 1442.75
  SECOND_STANDARD_PARALLEL = "N/A"
  WESTERNMOST_LONGITUDE = 229.287
END_OBJECT = IMAGE_MAP_PROJECTION
END
