PDS_VERSION_ID = PDS3
/* FILE DATA ELEMENTS */
RECORD_TYPE = UNDEFINED
/* POINTERS TO DATA OBJECTS */
^IMAGE = ("H3140_0000_ND4.TIF")
/* IDENTIFICATION DATA ELEMENTS */
DATA_SET_ID = "MEX-M-HRSC-4-REFDR-MAPPROJECT-EXT1-V4.0"
DATA_SET_NAME = "MARS EXPRESS HRSC MAP PROJECTED REFDR EXTENSION1 V4.0"
DETECTOR_ID = MEX_HRSC_NADIR
EVENT_TYPE = "MARS-REGIONAL-MAPPING-Te-Fl-Gl"
INSTRUMENT_HOST_ID = MEX
INSTRUMENT_HOST_NAME = "MARS EXPRESS"
INSTRUMENT_ID = HRSC
INSTRUMENT_NAME = "HIGH RESOLUTION STEREO CAMERA"
MISSION_NAME = "MARS EXPRESS"
MISSION_PHASE_NAME = ME_Phase_3
PROCESSING_LEVEL_ID = 4
PRODUCT_CREATION_TIME = 2023-02-09T11:24:25.000Z
PRODUCT_ID = "H3140_0000_ND4.TIF"
RELEASE_ID = 0003
REVISION_ID = 0000
/* QUALITY DATA ELEMENTS */
DATA_QUALITY_ID = 1
DATA_QUALITY_DESC = "Data calculated based on original SPICE kernels"
/* TIME DATA ELEMENTS */
SPACECRAFT_CLOCK_START_COUNT = "1/0098919647.08394"
SPACECRAFT_CLOCK_STOP_COUNT = "1/0098919898.57660"
START_TIME = 2006-06-20T21:41:30.168Z
STOP_TIME = 2006-06-20T21:44:34.169Z
/* ORBITAL DATA ELEMENTS */
ASCENDING_NODE_LONGITUDE = 162.33
MAXIMUM_RESOLUTION = 0.0127
FOOTPRINT_POINT_LATITUDE = (32.4759,32.4715,32.4665,32.4561, 32.4558,32.4554,31.9902,31.5242,31.0572 ,30.5894,30.1207,29.7639,29.2938, 29.0585,28.8229,28.5872,28.3513,28.1152 ,27.8789,27.6424,27.4057,27.1689, 26.9319,26.6947,26.4574,26.2198,25.9822 ,25.7443,25.5064,25.2682,25.0299, 24.7915,24.5529,24.3142,24.0753,23.8363 ,23.5972,23.358,23.1186,22.7593,22.5196 ,22.1598,21.9199,21.6798,21.4396, 21.1993,20.959,20.7185,20.5982,20.5873, 20.5896,20.5911,20.5922,20.5922,20.5925 ,20.8332,21.0738,21.3144,21.5548, 21.7952,22.0354,22.2756,22.5157,22.7556 ,22.9954,23.2351,23.4747,23.714,23.9533 ,24.1925,24.4316,24.6705,24.9093, 25.1479,25.3865,25.6248,25.863,26.2201, 26.4579,26.6955,26.933,27.1703,27.4075, 27.6445,27.8813,28.1179,28.3544,28.5907 ,28.8268,29.0627,29.2984,29.7693, 30.0092,30.4788,30.9477,31.4157,31.8829 ,32.3492,32.4656,32.4759)
FOOTPRINT_POINT_LONGITUDE = (295.542,295.031,294.629,293.995,293.98 ,293.958,293.978,293.998,294.017, 294.035,294.052,294.064,294.081,294.088 ,294.096,294.103,294.11,294.118,294.125 ,294.132,294.139,294.146,294.152, 294.157,294.167,294.175,294.181,294.187 ,294.193,294.199,294.205,294.21,294.216 ,294.221,294.226,294.231,294.236, 294.241,294.245,294.251,294.251,294.262 ,294.267,294.271,294.275,294.278, 294.282,294.285,294.287,294.287,294.639 ,294.967,295.46,295.472,295.477,295.479 ,295.48,295.481,295.482,295.483,295.486 ,295.489,295.492,295.494,295.494, 295.497,295.498,295.496,295.495,295.497 ,295.498,295.5,295.501,295.504,295.508, 295.507,295.508,295.515,295.516,295.516 ,295.518,295.52,295.521,295.522,295.524 ,295.526,295.527,295.529,295.531, 295.533,295.534,295.538,295.539,295.541 ,295.546,295.547,295.552,295.556, 295.556,295.542)
ORBIT_NUMBER = 3140
ORBITAL_ECCENTRICITY = 0.571
ORBITAL_INCLINATION = 86.65
ORBITAL_SEMIMAJOR_AXIS = 8621.1
PERIAPSIS_ALTITUDE = 307.39
PERIAPSIS_ARGUMENT_ANGLE = 166.23
PERIAPSIS_TIME = 2006-06-20T21:46:18.000Z
SPACECRAFT_ORIENTATION = (0.0,-1.0,0.0)
^MEX_ORIENTATION_DESC = "MEX_ORIENTATION_DESC.TXT"
SPACECRAFT_POINTING_MODE = NADIR
^MEX_POINTING_DESC = "MEX_POINTING_DESC.TXT"
RIGHT_ASCENSION = -1e+32
DECLINATION = -1e+32
OFFSET_ANGLE = -1e+32
SPACECRAFT_SOLAR_DISTANCE = 2.49215e+08
TARGET_NAME = MARS
/* CAMERA DATA ELEMENTS */
DETECTOR_TEMPERATURE = 18.1666
FOCAL_PLANE_TEMPERATURE = 8.1755
INST_CMPRS_NAME = "DISCRETE COSINE TRANSFORMATION (DCT)"
INST_CMPRS_RATIO = 7.53061
INST_CMPRS_QUALITY = 0
INST_CMPRS_QUANTZ_TBL_ID = 0
INSTRUMENT_TEMPERATURE = 11.0301
LENS_TEMPERATURE = 8.5833
MACROPIXEL_SIZE = 1
MISSING_FRAMES = 3
PIXEL_SUBSAMPLING_FLAG = N
SIGNAL_CHAIN_ID = 0
/* RADIOMETRIC DATA ELEMENTS */
BANDWIDTH = 177.0
CENTER_FILTER_WAVELENGTH = 677.5
RADIANCE_OFFSET = 1.87123
RADIANCE_SCALING_FACTOR = 0.0264174
REFLECTANCE_SCALING_FACTOR = 0.000871609
MEX:REFLECTANCE_OFFSET = 0.061739
/* IMAGE OBJECT DEFINITIONS */
OBJECT = IMAGE
  INTERCHANGE_FORMAT = BINARY
  LINES = 56375
  LINE_SAMPLES = 6396
  SAMPLE_TYPE = UNSIGNED_INTEGER
  SAMPLE_BITS = 8
  BANDS = 1
  BAND_STORAGE_TYPE = BAND_SEQUENTIAL
  MAXIMUM = 255
  MEAN = 124.124
  MINIMUM = 1
  STANDARD_DEVIATION = 38.7566
END_OBJECT = IMAGE
/* MAP OBJECT DEFINITIONS */
OBJECT = IMAGE_MAP_PROJECTION
  ^DATA_SET_MAP_PROJECTION_CATALOG= "DSMAP.CAT"
  A_AXIS_RADIUS = 3396.0
  B_AXIS_RADIUS = 3396.0
  C_AXIS_RADIUS = 3396.0
  CENTER_LATITUDE = 0.0
  CENTER_LONGITUDE = 295.0
  COORDINATE_SYSTEM_NAME = PLANETOGRAPHIC
  COORDINATE_SYSTEM_TYPE = "BODY-FIXED ROTATING"
  EASTERNMOST_LONGITUDE = 295.556
  FIRST_STANDARD_PARALLEL = "N/A"
  LINE_FIRST_PIXEL = 1
  LINE_LAST_PIXEL = 56375
  LINE_PROJECTION_OFFSET = 154001.0
  MAP_PROJECTION_ROTATION = 0.0
  MAP_PROJECTION_TYPE = SINUSOIDAL
  MAP_RESOLUTION = 4741.71043093333
  MAP_SCALE = 0.0125
  MAXIMUM_LATITUDE = 32.4759
  MINIMUM_LATITUDE = 20.5873
  POSITIVE_LONGITUDE_DIRECTION = EAST
  REFERENCE_LATITUDE = "N/A"
  REFERENCE_LONGITUDE = "N/A"
  SAMPLE_FIRST_PIXEL = 1
  SAMPLE_LAST_PIXEL = 6396
  SAMPLE_PROJECTION_OFFSET = 4156.0
  SECOND_STANDARD_PARALLEL = "N/A"
  WESTERNMOST_LONGITUDE = 293.958
END_OBJECT = IMAGE_MAP_PROJECTION
END
