PDS_VERSION_ID = PDS3
/* FILE DATA ELEMENTS */
RECORD_TYPE = UNDEFINED
/* POINTERS TO DATA OBJECTS */
^IMAGE = ("H3140_0000_P14.TIF")
/* IDENTIFICATION DATA ELEMENTS */
DATA_SET_ID = "MEX-M-HRSC-4-REFDR-MAPPROJECT-EXT1-V4.0"
DATA_SET_NAME = "MARS EXPRESS HRSC MAP PROJECTED REFDR EXTENSION1 V4.0"
DETECTOR_ID = MEX_HRSC_P1
EVENT_TYPE = "MARS-REGIONAL-MAPPING-Te-Fl-Gl"
INSTRUMENT_HOST_ID = MEX
INSTRUMENT_HOST_NAME = "MARS EXPRESS"
INSTRUMENT_ID = HRSC
INSTRUMENT_NAME = "HIGH RESOLUTION STEREO CAMERA"
MISSION_NAME = "MARS EXPRESS"
MISSION_PHASE_NAME = ME_Phase_3
PROCESSING_LEVEL_ID = 4
PRODUCT_CREATION_TIME = 2023-02-09T11:24:25.000Z
PRODUCT_ID = "H3140_0000_P14.TIF"
RELEASE_ID = 0003
REVISION_ID = 0000
/* QUALITY DATA ELEMENTS */
DATA_QUALITY_ID = 1
DATA_QUALITY_DESC = "Data calculated based on original SPICE kernels"
/* TIME DATA ELEMENTS */
SPACECRAFT_CLOCK_START_COUNT = "1/0098919647.08394"
SPACECRAFT_CLOCK_STOP_COUNT = "1/0098919898.57660"
START_TIME = 2006-06-20T21:41:05.935Z
STOP_TIME = 2006-06-20T21:44:15.198Z
/* ORBITAL DATA ELEMENTS */
ASCENDING_NODE_LONGITUDE = 162.33
MAXIMUM_RESOLUTION = 0.0531
FOOTPRINT_POINT_LATITUDE = (32.5057,32.5033,32.4991,32.4926, 32.4835,32.4832,32.4561,31.9986,31.5404 ,31.1966,30.736,30.5051,30.2735,30.041, 29.8095,29.4608,29.2274,28.9938,28.7599 ,28.5264,28.2884,27.9407,27.5882,27.353 ,27.117,26.8793,26.6415,26.1789,25.8239 ,25.587,25.3494,25.1109,24.8736,24.6354 ,24.397,24.1583,23.9192,23.6798,23.44, 23.2001,22.9509,22.5892,22.3499,22.118, 21.8767,21.5146,21.2728,21.031,20.7888, 20.6676,20.5926,20.5969,20.5982,20.5982 ,20.599,20.9628,21.205,21.4468,21.6885, 21.9302,22.2862,22.5245,22.7635,23.0049 ,23.2432,23.4834,23.7295,23.9742, 24.2136,24.5719,24.8107,25.0479,25.2809 ,25.5201,25.8799,26.3458,26.5835, 26.8214,27.0582,27.4119,27.6474,27.882, 28.117,28.3516,28.5853,28.8193,29.0529, 29.2862,29.5193,29.7519,29.9842,30.217, 30.4507,30.9109,31.1442,31.3774,31.8363 ,32.2935,32.4081,32.5057)
FOOTPRINT_POINT_LONGITUDE = (295.572,295.24,294.847,294.424,293.971 ,293.956,293.939,293.959,293.979, 293.994,294.013,294.022,294.031,294.04, 294.049,294.061,294.069,294.077,294.085 ,294.093,294.099,294.112,294.123,294.13 ,294.137,294.143,294.149,294.167, 294.177,294.183,294.189,294.195,294.201 ,294.207,294.212,294.218,294.223, 294.229,294.234,294.238,294.239,294.245 ,294.251,294.259,294.264,294.27,294.274 ,294.278,294.282,294.284,294.285,294.9, 295.472,295.483,295.487,295.489,295.491 ,295.492,295.494,295.495,295.501, 295.504,295.506,295.508,295.51,295.512, 295.51,295.51,295.511,295.514,295.516, 295.518,295.523,295.524,295.525,295.533 ,295.535,295.536,295.537,295.54,295.542 ,295.545,295.547,295.549,295.551, 295.553,295.555,295.557,295.56,295.562, 295.564,295.566,295.567,295.573,295.574 ,295.575,295.58,295.585,295.586, 295.572)
ORBIT_NUMBER = 3140
ORBITAL_ECCENTRICITY = 0.571
ORBITAL_INCLINATION = 86.65
ORBITAL_SEMIMAJOR_AXIS = 8621.1
PERIAPSIS_ALTITUDE = 307.39
PERIAPSIS_ARGUMENT_ANGLE = 166.23
PERIAPSIS_TIME = 2006-06-20T21:46:18.000Z
SPACECRAFT_ORIENTATION = (0.0,-1.0,0.0)
^MEX_ORIENTATION_DESC = "MEX_ORIENTATION_DESC.TXT"
SPACECRAFT_POINTING_MODE = NADIR
^MEX_POINTING_DESC = "MEX_POINTING_DESC.TXT"
RIGHT_ASCENSION = -1e+32
DECLINATION = -1e+32
OFFSET_ANGLE = -1e+32
SPACECRAFT_SOLAR_DISTANCE = 2.49215e+08
TARGET_NAME = MARS
/* CAMERA DATA ELEMENTS */
DETECTOR_TEMPERATURE = 17.1471
FOCAL_PLANE_TEMPERATURE = 8.1755
INST_CMPRS_NAME = "DISCRETE COSINE TRANSFORMATION (DCT)"
INST_CMPRS_RATIO = 11.5575
INST_CMPRS_QUALITY = 0
INST_CMPRS_QUANTZ_TBL_ID = 0
INSTRUMENT_TEMPERATURE = 11.0301
LENS_TEMPERATURE = 8.5833
MACROPIXEL_SIZE = 4
MISSING_FRAMES = 0
PIXEL_SUBSAMPLING_FLAG = N
SIGNAL_CHAIN_ID = 3
/* RADIOMETRIC DATA ELEMENTS */
BANDWIDTH = 174.0
CENTER_FILTER_WAVELENGTH = 675.0
RADIANCE_OFFSET = 2.49511
RADIANCE_SCALING_FACTOR = 0.0254404
REFLECTANCE_SCALING_FACTOR = 0.000849876
MEX:REFLECTANCE_OFFSET = 0.0833532
/* IMAGE OBJECT DEFINITIONS */
OBJECT = IMAGE
  INTERCHANGE_FORMAT = BINARY
  LINES = 14094
  LINE_SAMPLES = 1599
  SAMPLE_TYPE = UNSIGNED_INTEGER
  SAMPLE_BITS = 8
  BANDS = 1
  BAND_STORAGE_TYPE = BAND_SEQUENTIAL
  MAXIMUM = 255
  MEAN = 124.974
  MINIMUM = 1
  STANDARD_DEVIATION = 40.5544
END_OBJECT = IMAGE
/* MAP OBJECT DEFINITIONS */
OBJECT = IMAGE_MAP_PROJECTION
  ^DATA_SET_MAP_PROJECTION_CATALOG= "DSMAP.CAT"
  A_AXIS_RADIUS = 3396.0
  B_AXIS_RADIUS = 3396.0
  C_AXIS_RADIUS = 3396.0
  CENTER_LATITUDE = 0.0
  CENTER_LONGITUDE = 295.0
  COORDINATE_SYSTEM_NAME = PLANETOGRAPHIC
  COORDINATE_SYSTEM_TYPE = "BODY-FIXED ROTATING"
  EASTERNMOST_LONGITUDE = 295.586
  FIRST_STANDARD_PARALLEL = "N/A"
  LINE_FIRST_PIXEL = 1
  LINE_LAST_PIXEL = 14094
  LINE_PROJECTION_OFFSET = 38499.875
  MAP_PROJECTION_ROTATION = 0.0
  MAP_PROJECTION_TYPE = SINUSOIDAL
  MAP_RESOLUTION = 1185.42760773333
  MAP_SCALE = 0.05
  MAXIMUM_LATITUDE = 32.5057
  MINIMUM_LATITUDE = 20.5926
  POSITIVE_LONGITUDE_DIRECTION = EAST
  REFERENCE_LATITUDE = "N/A"
  REFERENCE_LONGITUDE = "N/A"
  SAMPLE_FIRST_PIXEL = 1
  SAMPLE_LAST_PIXEL = 1599
  SAMPLE_PROJECTION_OFFSET = 1038.625
  SECOND_STANDARD_PARALLEL = "N/A"
  WESTERNMOST_LONGITUDE = 293.939
END_OBJECT = IMAGE_MAP_PROJECTION
END
