PDS_VERSION_ID = PDS3
/* FILE DATA ELEMENTS */
RECORD_TYPE = UNDEFINED
/* POINTERS TO DATA OBJECTS */
^IMAGE = ("H3147_0001_RE4.TIF")
/* IDENTIFICATION DATA ELEMENTS */
DATA_SET_ID = "MEX-M-HRSC-4-REFDR-MAPPROJECT-EXT1-V4.0"
DATA_SET_NAME = "MARS EXPRESS HRSC MAP PROJECTED REFDR EXTENSION1 V4.0"
DETECTOR_ID = MEX_HRSC_RED
EVENT_TYPE = "MARS-REGIONAL-MAPPING-Fl-Mw-La"
INSTRUMENT_HOST_ID = MEX
INSTRUMENT_HOST_NAME = "MARS EXPRESS"
INSTRUMENT_ID = HRSC
INSTRUMENT_NAME = "HIGH RESOLUTION STEREO CAMERA"
MISSION_NAME = "MARS EXPRESS"
MISSION_PHASE_NAME = ME_Phase_3
PROCESSING_LEVEL_ID = 4
PRODUCT_CREATION_TIME = 2023-02-09T11:24:25.000Z
PRODUCT_ID = "H3147_0001_RE4.TIF"
RELEASE_ID = 0003
REVISION_ID = 0000
/* QUALITY DATA ELEMENTS */
DATA_QUALITY_ID = 1
DATA_QUALITY_DESC = "Data calculated based on original SPICE kernels"
/* TIME DATA ELEMENTS */
SPACECRAFT_CLOCK_START_COUNT = "1/0099089568.08259"
SPACECRAFT_CLOCK_STOP_COUNT = "1/0099089774.63876"
START_TIME = 2006-06-22T20:53:59.399Z
STOP_TIME = 2006-06-22T20:56:09.046Z
/* ORBITAL DATA ELEMENTS */
ASCENDING_NODE_LONGITUDE = 162.19
MAXIMUM_RESOLUTION = 0.1382
FOOTPRINT_POINT_LATITUDE = (-5.29171,-5.29143,-5.29098,-5.2898, -5.28847,-5.28714,-5.28559,-5.28356, -5.28342,-5.27721,-5.69158,-5.96793, -6.24174,-6.44283,-6.85999,-7.14019, -7.42393,-7.56818,-7.71076,-7.9955, -8.21165,-8.35711,-8.50253,-8.71963, -8.86471,-9.01218,-9.16146,-9.38332, -9.53132,-9.67858,-9.82828,-10.0538, -10.2041,-10.3565,-10.506,-10.659, -10.8118,-10.9692,-11.1972,-11.3521, -11.5911,-11.8269,-11.9837,-12.1421, -12.3007,-12.4591,-12.6169,-12.6956, -12.735,-12.7366,-12.7381,-12.7396, -12.7413,-12.7427,-12.7436,-12.7435, -12.7429,-12.7428,-12.7406,-12.5045, -12.3471,-12.1894,-12.0316,-11.7986, -11.6419,-11.4864,-11.3284,-11.1744, -11.0218,-10.8702,-10.7177,-10.5643, -10.4133,-10.2636,-10.1104,-9.95238, -9.80097,-9.65242,-9.36604,-9.21946, -9.06972,-8.84336,-8.69327,-8.54782, -8.40086,-8.25707,-8.03976,-7.82549, -7.68173,-7.39673,-7.11157,-6.89978, -6.54784,-6.28624,-6.07932,-5.80323, -5.59528,-5.38645,-5.31704,-5.29171)
FOOTPRINT_POINT_LONGITUDE = (327.696,327.507,327.332,327.049, 326.834,326.659,326.484,326.282,326.268 ,326.259,326.248,326.242,326.234, 326.226,326.213,326.205,326.197,326.193 ,326.189,326.181,326.174,326.17,326.166 ,326.159,326.155,326.151,326.147,326.14 ,326.136,326.131,326.127,326.119, 326.115,326.111,326.106,326.101,326.096 ,326.093,326.085,326.08,326.074,326.068 ,326.063,326.058,326.053,326.048, 326.043,326.04,326.039,326.187,326.356, 326.541,326.759,327.062,327.23,327.499, 327.802,327.819,327.83,327.825,327.821, 327.818,327.814,327.809,327.806,327.803 ,327.801,327.798,327.795,327.791, 327.788,327.785,327.782,327.779,327.777 ,327.777,327.775,327.772,327.763,327.76 ,327.758,327.757,327.756,327.753, 327.752,327.748,327.745,327.741,327.739 ,327.734,327.73,327.728,327.723,327.712 ,327.709,327.705,327.703,327.7,327.7, 327.696)
ORBIT_NUMBER = 3147
ORBITAL_ECCENTRICITY = 0.57
ORBITAL_INCLINATION = 86.67
ORBITAL_SEMIMAJOR_AXIS = 8613.88
PERIAPSIS_ALTITUDE = 309.31
PERIAPSIS_ARGUMENT_ANGLE = 164.96
PERIAPSIS_TIME = 2006-06-22T20:48:14.000Z
SPACECRAFT_ORIENTATION = (0.0,-1.0,0.0)
^MEX_ORIENTATION_DESC = "MEX_ORIENTATION_DESC.TXT"
SPACECRAFT_POINTING_MODE = NADIR
^MEX_POINTING_DESC = "MEX_POINTING_DESC.TXT"
RIGHT_ASCENSION = -1e+32
DECLINATION = -1e+32
OFFSET_ANGLE = -1e+32
SPACECRAFT_SOLAR_DISTANCE = 2.49227e+08
TARGET_NAME = MARS
/* CAMERA DATA ELEMENTS */
DETECTOR_TEMPERATURE = 20.2056
FOCAL_PLANE_TEMPERATURE = 8.5833
INST_CMPRS_NAME = "DISCRETE COSINE TRANSFORMATION (DCT)"
INST_CMPRS_RATIO = 6.7383
INST_CMPRS_QUALITY = 0
INST_CMPRS_QUANTZ_TBL_ID = 0
INSTRUMENT_TEMPERATURE = 12.6613
LENS_TEMPERATURE = 8.7872
MACROPIXEL_SIZE = 8
MISSING_FRAMES = 0
PIXEL_SUBSAMPLING_FLAG = N
SIGNAL_CHAIN_ID = 2
/* RADIOMETRIC DATA ELEMENTS */
BANDWIDTH = 48.0
CENTER_FILTER_WAVELENGTH = 748.0
RADIANCE_OFFSET = 0.281091
RADIANCE_SCALING_FACTOR = 0.00482738
REFLECTANCE_SCALING_FACTOR = 0.000684271
MEX:REFLECTANCE_OFFSET = 0.039844
/* IMAGE OBJECT DEFINITIONS */
OBJECT = IMAGE
  INTERCHANGE_FORMAT = BINARY
  LINES = 4427
  LINE_SAMPLES = 979
  SAMPLE_TYPE = UNSIGNED_INTEGER
  SAMPLE_BITS = 8
  BANDS = 1
  BAND_STORAGE_TYPE = BAND_SEQUENTIAL
  MAXIMUM = 254
  MEAN = 84.1861
  MINIMUM = 1
  STANDARD_DEVIATION = 27.7756
END_OBJECT = IMAGE
/* MAP OBJECT DEFINITIONS */
OBJECT = IMAGE_MAP_PROJECTION
  ^DATA_SET_MAP_PROJECTION_CATALOG= "DSMAP.CAT"
  A_AXIS_RADIUS = 3396.0
  B_AXIS_RADIUS = 3396.0
  C_AXIS_RADIUS = 3396.0
  CENTER_LATITUDE = 0.0
  CENTER_LONGITUDE = 327.0
  COORDINATE_SYSTEM_NAME = PLANETOGRAPHIC
  COORDINATE_SYSTEM_TYPE = "BODY-FIXED ROTATING"
  EASTERNMOST_LONGITUDE = 327.83
  FIRST_STANDARD_PARALLEL = "N/A"
  LINE_FIRST_PIXEL = 1
  LINE_LAST_PIXEL = 4427
  LINE_PROJECTION_OFFSET = -3141.3125
  MAP_PROJECTION_ROTATION = 0.0
  MAP_PROJECTION_TYPE = SINUSOIDAL
  MAP_RESOLUTION = 592.713803866667
  MAP_SCALE = 0.1
  MAXIMUM_LATITUDE = -5.27721
  MINIMUM_LATITUDE = -12.7436
  POSITIVE_LONGITUDE_DIRECTION = EAST
  REFERENCE_LATITUDE = "N/A"
  REFERENCE_LONGITUDE = "N/A"
  SAMPLE_FIRST_PIXEL = 1
  SAMPLE_LAST_PIXEL = 979
  SAMPLE_PROJECTION_OFFSET = 529.1875
  SECOND_STANDARD_PARALLEL = "N/A"
  WESTERNMOST_LONGITUDE = 326.039
END_OBJECT = IMAGE_MAP_PROJECTION
END
